{"text_format":"1","workbook":"xlsx","n_sheets":6,"sheets":["功能表","戶政表","重整表","新生表","編班繳交表","編班結果表"],"not_rendered":{"charts":0,"images":0,"macros":1,"external_links":0,"defined_names":0,"comments":4,"pivot_tables":0},"unopened":[],"bounds":{"document_bytes":16777216,"sheet_cells":100000,"rows_first":2000,"rows_last":500,"rows_between":2000,"halvings":0,"cell_chars":16384,"cell_head_chars":4096},"cells_cut":0,"cells_raw":0,"read":"whole","date_system":"1900"}

{"sheet":"功能表","index":0,"n_rows":30,"n_cols":11,"rows_kept":30,"cut":false,"hidden":false,"merged":[[19,3,19,15],[14,3,14,15],[15,3,15,15],[16,3,16,15],[17,3,17,15],[18,3,18,15]]}
[]
[]
[]
[]
[]
[]
[]
[]
[]
[]
[]
[]
[]
[null,"工作表說明："]
[null,null,"功能表：","VBA程式主要功能按鈕及流程。"]
[null,null,"戶政表：","請把戶政給的新生資料貼在此，若有學生確定不來就讀，請在此編修刪除。"]
[null,null,"重整表：","會自動將戶政資料重新整理，若有未在名冊中之新生來報到，請新增於此表最下方。"]
[null,null,"新生表：","會自動產生，是最後要匯入學務系統的資料。"]
[null,null,"編班繳交表：","要繳給編班中心的資料，請另存成csv檔，檔名格式「學年度_學校編號_西元年月日.csv」，例如：105_074775_20160607.csv"]
[null,null,"編班結果表：","將編班中心給的檔案內容貼於此。"]
[]
[null,"注意事項："]
[null,null,"1.請務必按流程順序操作。"]
[null,null,"2.各工作表的標題都不可刪除或變動。"]
[null,null,"3.第3、6步驟的功能按鈕，都會先將資料刪除再重整，不可不慎。"]
[null,null,"4.已知問題為：編班完將結果貼回【編班結果表】時，【新生表】對於同名同姓、名字有?號的學生會判別錯誤，請自行手動檢核"]
[null,null,"5.底色為淺綠的地方為老師要輸入的儲存格，其他儲存格則不建議輸入資料或修改"]
[null,null,"6.第3、4、6步驟的快速鍵分別為Ctrl+Shift+a、Ctrl+Shift+b、Ctrl+Shift+c，若有功能不足者，請自行修改，也歡迎拷貝"]
[null,null,"7.本檔案是參考彰化市忠孝國小周進成老師的檔案修改，並銘致感謝"]
[null,null,null,null,null,null,null,null,null,null,"大成國小 黃俊凱 chunkai@dches.chc.edu.tw"]

{"sheet":"戶政表","index":1,"n_rows":4,"n_cols":8,"rows_kept":4,"cut":false,"hidden":false,"merged":[[0,0,0,7],[1,0,2,0],[1,1,2,1],[1,2,2,2],[1,3,2,3],[1,4,2,4],[1,5,2,5],[1,6,2,6],[1,7,2,7],[3,7,4,7],[3,0,4,0],[3,1,4,1],[3,2,4,2],[3,3,4,5],[3,6,4,6]]}
["請從A6儲存格開始貼上，只需貼上學生戶籍資料。"]
["學","就學號碼","學　　童　　姓　　名","統 一 編 號","出生年月日","遷入年月日","原住民註記","異　　　　　　　動　　　　　　　記　　　　　　　事"]
[]
["號","性　　別","父　　　姓　　　名","母　　　姓　　　名",null,null,"稱　　　謂","戶　　　　　　　籍　　　　　　　地　　　　　　　址"]

{"sheet":"重整表","index":2,"n_rows":4,"n_cols":16,"rows_kept":4,"cut":false,"hidden":false,"merged":[]}
["學","就學號碼","學　　童　　姓　　名","統 一 編 號","出生年月日","遷入年月日","原住民註記","異　　　　　　　動　　　　　　　記　　　　　　　事","號","性　　別","父　　　姓　　　名","母　　　姓　　　名",null,null,"稱　　　謂","戶籍地址"]
["RLRP08410","學　齡　兒　童　名　冊",null,null,null,null,null,null,"戶政所別：","彰化縣彰化戶政事務所"]
["學區名稱：","彰化市民生國小",null,null,null,null,null,null,"學 年 度：","111年度"]
["學","就學號碼","學　　童　　姓　　名","統 一 編 號","出生年月日","遷入年月日","原住民註記","異　　 　　　　動　　　 　　　記　　 　　　　事","號","性　　別","父　　　姓　　　名","母　　　姓　　　名",null,null,"稱　　　謂","戶籍地址"]

{"sheet":"新生表","index":3,"n_rows":180,"n_cols":20,"rows_kept":180,"cut":false,"hidden":false,"merged":[]}
["學號","姓名","性別","入學年","班級","座號","生日(西元)","身份證字號","父親姓名","母親姓名","郵遞區號","電話","住址(不含縣市?鎮)","緊急聯方式","入學前國小名稱","戶籍遷入日期(西元)","學生行動電話","連絡地址","監護人","監護人行動電話"]
[null,{"$f":"IF(ISBLANK(重整表!#REF!),\"\",重整表!#REF!)","v":{"$error":"#REF!"}},{"$f":"IF(ISBLANK(重整表!#REF!),\"\",IF(重整表!#REF!=\"男\",1,IF(重整表!#REF!=\"女\",2)))","v":{"$error":"#REF!"}},null,{"$f":"IF(ISERROR(VLOOKUP($B2,IF({1,0},編班結果表!$E$4:$E$303,編班結果表!$B$4:$B$303),2,)),\"\",VLOOKUP($B2,IF({1,0},編班結果表!$E$4:$E$303,編班結果表!$B$4:$B$303),2,))","v":""},{"$f":"IF(ISERROR(VLOOKUP($B2,IF({1,0},編班結果表!$E$4:$F$303,編班結果表!$C$4:$C$303),2,FALSE)),\"\",VLOOKUP($B2,IF({1,0},編班結果表!$E$4:$F$303,編班結果表!$C$4:$C$303),2,FALSE))","v":""},{"$f":"IF(SEARCH(\"/\",重整表!#REF!)=3,LEFT(重整表!#REF!,2)+1911&MID(重整表!#REF!,3,8),LEFT(重整表!#REF!,3)+1911&MID(重整表!#REF!,4,8))","v":{"$error":"#REF!"}},{"$f":"IF(ISBLANK(重整表!#REF!),\"\",重整表!#REF!)","v":{"$error":"#REF!"}},{"$f":"IF(ISBLANK(重整表!#REF!),\"\",重整表!#REF!)","v":{"$error":"#REF!"}},{"$f":"IF(ISBLANK(重整表!#REF!),\"\",重整表!#REF!)","v":{"$error":"#REF!"}},null,null,{"$f":"IF(ISBLANK(重整表!#REF!),\"\",重整表!#REF!)","v":{"$error":"#REF!"}},null,null,{"$f":"IF(SEARCH(\"/\",重整表!#REF!)=3,LEFT(重整表!#REF!,2)+1911&MID(重整表!#REF!,3,8),LEFT(重整表!#REF!,3)+1911&MID(重整表!#REF!,4,8))","v":{"$error":"#REF!"}}]
[null,{"$f":"IF(ISBLANK(重整表!#REF!),\"\",重整表!#REF!)","v":{"$error":"#REF!"}},{"$f":"IF(ISBLANK(重整表!#REF!),\"\",IF(重整表!#REF!=\"男\",1,IF(重整表!#REF!=\"女\",2)))","v":{"$error":"#REF!"}},null,{"$f":"IF(ISERROR(VLOOKUP($B3,IF({1,0},編班結果表!$E$4:$E$303,編班結果表!$B$4:$B$303),2,)),\"\",VLOOKUP($B3,IF({1,0},編班結果表!$E$4:$E$303,編班結果表!$B$4:$B$303),2,))","v":""},{"$f":"IF(ISERROR(VLOOKUP($B3,IF({1,0},編班結果表!$E$4:$F$303,編班結果表!$C$4:$C$303),2,FALSE)),\"\",VLOOKUP($B3,IF({1,0},編班結果表!$E$4:$F$303,編班結果表!$C$4:$C$303),2,FALSE))","v":""},{"$f":"IF(SEARCH(\"/\",重整表!#REF!)=3,LEFT(重整表!#REF!,2)+1911&MID(重整表!#REF!,3,8),LEFT(重整表!#REF!,3)+1911&MID(重整表!#REF!,4,8))","v":{"$error":"#REF!"}},{"$f":"IF(ISBLANK(重整表!#REF!),\"\",重整表!#REF!)","v":{"$error":"#REF!"}},{"$f":"IF(ISBLANK(重整表!#REF!),\"\",重整表!#REF!)","v":{"$error":"#REF!"}},{"$f":"IF(ISBLANK(重整表!#REF!),\"\",重整表!#REF!)","v":{"$error":"#REF!"}},null,null,{"$f":"IF(ISBLANK(重整表!#REF!),\"\",重整表!#REF!)","v":{"$error":"#REF!"}},null,null,{"$f":"IF(SEARCH(\"/\",重整表!#REF!)=3,LEFT(重整表!#REF!,2)+1911&MID(重整表!#REF!,3,8),LEFT(重整表!#REF!,3)+1911&MID(重整表!#REF!,4,8))","v":{"$error":"#REF!"}}]
[null,{"$f":"IF(ISBLANK(重整表!#REF!),\"\",重整表!#REF!)","v":{"$error":"#REF!"}},{"$f":"IF(ISBLANK(重整表!#REF!),\"\",IF(重整表!#REF!=\"男\",1,IF(重整表!#REF!=\"女\",2)))","v":{"$error":"#REF!"}},null,{"$f":"IF(ISERROR(VLOOKUP($B4,IF({1,0},編班結果表!$E$4:$E$303,編班結果表!$B$4:$B$303),2,)),\"\",VLOOKUP($B4,IF({1,0},編班結果表!$E$4:$E$303,編班結果表!$B$4:$B$303),2,))","v":""},{"$f":"IF(ISERROR(VLOOKUP($B4,IF({1,0},編班結果表!$E$4:$F$303,編班結果表!$C$4:$C$303),2,FALSE)),\"\",VLOOKUP($B4,IF({1,0},編班結果表!$E$4:$F$303,編班結果表!$C$4:$C$303),2,FALSE))","v":""},{"$f":"IF(SEARCH(\"/\",重整表!#REF!)=3,LEFT(重整表!#REF!,2)+1911&MID(重整表!#REF!,3,8),LEFT(重整表!#REF!,3)+1911&MID(重整表!#REF!,4,8))","v":{"$error":"#REF!"}},{"$f":"IF(ISBLANK(重整表!#REF!),\"\",重整表!#REF!)","v":{"$error":"#REF!"}},{"$f":"IF(ISBLANK(重整表!#REF!),\"\",重整表!#REF!)","v":{"$error":"#REF!"}},{"$f":"IF(ISBLANK(重整表!#REF!),\"\",重整表!#REF!)","v":{"$error":"#REF!"}},null,null,{"$f":"IF(ISBLANK(重整表!#REF!),\"\",重整表!#REF!)","v":{"$error":"#REF!"}},null,null,{"$f":"IF(SEARCH(\"/\",重整表!#REF!)=3,LEFT(重整表!#REF!,2)+1911&MID(重整表!#REF!,3,8),LEFT(重整表!#REF!,3)+1911&MID(重整表!#REF!,4,8))","v":{"$error":"#REF!"}}]
[null,{"$f":"IF(ISBLANK(重整表!#REF!),\"\",重整表!#REF!)","v":{"$error":"#REF!"}},{"$f":"IF(ISBLANK(重整表!#REF!),\"\",IF(重整表!#REF!=\"男\",1,IF(重整表!#REF!=\"女\",2)))","v":{"$error":"#REF!"}},null,{"$f":"IF(ISERROR(VLOOKUP($B5,IF({1,0},編班結果表!$E$4:$E$303,編班結果表!$B$4:$B$303),2,)),\"\",VLOOKUP($B5,IF({1,0},編班結果表!$E$4:$E$303,編班結果表!$B$4:$B$303),2,))","v":""},{"$f":"IF(ISERROR(VLOOKUP($B5,IF({1,0},編班結果表!$E$4:$F$303,編班結果表!$C$4:$C$303),2,FALSE)),\"\",VLOOKUP($B5,IF({1,0},編班結果表!$E$4:$F$303,編班結果表!$C$4:$C$303),2,FALSE))","v":""},{"$f":"IF(SEARCH(\"/\",重整表!#REF!)=3,LEFT(重整表!#REF!,2)+1911&MID(重整表!#REF!,3,8),LEFT(重整表!#REF!,3)+1911&MID(重整表!#REF!,4,8))","v":{"$error":"#REF!"}},{"$f":"IF(ISBLANK(重整表!#REF!),\"\",重整表!#REF!)","v":{"$error":"#REF!"}},{"$f":"IF(ISBLANK(重整表!#REF!),\"\",重整表!#REF!)","v":{"$error":"#REF!"}},{"$f":"IF(ISBLANK(重整表!#REF!),\"\",重整表!#REF!)","v":{"$error":"#REF!"}},null,null,{"$f":"IF(ISBLANK(重整表!#REF!),\"\",重整表!#REF!)","v":{"$error":"#REF!"}},null,null,{"$f":"IF(SEARCH(\"/\",重整表!#REF!)=3,LEFT(重整表!#REF!,2)+1911&MID(重整表!#REF!,3,8),LEFT(重整表!#REF!,3)+1911&MID(重整表!#REF!,4,8))","v":{"$error":"#REF!"}}]
[null,{"$f":"IF(ISBLANK(重整表!#REF!),\"\",重整表!#REF!)","v":{"$error":"#REF!"}},{"$f":"IF(ISBLANK(重整表!#REF!),\"\",IF(重整表!#REF!=\"男\",1,IF(重整表!#REF!=\"女\",2)))","v":{"$error":"#REF!"}},null,{"$f":"IF(ISERROR(VLOOKUP($B6,IF({1,0},編班結果表!$E$4:$E$303,編班結果表!$B$4:$B$303),2,)),\"\",VLOOKUP($B6,IF({1,0},編班結果表!$E$4:$E$303,編班結果表!$B$4:$B$303),2,))","v":""},{"$f":"IF(ISERROR(VLOOKUP($B6,IF({1,0},編班結果表!$E$4:$F$303,編班結果表!$C$4:$C$303),2,FALSE)),\"\",VLOOKUP($B6,IF({1,0},編班結果表!$E$4:$F$303,編班結果表!$C$4:$C$303),2,FALSE))","v":""},{"$f":"IF(SEARCH(\"/\",重整表!#REF!)=3,LEFT(重整表!#REF!,2)+1911&MID(重整表!#REF!,3,8),LEFT(重整表!#REF!,3)+1911&MID(重整表!#REF!,4,8))","v":{"$error":"#REF!"}},{"$f":"IF(ISBLANK(重整表!#REF!),\"\",重整表!#REF!)","v":{"$error":"#REF!"}},{"$f":"IF(ISBLANK(重整表!#REF!),\"\",重整表!#REF!)","v":{"$error":"#REF!"}},{"$f":"IF(ISBLANK(重整表!#REF!),\"\",重整表!#REF!)","v":{"$error":"#REF!"}},null,null,{"$f":"IF(ISBLANK(重整表!#REF!),\"\",重整表!#REF!)","v":{"$error":"#REF!"}},null,null,{"$f":"IF(SEARCH(\"/\",重整表!#REF!)=3,LEFT(重整表!#REF!,2)+1911&MID(重整表!#REF!,3,8),LEFT(重整表!#REF!,3)+1911&MID(重整表!#REF!,4,8))","v":{"$error":"#REF!"}}]
[null,{"$f":"IF(ISBLANK(重整表!#REF!),\"\",重整表!#REF!)","v":{"$error":"#REF!"}},{"$f":"IF(ISBLANK(重整表!#REF!),\"\",IF(重整表!#REF!=\"男\",1,IF(重整表!#REF!=\"女\",2)))","v":{"$error":"#REF!"}},null,{"$f":"IF(ISERROR(VLOOKUP($B7,IF({1,0},編班結果表!$E$4:$E$303,編班結果表!$B$4:$B$303),2,)),\"\",VLOOKUP($B7,IF({1,0},編班結果表!$E$4:$E$303,編班結果表!$B$4:$B$303),2,))","v":""},{"$f":"IF(ISERROR(VLOOKUP($B7,IF({1,0},編班結果表!$E$4:$F$303,編班結果表!$C$4:$C$303),2,FALSE)),\"\",VLOOKUP($B7,IF({1,0},編班結果表!$E$4:$F$303,編班結果表!$C$4:$C$303),2,FALSE))","v":""},{"$f":"IF(SEARCH(\"/\",重整表!#REF!)=3,LEFT(重整表!#REF!,2)+1911&MID(重整表!#REF!,3,8),LEFT(重整表!#REF!,3)+1911&MID(重整表!#REF!,4,8))","v":{"$error":"#REF!"}},{"$f":"IF(ISBLANK(重整表!#REF!),\"\",重整表!#REF!)","v":{"$error":"#REF!"}},{"$f":"IF(ISBLANK(重整表!#REF!),\"\",重整表!#REF!)","v":{"$error":"#REF!"}},{"$f":"IF(ISBLANK(重整表!#REF!),\"\",重整表!#REF!)","v":{"$error":"#REF!"}},null,null,{"$f":"IF(ISBLANK(重整表!#REF!),\"\",重整表!#REF!)","v":{"$error":"#REF!"}},null,null,{"$f":"IF(SEARCH(\"/\",重整表!#REF!)=3,LEFT(重整表!#REF!,2)+1911&MID(重整表!#REF!,3,8),LEFT(重整表!#REF!,3)+1911&MID(重整表!#REF!,4,8))","v":{"$error":"#REF!"}}]
[null,{"$f":"IF(ISBLANK(重整表!#REF!),\"\",重整表!#REF!)","v":{"$error":"#REF!"}},{"$f":"IF(ISBLANK(重整表!#REF!),\"\",IF(重整表!#REF!=\"男\",1,IF(重整表!#REF!=\"女\",2)))","v":{"$error":"#REF!"}},null,{"$f":"IF(ISERROR(VLOOKUP($B8,IF({1,0},編班結果表!$E$4:$E$303,編班結果表!$B$4:$B$303),2,)),\"\",VLOOKUP($B8,IF({1,0},編班結果表!$E$4:$E$303,編班結果表!$B$4:$B$303),2,))","v":""},{"$f":"IF(ISERROR(VLOOKUP($B8,IF({1,0},編班結果表!$E$4:$F$303,編班結果表!$C$4:$C$303),2,FALSE)),\"\",VLOOKUP($B8,IF({1,0},編班結果表!$E$4:$F$303,編班結果表!$C$4:$C$303),2,FALSE))","v":""},{"$f":"IF(SEARCH(\"/\",重整表!#REF!)=3,LEFT(重整表!#REF!,2)+1911&MID(重整表!#REF!,3,8),LEFT(重整表!#REF!,3)+1911&MID(重整表!#REF!,4,8))","v":{"$error":"#REF!"}},{"$f":"IF(ISBLANK(重整表!#REF!),\"\",重整表!#REF!)","v":{"$error":"#REF!"}},{"$f":"IF(ISBLANK(重整表!#REF!),\"\",重整表!#REF!)","v":{"$error":"#REF!"}},{"$f":"IF(ISBLANK(重整表!#REF!),\"\",重整表!#REF!)","v":{"$error":"#REF!"}},null,null,{"$f":"IF(ISBLANK(重整表!#REF!),\"\",重整表!#REF!)","v":{"$error":"#REF!"}},null,null,{"$f":"IF(SEARCH(\"/\",重整表!#REF!)=3,LEFT(重整表!#REF!,2)+1911&MID(重整表!#REF!,3,8),LEFT(重整表!#REF!,3)+1911&MID(重整表!#REF!,4,8))","v":{"$error":"#REF!"}}]
[null,{"$f":"IF(ISBLANK(重整表!#REF!),\"\",重整表!#REF!)","v":{"$error":"#REF!"}},{"$f":"IF(ISBLANK(重整表!#REF!),\"\",IF(重整表!#REF!=\"男\",1,IF(重整表!#REF!=\"女\",2)))","v":{"$error":"#REF!"}},null,{"$f":"IF(ISERROR(VLOOKUP($B9,IF({1,0},編班結果表!$E$4:$E$303,編班結果表!$B$4:$B$303),2,)),\"\",VLOOKUP($B9,IF({1,0},編班結果表!$E$4:$E$303,編班結果表!$B$4:$B$303),2,))","v":""},{"$f":"IF(ISERROR(VLOOKUP($B9,IF({1,0},編班結果表!$E$4:$F$303,編班結果表!$C$4:$C$303),2,FALSE)),\"\",VLOOKUP($B9,IF({1,0},編班結果表!$E$4:$F$303,編班結果表!$C$4:$C$303),2,FALSE))","v":""},{"$f":"IF(SEARCH(\"/\",重整表!#REF!)=3,LEFT(重整表!#REF!,2)+1911&MID(重整表!#REF!,3,8),LEFT(重整表!#REF!,3)+1911&MID(重整表!#REF!,4,8))","v":{"$error":"#REF!"}},{"$f":"IF(ISBLANK(重整表!#REF!),\"\",重整表!#REF!)","v":{"$error":"#REF!"}},{"$f":"IF(ISBLANK(重整表!#REF!),\"\",重整表!#REF!)","v":{"$error":"#REF!"}},{"$f":"IF(ISBLANK(重整表!#REF!),\"\",重整表!#REF!)","v":{"$error":"#REF!"}},null,null,{"$f":"IF(ISBLANK(重整表!#REF!),\"\",重整表!#REF!)","v":{"$error":"#REF!"}},null,null,{"$f":"IF(SEARCH(\"/\",重整表!#REF!)=3,LEFT(重整表!#REF!,2)+1911&MID(重整表!#REF!,3,8),LEFT(重整表!#REF!,3)+1911&MID(重整表!#REF!,4,8))","v":{"$error":"#REF!"}}]
[null,{"$f":"IF(ISBLANK(重整表!#REF!),\"\",重整表!#REF!)","v":{"$error":"#REF!"}},{"$f":"IF(ISBLANK(重整表!#REF!),\"\",IF(重整表!#REF!=\"男\",1,IF(重整表!#REF!=\"女\",2)))","v":{"$error":"#REF!"}},null,{"$f":"IF(ISERROR(VLOOKUP($B10,IF({1,0},編班結果表!$E$4:$E$303,編班結果表!$B$4:$B$303),2,)),\"\",VLOOKUP($B10,IF({1,0},編班結果表!$E$4:$E$303,編班結果表!$B$4:$B$303),2,))","v":""},{"$f":"IF(ISERROR(VLOOKUP($B10,IF({1,0},編班結果表!$E$4:$F$303,編班結果表!$C$4:$C$303),2,FALSE)),\"\",VLOOKUP($B10,IF({1,0},編班結果表!$E$4:$F$303,編班結果表!$C$4:$C$303),2,FALSE))","v":""},{"$f":"IF(SEARCH(\"/\",重整表!#REF!)=3,LEFT(重整表!#REF!,2)+1911&MID(重整表!#REF!,3,8),LEFT(重整表!#REF!,3)+1911&MID(重整表!#REF!,4,8))","v":{"$error":"#REF!"}},{"$f":"IF(ISBLANK(重整表!#REF!),\"\",重整表!#REF!)","v":{"$error":"#REF!"}},{"$f":"IF(ISBLANK(重整表!#REF!),\"\",重整表!#REF!)","v":{"$error":"#REF!"}},{"$f":"IF(ISBLANK(重整表!#REF!),\"\",重整表!#REF!)","v":{"$error":"#REF!"}},null,null,{"$f":"IF(ISBLANK(重整表!#REF!),\"\",重整表!#REF!)","v":{"$error":"#REF!"}},null,null,{"$f":"IF(SEARCH(\"/\",重整表!#REF!)=3,LEFT(重整表!#REF!,2)+1911&MID(重整表!#REF!,3,8),LEFT(重整表!#REF!,3)+1911&MID(重整表!#REF!,4,8))","v":{"$error":"#REF!"}}]
[null,{"$f":"IF(ISBLANK(重整表!#REF!),\"\",重整表!#REF!)","v":{"$error":"#REF!"}},{"$f":"IF(ISBLANK(重整表!#REF!),\"\",IF(重整表!#REF!=\"男\",1,IF(重整表!#REF!=\"女\",2)))","v":{"$error":"#REF!"}},null,{"$f":"IF(ISERROR(VLOOKUP($B11,IF({1,0},編班結果表!$E$4:$E$303,編班結果表!$B$4:$B$303),2,)),\"\",VLOOKUP($B11,IF({1,0},編班結果表!$E$4:$E$303,編班結果表!$B$4:$B$303),2,))","v":""},{"$f":"IF(ISERROR(VLOOKUP($B11,IF({1,0},編班結果表!$E$4:$F$303,編班結果表!$C$4:$C$303),2,FALSE)),\"\",VLOOKUP($B11,IF({1,0},編班結果表!$E$4:$F$303,編班結果表!$C$4:$C$303),2,FALSE))","v":""},{"$f":"IF(SEARCH(\"/\",重整表!#REF!)=3,LEFT(重整表!#REF!,2)+1911&MID(重整表!#REF!,3,8),LEFT(重整表!#REF!,3)+1911&MID(重整表!#REF!,4,8))","v":{"$error":"#REF!"}},{"$f":"IF(ISBLANK(重整表!#REF!),\"\",重整表!#REF!)","v":{"$error":"#REF!"}},{"$f":"IF(ISBLANK(重整表!#REF!),\"\",重整表!#REF!)","v":{"$error":"#REF!"}},{"$f":"IF(ISBLANK(重整表!#REF!),\"\",重整表!#REF!)","v":{"$error":"#REF!"}},null,null,{"$f":"IF(ISBLANK(重整表!#REF!),\"\",重整表!#REF!)","v":{"$error":"#REF!"}},null,null,{"$f":"IF(SEARCH(\"/\",重整表!#REF!)=3,LEFT(重整表!#REF!,2)+1911&MID(重整表!#REF!,3,8),LEFT(重整表!#REF!,3)+1911&MID(重整表!#REF!,4,8))","v":{"$error":"#REF!"}}]
[null,{"$f":"IF(ISBLANK(重整表!#REF!),\"\",重整表!#REF!)","v":{"$error":"#REF!"}},{"$f":"IF(ISBLANK(重整表!#REF!),\"\",IF(重整表!#REF!=\"男\",1,IF(重整表!#REF!=\"女\",2)))","v":{"$error":"#REF!"}},null,{"$f":"IF(ISERROR(VLOOKUP($B12,IF({1,0},編班結果表!$E$4:$E$303,編班結果表!$B$4:$B$303),2,)),\"\",VLOOKUP($B12,IF({1,0},編班結果表!$E$4:$E$303,編班結果表!$B$4:$B$303),2,))","v":""},{"$f":"IF(ISERROR(VLOOKUP($B12,IF({1,0},編班結果表!$E$4:$F$303,編班結果表!$C$4:$C$303),2,FALSE)),\"\",VLOOKUP($B12,IF({1,0},編班結果表!$E$4:$F$303,編班結果表!$C$4:$C$303),2,FALSE))","v":""},{"$f":"IF(SEARCH(\"/\",重整表!#REF!)=3,LEFT(重整表!#REF!,2)+1911&MID(重整表!#REF!,3,8),LEFT(重整表!#REF!,3)+1911&MID(重整表!#REF!,4,8))","v":{"$error":"#REF!"}},{"$f":"IF(ISBLANK(重整表!#REF!),\"\",重整表!#REF!)","v":{"$error":"#REF!"}},{"$f":"IF(ISBLANK(重整表!#REF!),\"\",重整表!#REF!)","v":{"$error":"#REF!"}},{"$f":"IF(ISBLANK(重整表!#REF!),\"\",重整表!#REF!)","v":{"$error":"#REF!"}},null,null,{"$f":"IF(ISBLANK(重整表!#REF!),\"\",重整表!#REF!)","v":{"$error":"#REF!"}},null,null,{"$f":"IF(SEARCH(\"/\",重整表!#REF!)=3,LEFT(重整表!#REF!,2)+1911&MID(重整表!#REF!,3,8),LEFT(重整表!#REF!,3)+1911&MID(重整表!#REF!,4,8))","v":{"$error":"#REF!"}}]
[null,{"$f":"IF(ISBLANK(重整表!#REF!),\"\",重整表!#REF!)","v":{"$error":"#REF!"}},{"$f":"IF(ISBLANK(重整表!#REF!),\"\",IF(重整表!#REF!=\"男\",1,IF(重整表!#REF!=\"女\",2)))","v":{"$error":"#REF!"}},null,{"$f":"IF(ISERROR(VLOOKUP($B13,IF({1,0},編班結果表!$E$4:$E$303,編班結果表!$B$4:$B$303),2,)),\"\",VLOOKUP($B13,IF({1,0},編班結果表!$E$4:$E$303,編班結果表!$B$4:$B$303),2,))","v":""},{"$f":"IF(ISERROR(VLOOKUP($B13,IF({1,0},編班結果表!$E$4:$F$303,編班結果表!$C$4:$C$303),2,FALSE)),\"\",VLOOKUP($B13,IF({1,0},編班結果表!$E$4:$F$303,編班結果表!$C$4:$C$303),2,FALSE))","v":""},{"$f":"IF(SEARCH(\"/\",重整表!#REF!)=3,LEFT(重整表!#REF!,2)+1911&MID(重整表!#REF!,3,8),LEFT(重整表!#REF!,3)+1911&MID(重整表!#REF!,4,8))","v":{"$error":"#REF!"}},{"$f":"IF(ISBLANK(重整表!#REF!),\"\",重整表!#REF!)","v":{"$error":"#REF!"}},{"$f":"IF(ISBLANK(重整表!#REF!),\"\",重整表!#REF!)","v":{"$error":"#REF!"}},{"$f":"IF(ISBLANK(重整表!#REF!),\"\",重整表!#REF!)","v":{"$error":"#REF!"}},null,null,{"$f":"IF(ISBLANK(重整表!#REF!),\"\",重整表!#REF!)","v":{"$error":"#REF!"}},null,null,{"$f":"IF(SEARCH(\"/\",重整表!#REF!)=3,LEFT(重整表!#REF!,2)+1911&MID(重整表!#REF!,3,8),LEFT(重整表!#REF!,3)+1911&MID(重整表!#REF!,4,8))","v":{"$error":"#REF!"}}]
[null,{"$f":"IF(ISBLANK(重整表!#REF!),\"\",重整表!#REF!)","v":{"$error":"#REF!"}},{"$f":"IF(ISBLANK(重整表!#REF!),\"\",IF(重整表!#REF!=\"男\",1,IF(重整表!#REF!=\"女\",2)))","v":{"$error":"#REF!"}},null,{"$f":"IF(ISERROR(VLOOKUP($B14,IF({1,0},編班結果表!$E$4:$E$303,編班結果表!$B$4:$B$303),2,)),\"\",VLOOKUP($B14,IF({1,0},編班結果表!$E$4:$E$303,編班結果表!$B$4:$B$303),2,))","v":""},{"$f":"IF(ISERROR(VLOOKUP($B14,IF({1,0},編班結果表!$E$4:$F$303,編班結果表!$C$4:$C$303),2,FALSE)),\"\",VLOOKUP($B14,IF({1,0},編班結果表!$E$4:$F$303,編班結果表!$C$4:$C$303),2,FALSE))","v":""},{"$f":"IF(SEARCH(\"/\",重整表!#REF!)=3,LEFT(重整表!#REF!,2)+1911&MID(重整表!#REF!,3,8),LEFT(重整表!#REF!,3)+1911&MID(重整表!#REF!,4,8))","v":{"$error":"#REF!"}},{"$f":"IF(ISBLANK(重整表!#REF!),\"\",重整表!#REF!)","v":{"$error":"#REF!"}},{"$f":"IF(ISBLANK(重整表!#REF!),\"\",重整表!#REF!)","v":{"$error":"#REF!"}},{"$f":"IF(ISBLANK(重整表!#REF!),\"\",重整表!#REF!)","v":{"$error":"#REF!"}},null,null,{"$f":"IF(ISBLANK(重整表!#REF!),\"\",重整表!#REF!)","v":{"$error":"#REF!"}},null,null,{"$f":"IF(SEARCH(\"/\",重整表!#REF!)=3,LEFT(重整表!#REF!,2)+1911&MID(重整表!#REF!,3,8),LEFT(重整表!#REF!,3)+1911&MID(重整表!#REF!,4,8))","v":{"$error":"#REF!"}}]
[null,{"$f":"IF(ISBLANK(重整表!#REF!),\"\",重整表!#REF!)","v":{"$error":"#REF!"}},{"$f":"IF(ISBLANK(重整表!#REF!),\"\",IF(重整表!#REF!=\"男\",1,IF(重整表!#REF!=\"女\",2)))","v":{"$error":"#REF!"}},null,{"$f":"IF(ISERROR(VLOOKUP($B15,IF({1,0},編班結果表!$E$4:$E$303,編班結果表!$B$4:$B$303),2,)),\"\",VLOOKUP($B15,IF({1,0},編班結果表!$E$4:$E$303,編班結果表!$B$4:$B$303),2,))","v":""},{"$f":"IF(ISERROR(VLOOKUP($B15,IF({1,0},編班結果表!$E$4:$F$303,編班結果表!$C$4:$C$303),2,FALSE)),\"\",VLOOKUP($B15,IF({1,0},編班結果表!$E$4:$F$303,編班結果表!$C$4:$C$303),2,FALSE))","v":""},{"$f":"IF(SEARCH(\"/\",重整表!#REF!)=3,LEFT(重整表!#REF!,2)+1911&MID(重整表!#REF!,3,8),LEFT(重整表!#REF!,3)+1911&MID(重整表!#REF!,4,8))","v":{"$error":"#REF!"}},{"$f":"IF(ISBLANK(重整表!#REF!),\"\",重整表!#REF!)","v":{"$error":"#REF!"}},{"$f":"IF(ISBLANK(重整表!#REF!),\"\",重整表!#REF!)","v":{"$error":"#REF!"}},{"$f":"IF(ISBLANK(重整表!#REF!),\"\",重整表!#REF!)","v":{"$error":"#REF!"}},null,null,{"$f":"IF(ISBLANK(重整表!#REF!),\"\",重整表!#REF!)","v":{"$error":"#REF!"}},null,null,{"$f":"IF(SEARCH(\"/\",重整表!#REF!)=3,LEFT(重整表!#REF!,2)+1911&MID(重整表!#REF!,3,8),LEFT(重整表!#REF!,3)+1911&MID(重整表!#REF!,4,8))","v":{"$error":"#REF!"}}]
[null,{"$f":"IF(ISBLANK(重整表!#REF!),\"\",重整表!#REF!)","v":{"$error":"#REF!"}},{"$f":"IF(ISBLANK(重整表!#REF!),\"\",IF(重整表!#REF!=\"男\",1,IF(重整表!#REF!=\"女\",2)))","v":{"$error":"#REF!"}},null,{"$f":"IF(ISERROR(VLOOKUP($B16,IF({1,0},編班結果表!$E$4:$E$303,編班結果表!$B$4:$B$303),2,)),\"\",VLOOKUP($B16,IF({1,0},編班結果表!$E$4:$E$303,編班結果表!$B$4:$B$303),2,))","v":""},{"$f":"IF(ISERROR(VLOOKUP($B16,IF({1,0},編班結果表!$E$4:$F$303,編班結果表!$C$4:$C$303),2,FALSE)),\"\",VLOOKUP($B16,IF({1,0},編班結果表!$E$4:$F$303,編班結果表!$C$4:$C$303),2,FALSE))","v":""},{"$f":"IF(SEARCH(\"/\",重整表!#REF!)=3,LEFT(重整表!#REF!,2)+1911&MID(重整表!#REF!,3,8),LEFT(重整表!#REF!,3)+1911&MID(重整表!#REF!,4,8))","v":{"$error":"#REF!"}},{"$f":"IF(ISBLANK(重整表!#REF!),\"\",重整表!#REF!)","v":{"$error":"#REF!"}},{"$f":"IF(ISBLANK(重整表!#REF!),\"\",重整表!#REF!)","v":{"$error":"#REF!"}},{"$f":"IF(ISBLANK(重整表!#REF!),\"\",重整表!#REF!)","v":{"$error":"#REF!"}},null,null,{"$f":"IF(ISBLANK(重整表!#REF!),\"\",重整表!#REF!)","v":{"$error":"#REF!"}},null,null,{"$f":"IF(SEARCH(\"/\",重整表!#REF!)=3,LEFT(重整表!#REF!,2)+1911&MID(重整表!#REF!,3,8),LEFT(重整表!#REF!,3)+1911&MID(重整表!#REF!,4,8))","v":{"$error":"#REF!"}}]
[null,{"$f":"IF(ISBLANK(重整表!#REF!),\"\",重整表!#REF!)","v":{"$error":"#REF!"}},{"$f":"IF(ISBLANK(重整表!#REF!),\"\",IF(重整表!#REF!=\"男\",1,IF(重整表!#REF!=\"女\",2)))","v":{"$error":"#REF!"}},null,{"$f":"IF(ISERROR(VLOOKUP($B17,IF({1,0},編班結果表!$E$4:$E$303,編班結果表!$B$4:$B$303),2,)),\"\",VLOOKUP($B17,IF({1,0},編班結果表!$E$4:$E$303,編班結果表!$B$4:$B$303),2,))","v":""},{"$f":"IF(ISERROR(VLOOKUP($B17,IF({1,0},編班結果表!$E$4:$F$303,編班結果表!$C$4:$C$303),2,FALSE)),\"\",VLOOKUP($B17,IF({1,0},編班結果表!$E$4:$F$303,編班結果表!$C$4:$C$303),2,FALSE))","v":""},{"$f":"IF(SEARCH(\"/\",重整表!#REF!)=3,LEFT(重整表!#REF!,2)+1911&MID(重整表!#REF!,3,8),LEFT(重整表!#REF!,3)+1911&MID(重整表!#REF!,4,8))","v":{"$error":"#REF!"}},{"$f":"IF(ISBLANK(重整表!#REF!),\"\",重整表!#REF!)","v":{"$error":"#REF!"}},{"$f":"IF(ISBLANK(重整表!#REF!),\"\",重整表!#REF!)","v":{"$error":"#REF!"}},{"$f":"IF(ISBLANK(重整表!#REF!),\"\",重整表!#REF!)","v":{"$error":"#REF!"}},null,null,{"$f":"IF(ISBLANK(重整表!#REF!),\"\",重整表!#REF!)","v":{"$error":"#REF!"}},null,null,{"$f":"IF(SEARCH(\"/\",重整表!#REF!)=3,LEFT(重整表!#REF!,2)+1911&MID(重整表!#REF!,3,8),LEFT(重整表!#REF!,3)+1911&MID(重整表!#REF!,4,8))","v":{"$error":"#REF!"}}]
[null,{"$f":"IF(ISBLANK(重整表!#REF!),\"\",重整表!#REF!)","v":{"$error":"#REF!"}},{"$f":"IF(ISBLANK(重整表!#REF!),\"\",IF(重整表!#REF!=\"男\",1,IF(重整表!#REF!=\"女\",2)))","v":{"$error":"#REF!"}},null,{"$f":"IF(ISERROR(VLOOKUP($B18,IF({1,0},編班結果表!$E$4:$E$303,編班結果表!$B$4:$B$303),2,)),\"\",VLOOKUP($B18,IF({1,0},編班結果表!$E$4:$E$303,編班結果表!$B$4:$B$303),2,))","v":""},{"$f":"IF(ISERROR(VLOOKUP($B18,IF({1,0},編班結果表!$E$4:$F$303,編班結果表!$C$4:$C$303),2,FALSE)),\"\",VLOOKUP($B18,IF({1,0},編班結果表!$E$4:$F$303,編班結果表!$C$4:$C$303),2,FALSE))","v":""},{"$f":"IF(SEARCH(\"/\",重整表!#REF!)=3,LEFT(重整表!#REF!,2)+1911&MID(重整表!#REF!,3,8),LEFT(重整表!#REF!,3)+1911&MID(重整表!#REF!,4,8))","v":{"$error":"#REF!"}},{"$f":"IF(ISBLANK(重整表!#REF!),\"\",重整表!#REF!)","v":{"$error":"#REF!"}},{"$f":"IF(ISBLANK(重整表!#REF!),\"\",重整表!#REF!)","v":{"$error":"#REF!"}},{"$f":"IF(ISBLANK(重整表!#REF!),\"\",重整表!#REF!)","v":{"$error":"#REF!"}},null,null,{"$f":"IF(ISBLANK(重整表!#REF!),\"\",重整表!#REF!)","v":{"$error":"#REF!"}},null,null,{"$f":"IF(SEARCH(\"/\",重整表!#REF!)=3,LEFT(重整表!#REF!,2)+1911&MID(重整表!#REF!,3,8),LEFT(重整表!#REF!,3)+1911&MID(重整表!#REF!,4,8))","v":{"$error":"#REF!"}}]
[null,{"$f":"IF(ISBLANK(重整表!#REF!),\"\",重整表!#REF!)","v":{"$error":"#REF!"}},{"$f":"IF(ISBLANK(重整表!#REF!),\"\",IF(重整表!#REF!=\"男\",1,IF(重整表!#REF!=\"女\",2)))","v":{"$error":"#REF!"}},null,{"$f":"IF(ISERROR(VLOOKUP($B19,IF({1,0},編班結果表!$E$4:$E$303,編班結果表!$B$4:$B$303),2,)),\"\",VLOOKUP($B19,IF({1,0},編班結果表!$E$4:$E$303,編班結果表!$B$4:$B$303),2,))","v":""},{"$f":"IF(ISERROR(VLOOKUP($B19,IF({1,0},編班結果表!$E$4:$F$303,編班結果表!$C$4:$C$303),2,FALSE)),\"\",VLOOKUP($B19,IF({1,0},編班結果表!$E$4:$F$303,編班結果表!$C$4:$C$303),2,FALSE))","v":""},{"$f":"IF(SEARCH(\"/\",重整表!#REF!)=3,LEFT(重整表!#REF!,2)+1911&MID(重整表!#REF!,3,8),LEFT(重整表!#REF!,3)+1911&MID(重整表!#REF!,4,8))","v":{"$error":"#REF!"}},{"$f":"IF(ISBLANK(重整表!#REF!),\"\",重整表!#REF!)","v":{"$error":"#REF!"}},{"$f":"IF(ISBLANK(重整表!#REF!),\"\",重整表!#REF!)","v":{"$error":"#REF!"}},{"$f":"IF(ISBLANK(重整表!#REF!),\"\",重整表!#REF!)","v":{"$error":"#REF!"}},null,null,{"$f":"IF(ISBLANK(重整表!#REF!),\"\",重整表!#REF!)","v":{"$error":"#REF!"}},null,null,{"$f":"IF(SEARCH(\"/\",重整表!#REF!)=3,LEFT(重整表!#REF!,2)+1911&MID(重整表!#REF!,3,8),LEFT(重整表!#REF!,3)+1911&MID(重整表!#REF!,4,8))","v":{"$error":"#REF!"}}]
[null,{"$f":"IF(ISBLANK(重整表!#REF!),\"\",重整表!#REF!)","v":{"$error":"#REF!"}},{"$f":"IF(ISBLANK(重整表!#REF!),\"\",IF(重整表!#REF!=\"男\",1,IF(重整表!#REF!=\"女\",2)))","v":{"$error":"#REF!"}},null,{"$f":"IF(ISERROR(VLOOKUP($B20,IF({1,0},編班結果表!$E$4:$E$303,編班結果表!$B$4:$B$303),2,)),\"\",VLOOKUP($B20,IF({1,0},編班結果表!$E$4:$E$303,編班結果表!$B$4:$B$303),2,))","v":""},{"$f":"IF(ISERROR(VLOOKUP($B20,IF({1,0},編班結果表!$E$4:$F$303,編班結果表!$C$4:$C$303),2,FALSE)),\"\",VLOOKUP($B20,IF({1,0},編班結果表!$E$4:$F$303,編班結果表!$C$4:$C$303),2,FALSE))","v":""},{"$f":"IF(SEARCH(\"/\",重整表!#REF!)=3,LEFT(重整表!#REF!,2)+1911&MID(重整表!#REF!,3,8),LEFT(重整表!#REF!,3)+1911&MID(重整表!#REF!,4,8))","v":{"$error":"#REF!"}},{"$f":"IF(ISBLANK(重整表!#REF!),\"\",重整表!#REF!)","v":{"$error":"#REF!"}},{"$f":"IF(ISBLANK(重整表!#REF!),\"\",重整表!#REF!)","v":{"$error":"#REF!"}},{"$f":"IF(ISBLANK(重整表!#REF!),\"\",重整表!#REF!)","v":{"$error":"#REF!"}},null,null,{"$f":"IF(ISBLANK(重整表!#REF!),\"\",重整表!#REF!)","v":{"$error":"#REF!"}},null,null,{"$f":"IF(SEARCH(\"/\",重整表!#REF!)=3,LEFT(重整表!#REF!,2)+1911&MID(重整表!#REF!,3,8),LEFT(重整表!#REF!,3)+1911&MID(重整表!#REF!,4,8))","v":{"$error":"#REF!"}}]
[null,{"$f":"IF(ISBLANK(重整表!#REF!),\"\",重整表!#REF!)","v":{"$error":"#REF!"}},{"$f":"IF(ISBLANK(重整表!#REF!),\"\",IF(重整表!#REF!=\"男\",1,IF(重整表!#REF!=\"女\",2)))","v":{"$error":"#REF!"}},null,{"$f":"IF(ISERROR(VLOOKUP($B21,IF({1,0},編班結果表!$E$4:$E$303,編班結果表!$B$4:$B$303),2,)),\"\",VLOOKUP($B21,IF({1,0},編班結果表!$E$4:$E$303,編班結果表!$B$4:$B$303),2,))","v":""},{"$f":"IF(ISERROR(VLOOKUP($B21,IF({1,0},編班結果表!$E$4:$F$303,編班結果表!$C$4:$C$303),2,FALSE)),\"\",VLOOKUP($B21,IF({1,0},編班結果表!$E$4:$F$303,編班結果表!$C$4:$C$303),2,FALSE))","v":""},{"$f":"IF(SEARCH(\"/\",重整表!#REF!)=3,LEFT(重整表!#REF!,2)+1911&MID(重整表!#REF!,3,8),LEFT(重整表!#REF!,3)+1911&MID(重整表!#REF!,4,8))","v":{"$error":"#REF!"}},{"$f":"IF(ISBLANK(重整表!#REF!),\"\",重整表!#REF!)","v":{"$error":"#REF!"}},{"$f":"IF(ISBLANK(重整表!#REF!),\"\",重整表!#REF!)","v":{"$error":"#REF!"}},{"$f":"IF(ISBLANK(重整表!#REF!),\"\",重整表!#REF!)","v":{"$error":"#REF!"}},null,null,{"$f":"IF(ISBLANK(重整表!#REF!),\"\",重整表!#REF!)","v":{"$error":"#REF!"}},null,null,{"$f":"IF(SEARCH(\"/\",重整表!#REF!)=3,LEFT(重整表!#REF!,2)+1911&MID(重整表!#REF!,3,8),LEFT(重整表!#REF!,3)+1911&MID(重整表!#REF!,4,8))","v":{"$error":"#REF!"}}]
[null,{"$f":"IF(ISBLANK(重整表!#REF!),\"\",重整表!#REF!)","v":{"$error":"#REF!"}},{"$f":"IF(ISBLANK(重整表!#REF!),\"\",IF(重整表!#REF!=\"男\",1,IF(重整表!#REF!=\"女\",2)))","v":{"$error":"#REF!"}},null,{"$f":"IF(ISERROR(VLOOKUP($B22,IF({1,0},編班結果表!$E$4:$E$303,編班結果表!$B$4:$B$303),2,)),\"\",VLOOKUP($B22,IF({1,0},編班結果表!$E$4:$E$303,編班結果表!$B$4:$B$303),2,))","v":""},{"$f":"IF(ISERROR(VLOOKUP($B22,IF({1,0},編班結果表!$E$4:$F$303,編班結果表!$C$4:$C$303),2,FALSE)),\"\",VLOOKUP($B22,IF({1,0},編班結果表!$E$4:$F$303,編班結果表!$C$4:$C$303),2,FALSE))","v":""},{"$f":"IF(SEARCH(\"/\",重整表!#REF!)=3,LEFT(重整表!#REF!,2)+1911&MID(重整表!#REF!,3,8),LEFT(重整表!#REF!,3)+1911&MID(重整表!#REF!,4,8))","v":{"$error":"#REF!"}},{"$f":"IF(ISBLANK(重整表!#REF!),\"\",重整表!#REF!)","v":{"$error":"#REF!"}},{"$f":"IF(ISBLANK(重整表!#REF!),\"\",重整表!#REF!)","v":{"$error":"#REF!"}},{"$f":"IF(ISBLANK(重整表!#REF!),\"\",重整表!#REF!)","v":{"$error":"#REF!"}},null,null,{"$f":"IF(ISBLANK(重整表!#REF!),\"\",重整表!#REF!)","v":{"$error":"#REF!"}},null,null,{"$f":"IF(SEARCH(\"/\",重整表!#REF!)=3,LEFT(重整表!#REF!,2)+1911&MID(重整表!#REF!,3,8),LEFT(重整表!#REF!,3)+1911&MID(重整表!#REF!,4,8))","v":{"$error":"#REF!"}}]
[null,{"$f":"IF(ISBLANK(重整表!#REF!),\"\",重整表!#REF!)","v":{"$error":"#REF!"}},{"$f":"IF(ISBLANK(重整表!#REF!),\"\",IF(重整表!#REF!=\"男\",1,IF(重整表!#REF!=\"女\",2)))","v":{"$error":"#REF!"}},null,{"$f":"IF(ISERROR(VLOOKUP($B23,IF({1,0},編班結果表!$E$4:$E$303,編班結果表!$B$4:$B$303),2,)),\"\",VLOOKUP($B23,IF({1,0},編班結果表!$E$4:$E$303,編班結果表!$B$4:$B$303),2,))","v":""},{"$f":"IF(ISERROR(VLOOKUP($B23,IF({1,0},編班結果表!$E$4:$F$303,編班結果表!$C$4:$C$303),2,FALSE)),\"\",VLOOKUP($B23,IF({1,0},編班結果表!$E$4:$F$303,編班結果表!$C$4:$C$303),2,FALSE))","v":""},{"$f":"IF(SEARCH(\"/\",重整表!#REF!)=3,LEFT(重整表!#REF!,2)+1911&MID(重整表!#REF!,3,8),LEFT(重整表!#REF!,3)+1911&MID(重整表!#REF!,4,8))","v":{"$error":"#REF!"}},{"$f":"IF(ISBLANK(重整表!#REF!),\"\",重整表!#REF!)","v":{"$error":"#REF!"}},{"$f":"IF(ISBLANK(重整表!#REF!),\"\",重整表!#REF!)","v":{"$error":"#REF!"}},{"$f":"IF(ISBLANK(重整表!#REF!),\"\",重整表!#REF!)","v":{"$error":"#REF!"}},null,null,{"$f":"IF(ISBLANK(重整表!#REF!),\"\",重整表!#REF!)","v":{"$error":"#REF!"}},null,null,{"$f":"IF(SEARCH(\"/\",重整表!#REF!)=3,LEFT(重整表!#REF!,2)+1911&MID(重整表!#REF!,3,8),LEFT(重整表!#REF!,3)+1911&MID(重整表!#REF!,4,8))","v":{"$error":"#REF!"}}]
[null,{"$f":"IF(ISBLANK(重整表!#REF!),\"\",重整表!#REF!)","v":{"$error":"#REF!"}},{"$f":"IF(ISBLANK(重整表!#REF!),\"\",IF(重整表!#REF!=\"男\",1,IF(重整表!#REF!=\"女\",2)))","v":{"$error":"#REF!"}},null,{"$f":"IF(ISERROR(VLOOKUP($B24,IF({1,0},編班結果表!$E$4:$E$303,編班結果表!$B$4:$B$303),2,)),\"\",VLOOKUP($B24,IF({1,0},編班結果表!$E$4:$E$303,編班結果表!$B$4:$B$303),2,))","v":""},{"$f":"IF(ISERROR(VLOOKUP($B24,IF({1,0},編班結果表!$E$4:$F$303,編班結果表!$C$4:$C$303),2,FALSE)),\"\",VLOOKUP($B24,IF({1,0},編班結果表!$E$4:$F$303,編班結果表!$C$4:$C$303),2,FALSE))","v":""},{"$f":"IF(SEARCH(\"/\",重整表!#REF!)=3,LEFT(重整表!#REF!,2)+1911&MID(重整表!#REF!,3,8),LEFT(重整表!#REF!,3)+1911&MID(重整表!#REF!,4,8))","v":{"$error":"#REF!"}},{"$f":"IF(ISBLANK(重整表!#REF!),\"\",重整表!#REF!)","v":{"$error":"#REF!"}},{"$f":"IF(ISBLANK(重整表!#REF!),\"\",重整表!#REF!)","v":{"$error":"#REF!"}},{"$f":"IF(ISBLANK(重整表!#REF!),\"\",重整表!#REF!)","v":{"$error":"#REF!"}},null,null,{"$f":"IF(ISBLANK(重整表!#REF!),\"\",重整表!#REF!)","v":{"$error":"#REF!"}},null,null,{"$f":"IF(SEARCH(\"/\",重整表!#REF!)=3,LEFT(重整表!#REF!,2)+1911&MID(重整表!#REF!,3,8),LEFT(重整表!#REF!,3)+1911&MID(重整表!#REF!,4,8))","v":{"$error":"#REF!"}}]
[null,{"$f":"IF(ISBLANK(重整表!#REF!),\"\",重整表!#REF!)","v":{"$error":"#REF!"}},{"$f":"IF(ISBLANK(重整表!#REF!),\"\",IF(重整表!#REF!=\"男\",1,IF(重整表!#REF!=\"女\",2)))","v":{"$error":"#REF!"}},null,{"$f":"IF(ISERROR(VLOOKUP($B25,IF({1,0},編班結果表!$E$4:$E$303,編班結果表!$B$4:$B$303),2,)),\"\",VLOOKUP($B25,IF({1,0},編班結果表!$E$4:$E$303,編班結果表!$B$4:$B$303),2,))","v":""},{"$f":"IF(ISERROR(VLOOKUP($B25,IF({1,0},編班結果表!$E$4:$F$303,編班結果表!$C$4:$C$303),2,FALSE)),\"\",VLOOKUP($B25,IF({1,0},編班結果表!$E$4:$F$303,編班結果表!$C$4:$C$303),2,FALSE))","v":""},{"$f":"IF(SEARCH(\"/\",重整表!#REF!)=3,LEFT(重整表!#REF!,2)+1911&MID(重整表!#REF!,3,8),LEFT(重整表!#REF!,3)+1911&MID(重整表!#REF!,4,8))","v":{"$error":"#REF!"}},{"$f":"IF(ISBLANK(重整表!#REF!),\"\",重整表!#REF!)","v":{"$error":"#REF!"}},{"$f":"IF(ISBLANK(重整表!#REF!),\"\",重整表!#REF!)","v":{"$error":"#REF!"}},{"$f":"IF(ISBLANK(重整表!#REF!),\"\",重整表!#REF!)","v":{"$error":"#REF!"}},null,null,{"$f":"IF(ISBLANK(重整表!#REF!),\"\",重整表!#REF!)","v":{"$error":"#REF!"}},null,null,{"$f":"IF(SEARCH(\"/\",重整表!#REF!)=3,LEFT(重整表!#REF!,2)+1911&MID(重整表!#REF!,3,8),LEFT(重整表!#REF!,3)+1911&MID(重整表!#REF!,4,8))","v":{"$error":"#REF!"}}]
[null,{"$f":"IF(ISBLANK(重整表!#REF!),\"\",重整表!#REF!)","v":{"$error":"#REF!"}},{"$f":"IF(ISBLANK(重整表!#REF!),\"\",IF(重整表!#REF!=\"男\",1,IF(重整表!#REF!=\"女\",2)))","v":{"$error":"#REF!"}},null,{"$f":"IF(ISERROR(VLOOKUP($B26,IF({1,0},編班結果表!$E$4:$E$303,編班結果表!$B$4:$B$303),2,)),\"\",VLOOKUP($B26,IF({1,0},編班結果表!$E$4:$E$303,編班結果表!$B$4:$B$303),2,))","v":""},{"$f":"IF(ISERROR(VLOOKUP($B26,IF({1,0},編班結果表!$E$4:$F$303,編班結果表!$C$4:$C$303),2,FALSE)),\"\",VLOOKUP($B26,IF({1,0},編班結果表!$E$4:$F$303,編班結果表!$C$4:$C$303),2,FALSE))","v":""},{"$f":"IF(SEARCH(\"/\",重整表!#REF!)=3,LEFT(重整表!#REF!,2)+1911&MID(重整表!#REF!,3,8),LEFT(重整表!#REF!,3)+1911&MID(重整表!#REF!,4,8))","v":{"$error":"#REF!"}},{"$f":"IF(ISBLANK(重整表!#REF!),\"\",重整表!#REF!)","v":{"$error":"#REF!"}},{"$f":"IF(ISBLANK(重整表!#REF!),\"\",重整表!#REF!)","v":{"$error":"#REF!"}},{"$f":"IF(ISBLANK(重整表!#REF!),\"\",重整表!#REF!)","v":{"$error":"#REF!"}},null,null,{"$f":"IF(ISBLANK(重整表!#REF!),\"\",重整表!#REF!)","v":{"$error":"#REF!"}},null,null,{"$f":"IF(SEARCH(\"/\",重整表!#REF!)=3,LEFT(重整表!#REF!,2)+1911&MID(重整表!#REF!,3,8),LEFT(重整表!#REF!,3)+1911&MID(重整表!#REF!,4,8))","v":{"$error":"#REF!"}}]
[null,{"$f":"IF(ISBLANK(重整表!#REF!),\"\",重整表!#REF!)","v":{"$error":"#REF!"}},{"$f":"IF(ISBLANK(重整表!#REF!),\"\",IF(重整表!#REF!=\"男\",1,IF(重整表!#REF!=\"女\",2)))","v":{"$error":"#REF!"}},null,{"$f":"IF(ISERROR(VLOOKUP($B27,IF({1,0},編班結果表!$E$4:$E$303,編班結果表!$B$4:$B$303),2,)),\"\",VLOOKUP($B27,IF({1,0},編班結果表!$E$4:$E$303,編班結果表!$B$4:$B$303),2,))","v":""},{"$f":"IF(ISERROR(VLOOKUP($B27,IF({1,0},編班結果表!$E$4:$F$303,編班結果表!$C$4:$C$303),2,FALSE)),\"\",VLOOKUP($B27,IF({1,0},編班結果表!$E$4:$F$303,編班結果表!$C$4:$C$303),2,FALSE))","v":""},{"$f":"IF(SEARCH(\"/\",重整表!#REF!)=3,LEFT(重整表!#REF!,2)+1911&MID(重整表!#REF!,3,8),LEFT(重整表!#REF!,3)+1911&MID(重整表!#REF!,4,8))","v":{"$error":"#REF!"}},{"$f":"IF(ISBLANK(重整表!#REF!),\"\",重整表!#REF!)","v":{"$error":"#REF!"}},{"$f":"IF(ISBLANK(重整表!#REF!),\"\",重整表!#REF!)","v":{"$error":"#REF!"}},{"$f":"IF(ISBLANK(重整表!#REF!),\"\",重整表!#REF!)","v":{"$error":"#REF!"}},null,null,{"$f":"IF(ISBLANK(重整表!#REF!),\"\",重整表!#REF!)","v":{"$error":"#REF!"}},null,null,{"$f":"IF(SEARCH(\"/\",重整表!#REF!)=3,LEFT(重整表!#REF!,2)+1911&MID(重整表!#REF!,3,8),LEFT(重整表!#REF!,3)+1911&MID(重整表!#REF!,4,8))","v":{"$error":"#REF!"}}]
[null,{"$f":"IF(ISBLANK(重整表!#REF!),\"\",重整表!#REF!)","v":{"$error":"#REF!"}},{"$f":"IF(ISBLANK(重整表!#REF!),\"\",IF(重整表!#REF!=\"男\",1,IF(重整表!#REF!=\"女\",2)))","v":{"$error":"#REF!"}},null,{"$f":"IF(ISERROR(VLOOKUP($B28,IF({1,0},編班結果表!$E$4:$E$303,編班結果表!$B$4:$B$303),2,)),\"\",VLOOKUP($B28,IF({1,0},編班結果表!$E$4:$E$303,編班結果表!$B$4:$B$303),2,))","v":""},{"$f":"IF(ISERROR(VLOOKUP($B28,IF({1,0},編班結果表!$E$4:$F$303,編班結果表!$C$4:$C$303),2,FALSE)),\"\",VLOOKUP($B28,IF({1,0},編班結果表!$E$4:$F$303,編班結果表!$C$4:$C$303),2,FALSE))","v":""},{"$f":"IF(SEARCH(\"/\",重整表!#REF!)=3,LEFT(重整表!#REF!,2)+1911&MID(重整表!#REF!,3,8),LEFT(重整表!#REF!,3)+1911&MID(重整表!#REF!,4,8))","v":{"$error":"#REF!"}},{"$f":"IF(ISBLANK(重整表!#REF!),\"\",重整表!#REF!)","v":{"$error":"#REF!"}},{"$f":"IF(ISBLANK(重整表!#REF!),\"\",重整表!#REF!)","v":{"$error":"#REF!"}},{"$f":"IF(ISBLANK(重整表!#REF!),\"\",重整表!#REF!)","v":{"$error":"#REF!"}},null,null,{"$f":"IF(ISBLANK(重整表!#REF!),\"\",重整表!#REF!)","v":{"$error":"#REF!"}},null,null,{"$f":"IF(SEARCH(\"/\",重整表!#REF!)=3,LEFT(重整表!#REF!,2)+1911&MID(重整表!#REF!,3,8),LEFT(重整表!#REF!,3)+1911&MID(重整表!#REF!,4,8))","v":{"$error":"#REF!"}}]
[null,{"$f":"IF(ISBLANK(重整表!#REF!),\"\",重整表!#REF!)","v":{"$error":"#REF!"}},{"$f":"IF(ISBLANK(重整表!#REF!),\"\",IF(重整表!#REF!=\"男\",1,IF(重整表!#REF!=\"女\",2)))","v":{"$error":"#REF!"}},null,{"$f":"IF(ISERROR(VLOOKUP($B29,IF({1,0},編班結果表!$E$4:$E$303,編班結果表!$B$4:$B$303),2,)),\"\",VLOOKUP($B29,IF({1,0},編班結果表!$E$4:$E$303,編班結果表!$B$4:$B$303),2,))","v":""},{"$f":"IF(ISERROR(VLOOKUP($B29,IF({1,0},編班結果表!$E$4:$F$303,編班結果表!$C$4:$C$303),2,FALSE)),\"\",VLOOKUP($B29,IF({1,0},編班結果表!$E$4:$F$303,編班結果表!$C$4:$C$303),2,FALSE))","v":""},{"$f":"IF(SEARCH(\"/\",重整表!#REF!)=3,LEFT(重整表!#REF!,2)+1911&MID(重整表!#REF!,3,8),LEFT(重整表!#REF!,3)+1911&MID(重整表!#REF!,4,8))","v":{"$error":"#REF!"}},{"$f":"IF(ISBLANK(重整表!#REF!),\"\",重整表!#REF!)","v":{"$error":"#REF!"}},{"$f":"IF(ISBLANK(重整表!#REF!),\"\",重整表!#REF!)","v":{"$error":"#REF!"}},{"$f":"IF(ISBLANK(重整表!#REF!),\"\",重整表!#REF!)","v":{"$error":"#REF!"}},null,null,{"$f":"IF(ISBLANK(重整表!#REF!),\"\",重整表!#REF!)","v":{"$error":"#REF!"}},null,null,{"$f":"IF(SEARCH(\"/\",重整表!#REF!)=3,LEFT(重整表!#REF!,2)+1911&MID(重整表!#REF!,3,8),LEFT(重整表!#REF!,3)+1911&MID(重整表!#REF!,4,8))","v":{"$error":"#REF!"}}]
[null,{"$f":"IF(ISBLANK(重整表!#REF!),\"\",重整表!#REF!)","v":{"$error":"#REF!"}},{"$f":"IF(ISBLANK(重整表!#REF!),\"\",IF(重整表!#REF!=\"男\",1,IF(重整表!#REF!=\"女\",2)))","v":{"$error":"#REF!"}},null,{"$f":"IF(ISERROR(VLOOKUP($B30,IF({1,0},編班結果表!$E$4:$E$303,編班結果表!$B$4:$B$303),2,)),\"\",VLOOKUP($B30,IF({1,0},編班結果表!$E$4:$E$303,編班結果表!$B$4:$B$303),2,))","v":""},{"$f":"IF(ISERROR(VLOOKUP($B30,IF({1,0},編班結果表!$E$4:$F$303,編班結果表!$C$4:$C$303),2,FALSE)),\"\",VLOOKUP($B30,IF({1,0},編班結果表!$E$4:$F$303,編班結果表!$C$4:$C$303),2,FALSE))","v":""},{"$f":"IF(SEARCH(\"/\",重整表!#REF!)=3,LEFT(重整表!#REF!,2)+1911&MID(重整表!#REF!,3,8),LEFT(重整表!#REF!,3)+1911&MID(重整表!#REF!,4,8))","v":{"$error":"#REF!"}},{"$f":"IF(ISBLANK(重整表!#REF!),\"\",重整表!#REF!)","v":{"$error":"#REF!"}},{"$f":"IF(ISBLANK(重整表!#REF!),\"\",重整表!#REF!)","v":{"$error":"#REF!"}},{"$f":"IF(ISBLANK(重整表!#REF!),\"\",重整表!#REF!)","v":{"$error":"#REF!"}},null,null,{"$f":"IF(ISBLANK(重整表!#REF!),\"\",重整表!#REF!)","v":{"$error":"#REF!"}},null,null,{"$f":"IF(SEARCH(\"/\",重整表!#REF!)=3,LEFT(重整表!#REF!,2)+1911&MID(重整表!#REF!,3,8),LEFT(重整表!#REF!,3)+1911&MID(重整表!#REF!,4,8))","v":{"$error":"#REF!"}}]
[null,{"$f":"IF(ISBLANK(重整表!#REF!),\"\",重整表!#REF!)","v":{"$error":"#REF!"}},{"$f":"IF(ISBLANK(重整表!#REF!),\"\",IF(重整表!#REF!=\"男\",1,IF(重整表!#REF!=\"女\",2)))","v":{"$error":"#REF!"}},null,{"$f":"IF(ISERROR(VLOOKUP($B31,IF({1,0},編班結果表!$E$4:$E$303,編班結果表!$B$4:$B$303),2,)),\"\",VLOOKUP($B31,IF({1,0},編班結果表!$E$4:$E$303,編班結果表!$B$4:$B$303),2,))","v":""},{"$f":"IF(ISERROR(VLOOKUP($B31,IF({1,0},編班結果表!$E$4:$F$303,編班結果表!$C$4:$C$303),2,FALSE)),\"\",VLOOKUP($B31,IF({1,0},編班結果表!$E$4:$F$303,編班結果表!$C$4:$C$303),2,FALSE))","v":""},{"$f":"IF(SEARCH(\"/\",重整表!#REF!)=3,LEFT(重整表!#REF!,2)+1911&MID(重整表!#REF!,3,8),LEFT(重整表!#REF!,3)+1911&MID(重整表!#REF!,4,8))","v":{"$error":"#REF!"}},{"$f":"IF(ISBLANK(重整表!#REF!),\"\",重整表!#REF!)","v":{"$error":"#REF!"}},{"$f":"IF(ISBLANK(重整表!#REF!),\"\",重整表!#REF!)","v":{"$error":"#REF!"}},{"$f":"IF(ISBLANK(重整表!#REF!),\"\",重整表!#REF!)","v":{"$error":"#REF!"}},null,null,{"$f":"IF(ISBLANK(重整表!#REF!),\"\",重整表!#REF!)","v":{"$error":"#REF!"}},null,null,{"$f":"IF(SEARCH(\"/\",重整表!#REF!)=3,LEFT(重整表!#REF!,2)+1911&MID(重整表!#REF!,3,8),LEFT(重整表!#REF!,3)+1911&MID(重整表!#REF!,4,8))","v":{"$error":"#REF!"}}]
[null,{"$f":"IF(ISBLANK(重整表!#REF!),\"\",重整表!#REF!)","v":{"$error":"#REF!"}},{"$f":"IF(ISBLANK(重整表!#REF!),\"\",IF(重整表!#REF!=\"男\",1,IF(重整表!#REF!=\"女\",2)))","v":{"$error":"#REF!"}},null,{"$f":"IF(ISERROR(VLOOKUP($B32,IF({1,0},編班結果表!$E$4:$E$303,編班結果表!$B$4:$B$303),2,)),\"\",VLOOKUP($B32,IF({1,0},編班結果表!$E$4:$E$303,編班結果表!$B$4:$B$303),2,))","v":""},{"$f":"IF(ISERROR(VLOOKUP($B32,IF({1,0},編班結果表!$E$4:$F$303,編班結果表!$C$4:$C$303),2,FALSE)),\"\",VLOOKUP($B32,IF({1,0},編班結果表!$E$4:$F$303,編班結果表!$C$4:$C$303),2,FALSE))","v":""},{"$f":"IF(SEARCH(\"/\",重整表!#REF!)=3,LEFT(重整表!#REF!,2)+1911&MID(重整表!#REF!,3,8),LEFT(重整表!#REF!,3)+1911&MID(重整表!#REF!,4,8))","v":{"$error":"#REF!"}},{"$f":"IF(ISBLANK(重整表!#REF!),\"\",重整表!#REF!)","v":{"$error":"#REF!"}},{"$f":"IF(ISBLANK(重整表!#REF!),\"\",重整表!#REF!)","v":{"$error":"#REF!"}},{"$f":"IF(ISBLANK(重整表!#REF!),\"\",重整表!#REF!)","v":{"$error":"#REF!"}},null,null,{"$f":"IF(ISBLANK(重整表!#REF!),\"\",重整表!#REF!)","v":{"$error":"#REF!"}},null,null,{"$f":"IF(SEARCH(\"/\",重整表!#REF!)=3,LEFT(重整表!#REF!,2)+1911&MID(重整表!#REF!,3,8),LEFT(重整表!#REF!,3)+1911&MID(重整表!#REF!,4,8))","v":{"$error":"#REF!"}}]
[null,{"$f":"IF(ISBLANK(重整表!#REF!),\"\",重整表!#REF!)","v":{"$error":"#REF!"}},{"$f":"IF(ISBLANK(重整表!#REF!),\"\",IF(重整表!#REF!=\"男\",1,IF(重整表!#REF!=\"女\",2)))","v":{"$error":"#REF!"}},null,{"$f":"IF(ISERROR(VLOOKUP($B33,IF({1,0},編班結果表!$E$4:$E$303,編班結果表!$B$4:$B$303),2,)),\"\",VLOOKUP($B33,IF({1,0},編班結果表!$E$4:$E$303,編班結果表!$B$4:$B$303),2,))","v":""},{"$f":"IF(ISERROR(VLOOKUP($B33,IF({1,0},編班結果表!$E$4:$F$303,編班結果表!$C$4:$C$303),2,FALSE)),\"\",VLOOKUP($B33,IF({1,0},編班結果表!$E$4:$F$303,編班結果表!$C$4:$C$303),2,FALSE))","v":""},{"$f":"IF(SEARCH(\"/\",重整表!#REF!)=3,LEFT(重整表!#REF!,2)+1911&MID(重整表!#REF!,3,8),LEFT(重整表!#REF!,3)+1911&MID(重整表!#REF!,4,8))","v":{"$error":"#REF!"}},{"$f":"IF(ISBLANK(重整表!#REF!),\"\",重整表!#REF!)","v":{"$error":"#REF!"}},{"$f":"IF(ISBLANK(重整表!#REF!),\"\",重整表!#REF!)","v":{"$error":"#REF!"}},{"$f":"IF(ISBLANK(重整表!#REF!),\"\",重整表!#REF!)","v":{"$error":"#REF!"}},null,null,{"$f":"IF(ISBLANK(重整表!#REF!),\"\",重整表!#REF!)","v":{"$error":"#REF!"}},null,null,{"$f":"IF(SEARCH(\"/\",重整表!#REF!)=3,LEFT(重整表!#REF!,2)+1911&MID(重整表!#REF!,3,8),LEFT(重整表!#REF!,3)+1911&MID(重整表!#REF!,4,8))","v":{"$error":"#REF!"}}]
[null,{"$f":"IF(ISBLANK(重整表!#REF!),\"\",重整表!#REF!)","v":{"$error":"#REF!"}},{"$f":"IF(ISBLANK(重整表!#REF!),\"\",IF(重整表!#REF!=\"男\",1,IF(重整表!#REF!=\"女\",2)))","v":{"$error":"#REF!"}},null,{"$f":"IF(ISERROR(VLOOKUP($B34,IF({1,0},編班結果表!$E$4:$E$303,編班結果表!$B$4:$B$303),2,)),\"\",VLOOKUP($B34,IF({1,0},編班結果表!$E$4:$E$303,編班結果表!$B$4:$B$303),2,))","v":""},{"$f":"IF(ISERROR(VLOOKUP($B34,IF({1,0},編班結果表!$E$4:$F$303,編班結果表!$C$4:$C$303),2,FALSE)),\"\",VLOOKUP($B34,IF({1,0},編班結果表!$E$4:$F$303,編班結果表!$C$4:$C$303),2,FALSE))","v":""},{"$f":"IF(SEARCH(\"/\",重整表!#REF!)=3,LEFT(重整表!#REF!,2)+1911&MID(重整表!#REF!,3,8),LEFT(重整表!#REF!,3)+1911&MID(重整表!#REF!,4,8))","v":{"$error":"#REF!"}},{"$f":"IF(ISBLANK(重整表!#REF!),\"\",重整表!#REF!)","v":{"$error":"#REF!"}},{"$f":"IF(ISBLANK(重整表!#REF!),\"\",重整表!#REF!)","v":{"$error":"#REF!"}},{"$f":"IF(ISBLANK(重整表!#REF!),\"\",重整表!#REF!)","v":{"$error":"#REF!"}},null,null,{"$f":"IF(ISBLANK(重整表!#REF!),\"\",重整表!#REF!)","v":{"$error":"#REF!"}},null,null,{"$f":"IF(SEARCH(\"/\",重整表!#REF!)=3,LEFT(重整表!#REF!,2)+1911&MID(重整表!#REF!,3,8),LEFT(重整表!#REF!,3)+1911&MID(重整表!#REF!,4,8))","v":{"$error":"#REF!"}}]
[null,{"$f":"IF(ISBLANK(重整表!#REF!),\"\",重整表!#REF!)","v":{"$error":"#REF!"}},{"$f":"IF(ISBLANK(重整表!#REF!),\"\",IF(重整表!#REF!=\"男\",1,IF(重整表!#REF!=\"女\",2)))","v":{"$error":"#REF!"}},null,{"$f":"IF(ISERROR(VLOOKUP($B35,IF({1,0},編班結果表!$E$4:$E$303,編班結果表!$B$4:$B$303),2,)),\"\",VLOOKUP($B35,IF({1,0},編班結果表!$E$4:$E$303,編班結果表!$B$4:$B$303),2,))","v":""},{"$f":"IF(ISERROR(VLOOKUP($B35,IF({1,0},編班結果表!$E$4:$F$303,編班結果表!$C$4:$C$303),2,FALSE)),\"\",VLOOKUP($B35,IF({1,0},編班結果表!$E$4:$F$303,編班結果表!$C$4:$C$303),2,FALSE))","v":""},{"$f":"IF(SEARCH(\"/\",重整表!#REF!)=3,LEFT(重整表!#REF!,2)+1911&MID(重整表!#REF!,3,8),LEFT(重整表!#REF!,3)+1911&MID(重整表!#REF!,4,8))","v":{"$error":"#REF!"}},{"$f":"IF(ISBLANK(重整表!#REF!),\"\",重整表!#REF!)","v":{"$error":"#REF!"}},{"$f":"IF(ISBLANK(重整表!#REF!),\"\",重整表!#REF!)","v":{"$error":"#REF!"}},{"$f":"IF(ISBLANK(重整表!#REF!),\"\",重整表!#REF!)","v":{"$error":"#REF!"}},null,null,{"$f":"IF(ISBLANK(重整表!#REF!),\"\",重整表!#REF!)","v":{"$error":"#REF!"}},null,null,{"$f":"IF(SEARCH(\"/\",重整表!#REF!)=3,LEFT(重整表!#REF!,2)+1911&MID(重整表!#REF!,3,8),LEFT(重整表!#REF!,3)+1911&MID(重整表!#REF!,4,8))","v":{"$error":"#REF!"}}]
[null,{"$f":"IF(ISBLANK(重整表!#REF!),\"\",重整表!#REF!)","v":{"$error":"#REF!"}},{"$f":"IF(ISBLANK(重整表!#REF!),\"\",IF(重整表!#REF!=\"男\",1,IF(重整表!#REF!=\"女\",2)))","v":{"$error":"#REF!"}},null,{"$f":"IF(ISERROR(VLOOKUP($B36,IF({1,0},編班結果表!$E$4:$E$303,編班結果表!$B$4:$B$303),2,)),\"\",VLOOKUP($B36,IF({1,0},編班結果表!$E$4:$E$303,編班結果表!$B$4:$B$303),2,))","v":""},{"$f":"IF(ISERROR(VLOOKUP($B36,IF({1,0},編班結果表!$E$4:$F$303,編班結果表!$C$4:$C$303),2,FALSE)),\"\",VLOOKUP($B36,IF({1,0},編班結果表!$E$4:$F$303,編班結果表!$C$4:$C$303),2,FALSE))","v":""},{"$f":"IF(SEARCH(\"/\",重整表!#REF!)=3,LEFT(重整表!#REF!,2)+1911&MID(重整表!#REF!,3,8),LEFT(重整表!#REF!,3)+1911&MID(重整表!#REF!,4,8))","v":{"$error":"#REF!"}},{"$f":"IF(ISBLANK(重整表!#REF!),\"\",重整表!#REF!)","v":{"$error":"#REF!"}},{"$f":"IF(ISBLANK(重整表!#REF!),\"\",重整表!#REF!)","v":{"$error":"#REF!"}},{"$f":"IF(ISBLANK(重整表!#REF!),\"\",重整表!#REF!)","v":{"$error":"#REF!"}},null,null,{"$f":"IF(ISBLANK(重整表!#REF!),\"\",重整表!#REF!)","v":{"$error":"#REF!"}},null,null,{"$f":"IF(SEARCH(\"/\",重整表!#REF!)=3,LEFT(重整表!#REF!,2)+1911&MID(重整表!#REF!,3,8),LEFT(重整表!#REF!,3)+1911&MID(重整表!#REF!,4,8))","v":{"$error":"#REF!"}}]
[null,{"$f":"IF(ISBLANK(重整表!#REF!),\"\",重整表!#REF!)","v":{"$error":"#REF!"}},{"$f":"IF(ISBLANK(重整表!#REF!),\"\",IF(重整表!#REF!=\"男\",1,IF(重整表!#REF!=\"女\",2)))","v":{"$error":"#REF!"}},null,{"$f":"IF(ISERROR(VLOOKUP($B37,IF({1,0},編班結果表!$E$4:$E$303,編班結果表!$B$4:$B$303),2,)),\"\",VLOOKUP($B37,IF({1,0},編班結果表!$E$4:$E$303,編班結果表!$B$4:$B$303),2,))","v":""},{"$f":"IF(ISERROR(VLOOKUP($B37,IF({1,0},編班結果表!$E$4:$F$303,編班結果表!$C$4:$C$303),2,FALSE)),\"\",VLOOKUP($B37,IF({1,0},編班結果表!$E$4:$F$303,編班結果表!$C$4:$C$303),2,FALSE))","v":""},{"$f":"IF(SEARCH(\"/\",重整表!#REF!)=3,LEFT(重整表!#REF!,2)+1911&MID(重整表!#REF!,3,8),LEFT(重整表!#REF!,3)+1911&MID(重整表!#REF!,4,8))","v":{"$error":"#REF!"}},{"$f":"IF(ISBLANK(重整表!#REF!),\"\",重整表!#REF!)","v":{"$error":"#REF!"}},{"$f":"IF(ISBLANK(重整表!#REF!),\"\",重整表!#REF!)","v":{"$error":"#REF!"}},{"$f":"IF(ISBLANK(重整表!#REF!),\"\",重整表!#REF!)","v":{"$error":"#REF!"}},null,null,{"$f":"IF(ISBLANK(重整表!#REF!),\"\",重整表!#REF!)","v":{"$error":"#REF!"}},null,null,{"$f":"IF(SEARCH(\"/\",重整表!#REF!)=3,LEFT(重整表!#REF!,2)+1911&MID(重整表!#REF!,3,8),LEFT(重整表!#REF!,3)+1911&MID(重整表!#REF!,4,8))","v":{"$error":"#REF!"}}]
[null,{"$f":"IF(ISBLANK(重整表!#REF!),\"\",重整表!#REF!)","v":{"$error":"#REF!"}},{"$f":"IF(ISBLANK(重整表!#REF!),\"\",IF(重整表!#REF!=\"男\",1,IF(重整表!#REF!=\"女\",2)))","v":{"$error":"#REF!"}},null,{"$f":"IF(ISERROR(VLOOKUP($B38,IF({1,0},編班結果表!$E$4:$E$303,編班結果表!$B$4:$B$303),2,)),\"\",VLOOKUP($B38,IF({1,0},編班結果表!$E$4:$E$303,編班結果表!$B$4:$B$303),2,))","v":""},{"$f":"IF(ISERROR(VLOOKUP($B38,IF({1,0},編班結果表!$E$4:$F$303,編班結果表!$C$4:$C$303),2,FALSE)),\"\",VLOOKUP($B38,IF({1,0},編班結果表!$E$4:$F$303,編班結果表!$C$4:$C$303),2,FALSE))","v":""},{"$f":"IF(SEARCH(\"/\",重整表!#REF!)=3,LEFT(重整表!#REF!,2)+1911&MID(重整表!#REF!,3,8),LEFT(重整表!#REF!,3)+1911&MID(重整表!#REF!,4,8))","v":{"$error":"#REF!"}},{"$f":"IF(ISBLANK(重整表!#REF!),\"\",重整表!#REF!)","v":{"$error":"#REF!"}},{"$f":"IF(ISBLANK(重整表!#REF!),\"\",重整表!#REF!)","v":{"$error":"#REF!"}},{"$f":"IF(ISBLANK(重整表!#REF!),\"\",重整表!#REF!)","v":{"$error":"#REF!"}},null,null,{"$f":"IF(ISBLANK(重整表!#REF!),\"\",重整表!#REF!)","v":{"$error":"#REF!"}},null,null,{"$f":"IF(SEARCH(\"/\",重整表!#REF!)=3,LEFT(重整表!#REF!,2)+1911&MID(重整表!#REF!,3,8),LEFT(重整表!#REF!,3)+1911&MID(重整表!#REF!,4,8))","v":{"$error":"#REF!"}}]
[null,{"$f":"IF(ISBLANK(重整表!#REF!),\"\",重整表!#REF!)","v":{"$error":"#REF!"}},{"$f":"IF(ISBLANK(重整表!#REF!),\"\",IF(重整表!#REF!=\"男\",1,IF(重整表!#REF!=\"女\",2)))","v":{"$error":"#REF!"}},null,{"$f":"IF(ISERROR(VLOOKUP($B39,IF({1,0},編班結果表!$E$4:$E$303,編班結果表!$B$4:$B$303),2,)),\"\",VLOOKUP($B39,IF({1,0},編班結果表!$E$4:$E$303,編班結果表!$B$4:$B$303),2,))","v":""},{"$f":"IF(ISERROR(VLOOKUP($B39,IF({1,0},編班結果表!$E$4:$F$303,編班結果表!$C$4:$C$303),2,FALSE)),\"\",VLOOKUP($B39,IF({1,0},編班結果表!$E$4:$F$303,編班結果表!$C$4:$C$303),2,FALSE))","v":""},{"$f":"IF(SEARCH(\"/\",重整表!#REF!)=3,LEFT(重整表!#REF!,2)+1911&MID(重整表!#REF!,3,8),LEFT(重整表!#REF!,3)+1911&MID(重整表!#REF!,4,8))","v":{"$error":"#REF!"}},{"$f":"IF(ISBLANK(重整表!#REF!),\"\",重整表!#REF!)","v":{"$error":"#REF!"}},{"$f":"IF(ISBLANK(重整表!#REF!),\"\",重整表!#REF!)","v":{"$error":"#REF!"}},{"$f":"IF(ISBLANK(重整表!#REF!),\"\",重整表!#REF!)","v":{"$error":"#REF!"}},null,null,{"$f":"IF(ISBLANK(重整表!#REF!),\"\",重整表!#REF!)","v":{"$error":"#REF!"}},null,null,{"$f":"IF(SEARCH(\"/\",重整表!#REF!)=3,LEFT(重整表!#REF!,2)+1911&MID(重整表!#REF!,3,8),LEFT(重整表!#REF!,3)+1911&MID(重整表!#REF!,4,8))","v":{"$error":"#REF!"}}]
[null,{"$f":"IF(ISBLANK(重整表!#REF!),\"\",重整表!#REF!)","v":{"$error":"#REF!"}},{"$f":"IF(ISBLANK(重整表!#REF!),\"\",IF(重整表!#REF!=\"男\",1,IF(重整表!#REF!=\"女\",2)))","v":{"$error":"#REF!"}},null,{"$f":"IF(ISERROR(VLOOKUP($B40,IF({1,0},編班結果表!$E$4:$E$303,編班結果表!$B$4:$B$303),2,)),\"\",VLOOKUP($B40,IF({1,0},編班結果表!$E$4:$E$303,編班結果表!$B$4:$B$303),2,))","v":""},{"$f":"IF(ISERROR(VLOOKUP($B40,IF({1,0},編班結果表!$E$4:$F$303,編班結果表!$C$4:$C$303),2,FALSE)),\"\",VLOOKUP($B40,IF({1,0},編班結果表!$E$4:$F$303,編班結果表!$C$4:$C$303),2,FALSE))","v":""},{"$f":"IF(SEARCH(\"/\",重整表!#REF!)=3,LEFT(重整表!#REF!,2)+1911&MID(重整表!#REF!,3,8),LEFT(重整表!#REF!,3)+1911&MID(重整表!#REF!,4,8))","v":{"$error":"#REF!"}},{"$f":"IF(ISBLANK(重整表!#REF!),\"\",重整表!#REF!)","v":{"$error":"#REF!"}},{"$f":"IF(ISBLANK(重整表!#REF!),\"\",重整表!#REF!)","v":{"$error":"#REF!"}},{"$f":"IF(ISBLANK(重整表!#REF!),\"\",重整表!#REF!)","v":{"$error":"#REF!"}},null,null,{"$f":"IF(ISBLANK(重整表!#REF!),\"\",重整表!#REF!)","v":{"$error":"#REF!"}},null,null,{"$f":"IF(SEARCH(\"/\",重整表!#REF!)=3,LEFT(重整表!#REF!,2)+1911&MID(重整表!#REF!,3,8),LEFT(重整表!#REF!,3)+1911&MID(重整表!#REF!,4,8))","v":{"$error":"#REF!"}}]
[null,{"$f":"IF(ISBLANK(重整表!#REF!),\"\",重整表!#REF!)","v":{"$error":"#REF!"}},{"$f":"IF(ISBLANK(重整表!#REF!),\"\",IF(重整表!#REF!=\"男\",1,IF(重整表!#REF!=\"女\",2)))","v":{"$error":"#REF!"}},null,{"$f":"IF(ISERROR(VLOOKUP($B41,IF({1,0},編班結果表!$E$4:$E$303,編班結果表!$B$4:$B$303),2,)),\"\",VLOOKUP($B41,IF({1,0},編班結果表!$E$4:$E$303,編班結果表!$B$4:$B$303),2,))","v":""},{"$f":"IF(ISERROR(VLOOKUP($B41,IF({1,0},編班結果表!$E$4:$F$303,編班結果表!$C$4:$C$303),2,FALSE)),\"\",VLOOKUP($B41,IF({1,0},編班結果表!$E$4:$F$303,編班結果表!$C$4:$C$303),2,FALSE))","v":""},{"$f":"IF(SEARCH(\"/\",重整表!#REF!)=3,LEFT(重整表!#REF!,2)+1911&MID(重整表!#REF!,3,8),LEFT(重整表!#REF!,3)+1911&MID(重整表!#REF!,4,8))","v":{"$error":"#REF!"}},{"$f":"IF(ISBLANK(重整表!#REF!),\"\",重整表!#REF!)","v":{"$error":"#REF!"}},{"$f":"IF(ISBLANK(重整表!#REF!),\"\",重整表!#REF!)","v":{"$error":"#REF!"}},{"$f":"IF(ISBLANK(重整表!#REF!),\"\",重整表!#REF!)","v":{"$error":"#REF!"}},null,null,{"$f":"IF(ISBLANK(重整表!#REF!),\"\",重整表!#REF!)","v":{"$error":"#REF!"}},null,null,{"$f":"IF(SEARCH(\"/\",重整表!#REF!)=3,LEFT(重整表!#REF!,2)+1911&MID(重整表!#REF!,3,8),LEFT(重整表!#REF!,3)+1911&MID(重整表!#REF!,4,8))","v":{"$error":"#REF!"}}]
[null,{"$f":"IF(ISBLANK(重整表!#REF!),\"\",重整表!#REF!)","v":{"$error":"#REF!"}},{"$f":"IF(ISBLANK(重整表!#REF!),\"\",IF(重整表!#REF!=\"男\",1,IF(重整表!#REF!=\"女\",2)))","v":{"$error":"#REF!"}},null,{"$f":"IF(ISERROR(VLOOKUP($B42,IF({1,0},編班結果表!$E$4:$E$303,編班結果表!$B$4:$B$303),2,)),\"\",VLOOKUP($B42,IF({1,0},編班結果表!$E$4:$E$303,編班結果表!$B$4:$B$303),2,))","v":""},{"$f":"IF(ISERROR(VLOOKUP($B42,IF({1,0},編班結果表!$E$4:$F$303,編班結果表!$C$4:$C$303),2,FALSE)),\"\",VLOOKUP($B42,IF({1,0},編班結果表!$E$4:$F$303,編班結果表!$C$4:$C$303),2,FALSE))","v":""},{"$f":"IF(SEARCH(\"/\",重整表!#REF!)=3,LEFT(重整表!#REF!,2)+1911&MID(重整表!#REF!,3,8),LEFT(重整表!#REF!,3)+1911&MID(重整表!#REF!,4,8))","v":{"$error":"#REF!"}},{"$f":"IF(ISBLANK(重整表!#REF!),\"\",重整表!#REF!)","v":{"$error":"#REF!"}},{"$f":"IF(ISBLANK(重整表!#REF!),\"\",重整表!#REF!)","v":{"$error":"#REF!"}},{"$f":"IF(ISBLANK(重整表!#REF!),\"\",重整表!#REF!)","v":{"$error":"#REF!"}},null,null,{"$f":"IF(ISBLANK(重整表!#REF!),\"\",重整表!#REF!)","v":{"$error":"#REF!"}},null,null,{"$f":"IF(SEARCH(\"/\",重整表!#REF!)=3,LEFT(重整表!#REF!,2)+1911&MID(重整表!#REF!,3,8),LEFT(重整表!#REF!,3)+1911&MID(重整表!#REF!,4,8))","v":{"$error":"#REF!"}}]
[null,{"$f":"IF(ISBLANK(重整表!#REF!),\"\",重整表!#REF!)","v":{"$error":"#REF!"}},{"$f":"IF(ISBLANK(重整表!#REF!),\"\",IF(重整表!#REF!=\"男\",1,IF(重整表!#REF!=\"女\",2)))","v":{"$error":"#REF!"}},null,{"$f":"IF(ISERROR(VLOOKUP($B43,IF({1,0},編班結果表!$E$4:$E$303,編班結果表!$B$4:$B$303),2,)),\"\",VLOOKUP($B43,IF({1,0},編班結果表!$E$4:$E$303,編班結果表!$B$4:$B$303),2,))","v":""},{"$f":"IF(ISERROR(VLOOKUP($B43,IF({1,0},編班結果表!$E$4:$F$303,編班結果表!$C$4:$C$303),2,FALSE)),\"\",VLOOKUP($B43,IF({1,0},編班結果表!$E$4:$F$303,編班結果表!$C$4:$C$303),2,FALSE))","v":""},{"$f":"IF(SEARCH(\"/\",重整表!#REF!)=3,LEFT(重整表!#REF!,2)+1911&MID(重整表!#REF!,3,8),LEFT(重整表!#REF!,3)+1911&MID(重整表!#REF!,4,8))","v":{"$error":"#REF!"}},{"$f":"IF(ISBLANK(重整表!#REF!),\"\",重整表!#REF!)","v":{"$error":"#REF!"}},{"$f":"IF(ISBLANK(重整表!#REF!),\"\",重整表!#REF!)","v":{"$error":"#REF!"}},{"$f":"IF(ISBLANK(重整表!#REF!),\"\",重整表!#REF!)","v":{"$error":"#REF!"}},null,null,{"$f":"IF(ISBLANK(重整表!#REF!),\"\",重整表!#REF!)","v":{"$error":"#REF!"}},null,null,{"$f":"IF(SEARCH(\"/\",重整表!#REF!)=3,LEFT(重整表!#REF!,2)+1911&MID(重整表!#REF!,3,8),LEFT(重整表!#REF!,3)+1911&MID(重整表!#REF!,4,8))","v":{"$error":"#REF!"}}]
[null,{"$f":"IF(ISBLANK(重整表!#REF!),\"\",重整表!#REF!)","v":{"$error":"#REF!"}},{"$f":"IF(ISBLANK(重整表!#REF!),\"\",IF(重整表!#REF!=\"男\",1,IF(重整表!#REF!=\"女\",2)))","v":{"$error":"#REF!"}},null,{"$f":"IF(ISERROR(VLOOKUP($B44,IF({1,0},編班結果表!$E$4:$E$303,編班結果表!$B$4:$B$303),2,)),\"\",VLOOKUP($B44,IF({1,0},編班結果表!$E$4:$E$303,編班結果表!$B$4:$B$303),2,))","v":""},{"$f":"IF(ISERROR(VLOOKUP($B44,IF({1,0},編班結果表!$E$4:$F$303,編班結果表!$C$4:$C$303),2,FALSE)),\"\",VLOOKUP($B44,IF({1,0},編班結果表!$E$4:$F$303,編班結果表!$C$4:$C$303),2,FALSE))","v":""},{"$f":"IF(SEARCH(\"/\",重整表!#REF!)=3,LEFT(重整表!#REF!,2)+1911&MID(重整表!#REF!,3,8),LEFT(重整表!#REF!,3)+1911&MID(重整表!#REF!,4,8))","v":{"$error":"#REF!"}},{"$f":"IF(ISBLANK(重整表!#REF!),\"\",重整表!#REF!)","v":{"$error":"#REF!"}},{"$f":"IF(ISBLANK(重整表!#REF!),\"\",重整表!#REF!)","v":{"$error":"#REF!"}},{"$f":"IF(ISBLANK(重整表!#REF!),\"\",重整表!#REF!)","v":{"$error":"#REF!"}},null,null,{"$f":"IF(ISBLANK(重整表!#REF!),\"\",重整表!#REF!)","v":{"$error":"#REF!"}},null,null,{"$f":"IF(SEARCH(\"/\",重整表!#REF!)=3,LEFT(重整表!#REF!,2)+1911&MID(重整表!#REF!,3,8),LEFT(重整表!#REF!,3)+1911&MID(重整表!#REF!,4,8))","v":{"$error":"#REF!"}}]
[null,{"$f":"IF(ISBLANK(重整表!#REF!),\"\",重整表!#REF!)","v":{"$error":"#REF!"}},{"$f":"IF(ISBLANK(重整表!#REF!),\"\",IF(重整表!#REF!=\"男\",1,IF(重整表!#REF!=\"女\",2)))","v":{"$error":"#REF!"}},null,{"$f":"IF(ISERROR(VLOOKUP($B45,IF({1,0},編班結果表!$E$4:$E$303,編班結果表!$B$4:$B$303),2,)),\"\",VLOOKUP($B45,IF({1,0},編班結果表!$E$4:$E$303,編班結果表!$B$4:$B$303),2,))","v":""},{"$f":"IF(ISERROR(VLOOKUP($B45,IF({1,0},編班結果表!$E$4:$F$303,編班結果表!$C$4:$C$303),2,FALSE)),\"\",VLOOKUP($B45,IF({1,0},編班結果表!$E$4:$F$303,編班結果表!$C$4:$C$303),2,FALSE))","v":""},{"$f":"IF(SEARCH(\"/\",重整表!#REF!)=3,LEFT(重整表!#REF!,2)+1911&MID(重整表!#REF!,3,8),LEFT(重整表!#REF!,3)+1911&MID(重整表!#REF!,4,8))","v":{"$error":"#REF!"}},{"$f":"IF(ISBLANK(重整表!#REF!),\"\",重整表!#REF!)","v":{"$error":"#REF!"}},{"$f":"IF(ISBLANK(重整表!#REF!),\"\",重整表!#REF!)","v":{"$error":"#REF!"}},{"$f":"IF(ISBLANK(重整表!#REF!),\"\",重整表!#REF!)","v":{"$error":"#REF!"}},null,null,{"$f":"IF(ISBLANK(重整表!#REF!),\"\",重整表!#REF!)","v":{"$error":"#REF!"}},null,null,{"$f":"IF(SEARCH(\"/\",重整表!#REF!)=3,LEFT(重整表!#REF!,2)+1911&MID(重整表!#REF!,3,8),LEFT(重整表!#REF!,3)+1911&MID(重整表!#REF!,4,8))","v":{"$error":"#REF!"}}]
[null,{"$f":"IF(ISBLANK(重整表!#REF!),\"\",重整表!#REF!)","v":{"$error":"#REF!"}},{"$f":"IF(ISBLANK(重整表!#REF!),\"\",IF(重整表!#REF!=\"男\",1,IF(重整表!#REF!=\"女\",2)))","v":{"$error":"#REF!"}},null,{"$f":"IF(ISERROR(VLOOKUP($B46,IF({1,0},編班結果表!$E$4:$E$303,編班結果表!$B$4:$B$303),2,)),\"\",VLOOKUP($B46,IF({1,0},編班結果表!$E$4:$E$303,編班結果表!$B$4:$B$303),2,))","v":""},{"$f":"IF(ISERROR(VLOOKUP($B46,IF({1,0},編班結果表!$E$4:$F$303,編班結果表!$C$4:$C$303),2,FALSE)),\"\",VLOOKUP($B46,IF({1,0},編班結果表!$E$4:$F$303,編班結果表!$C$4:$C$303),2,FALSE))","v":""},{"$f":"IF(SEARCH(\"/\",重整表!#REF!)=3,LEFT(重整表!#REF!,2)+1911&MID(重整表!#REF!,3,8),LEFT(重整表!#REF!,3)+1911&MID(重整表!#REF!,4,8))","v":{"$error":"#REF!"}},{"$f":"IF(ISBLANK(重整表!#REF!),\"\",重整表!#REF!)","v":{"$error":"#REF!"}},{"$f":"IF(ISBLANK(重整表!#REF!),\"\",重整表!#REF!)","v":{"$error":"#REF!"}},{"$f":"IF(ISBLANK(重整表!#REF!),\"\",重整表!#REF!)","v":{"$error":"#REF!"}},null,null,{"$f":"IF(ISBLANK(重整表!#REF!),\"\",重整表!#REF!)","v":{"$error":"#REF!"}},null,null,{"$f":"IF(SEARCH(\"/\",重整表!#REF!)=3,LEFT(重整表!#REF!,2)+1911&MID(重整表!#REF!,3,8),LEFT(重整表!#REF!,3)+1911&MID(重整表!#REF!,4,8))","v":{"$error":"#REF!"}}]
[null,{"$f":"IF(ISBLANK(重整表!#REF!),\"\",重整表!#REF!)","v":{"$error":"#REF!"}},{"$f":"IF(ISBLANK(重整表!#REF!),\"\",IF(重整表!#REF!=\"男\",1,IF(重整表!#REF!=\"女\",2)))","v":{"$error":"#REF!"}},null,{"$f":"IF(ISERROR(VLOOKUP($B47,IF({1,0},編班結果表!$E$4:$E$303,編班結果表!$B$4:$B$303),2,)),\"\",VLOOKUP($B47,IF({1,0},編班結果表!$E$4:$E$303,編班結果表!$B$4:$B$303),2,))","v":""},{"$f":"IF(ISERROR(VLOOKUP($B47,IF({1,0},編班結果表!$E$4:$F$303,編班結果表!$C$4:$C$303),2,FALSE)),\"\",VLOOKUP($B47,IF({1,0},編班結果表!$E$4:$F$303,編班結果表!$C$4:$C$303),2,FALSE))","v":""},{"$f":"IF(SEARCH(\"/\",重整表!#REF!)=3,LEFT(重整表!#REF!,2)+1911&MID(重整表!#REF!,3,8),LEFT(重整表!#REF!,3)+1911&MID(重整表!#REF!,4,8))","v":{"$error":"#REF!"}},{"$f":"IF(ISBLANK(重整表!#REF!),\"\",重整表!#REF!)","v":{"$error":"#REF!"}},{"$f":"IF(ISBLANK(重整表!#REF!),\"\",重整表!#REF!)","v":{"$error":"#REF!"}},{"$f":"IF(ISBLANK(重整表!#REF!),\"\",重整表!#REF!)","v":{"$error":"#REF!"}},null,null,{"$f":"IF(ISBLANK(重整表!#REF!),\"\",重整表!#REF!)","v":{"$error":"#REF!"}},null,null,{"$f":"IF(SEARCH(\"/\",重整表!#REF!)=3,LEFT(重整表!#REF!,2)+1911&MID(重整表!#REF!,3,8),LEFT(重整表!#REF!,3)+1911&MID(重整表!#REF!,4,8))","v":{"$error":"#REF!"}}]
[null,{"$f":"IF(ISBLANK(重整表!#REF!),\"\",重整表!#REF!)","v":{"$error":"#REF!"}},{"$f":"IF(ISBLANK(重整表!#REF!),\"\",IF(重整表!#REF!=\"男\",1,IF(重整表!#REF!=\"女\",2)))","v":{"$error":"#REF!"}},null,{"$f":"IF(ISERROR(VLOOKUP($B48,IF({1,0},編班結果表!$E$4:$E$303,編班結果表!$B$4:$B$303),2,)),\"\",VLOOKUP($B48,IF({1,0},編班結果表!$E$4:$E$303,編班結果表!$B$4:$B$303),2,))","v":""},{"$f":"IF(ISERROR(VLOOKUP($B48,IF({1,0},編班結果表!$E$4:$F$303,編班結果表!$C$4:$C$303),2,FALSE)),\"\",VLOOKUP($B48,IF({1,0},編班結果表!$E$4:$F$303,編班結果表!$C$4:$C$303),2,FALSE))","v":""},{"$f":"IF(SEARCH(\"/\",重整表!#REF!)=3,LEFT(重整表!#REF!,2)+1911&MID(重整表!#REF!,3,8),LEFT(重整表!#REF!,3)+1911&MID(重整表!#REF!,4,8))","v":{"$error":"#REF!"}},{"$f":"IF(ISBLANK(重整表!#REF!),\"\",重整表!#REF!)","v":{"$error":"#REF!"}},{"$f":"IF(ISBLANK(重整表!#REF!),\"\",重整表!#REF!)","v":{"$error":"#REF!"}},{"$f":"IF(ISBLANK(重整表!#REF!),\"\",重整表!#REF!)","v":{"$error":"#REF!"}},null,null,{"$f":"IF(ISBLANK(重整表!#REF!),\"\",重整表!#REF!)","v":{"$error":"#REF!"}},null,null,{"$f":"IF(SEARCH(\"/\",重整表!#REF!)=3,LEFT(重整表!#REF!,2)+1911&MID(重整表!#REF!,3,8),LEFT(重整表!#REF!,3)+1911&MID(重整表!#REF!,4,8))","v":{"$error":"#REF!"}}]
[null,{"$f":"IF(ISBLANK(重整表!#REF!),\"\",重整表!#REF!)","v":{"$error":"#REF!"}},{"$f":"IF(ISBLANK(重整表!#REF!),\"\",IF(重整表!#REF!=\"男\",1,IF(重整表!#REF!=\"女\",2)))","v":{"$error":"#REF!"}},null,{"$f":"IF(ISERROR(VLOOKUP($B49,IF({1,0},編班結果表!$E$4:$E$303,編班結果表!$B$4:$B$303),2,)),\"\",VLOOKUP($B49,IF({1,0},編班結果表!$E$4:$E$303,編班結果表!$B$4:$B$303),2,))","v":""},{"$f":"IF(ISERROR(VLOOKUP($B49,IF({1,0},編班結果表!$E$4:$F$303,編班結果表!$C$4:$C$303),2,FALSE)),\"\",VLOOKUP($B49,IF({1,0},編班結果表!$E$4:$F$303,編班結果表!$C$4:$C$303),2,FALSE))","v":""},{"$f":"IF(SEARCH(\"/\",重整表!#REF!)=3,LEFT(重整表!#REF!,2)+1911&MID(重整表!#REF!,3,8),LEFT(重整表!#REF!,3)+1911&MID(重整表!#REF!,4,8))","v":{"$error":"#REF!"}},{"$f":"IF(ISBLANK(重整表!#REF!),\"\",重整表!#REF!)","v":{"$error":"#REF!"}},{"$f":"IF(ISBLANK(重整表!#REF!),\"\",重整表!#REF!)","v":{"$error":"#REF!"}},{"$f":"IF(ISBLANK(重整表!#REF!),\"\",重整表!#REF!)","v":{"$error":"#REF!"}},null,null,{"$f":"IF(ISBLANK(重整表!#REF!),\"\",重整表!#REF!)","v":{"$error":"#REF!"}},null,null,{"$f":"IF(SEARCH(\"/\",重整表!#REF!)=3,LEFT(重整表!#REF!,2)+1911&MID(重整表!#REF!,3,8),LEFT(重整表!#REF!,3)+1911&MID(重整表!#REF!,4,8))","v":{"$error":"#REF!"}}]
[null,{"$f":"IF(ISBLANK(重整表!#REF!),\"\",重整表!#REF!)","v":{"$error":"#REF!"}},{"$f":"IF(ISBLANK(重整表!#REF!),\"\",IF(重整表!#REF!=\"男\",1,IF(重整表!#REF!=\"女\",2)))","v":{"$error":"#REF!"}},null,{"$f":"IF(ISERROR(VLOOKUP($B50,IF({1,0},編班結果表!$E$4:$E$303,編班結果表!$B$4:$B$303),2,)),\"\",VLOOKUP($B50,IF({1,0},編班結果表!$E$4:$E$303,編班結果表!$B$4:$B$303),2,))","v":""},{"$f":"IF(ISERROR(VLOOKUP($B50,IF({1,0},編班結果表!$E$4:$F$303,編班結果表!$C$4:$C$303),2,FALSE)),\"\",VLOOKUP($B50,IF({1,0},編班結果表!$E$4:$F$303,編班結果表!$C$4:$C$303),2,FALSE))","v":""},{"$f":"IF(SEARCH(\"/\",重整表!#REF!)=3,LEFT(重整表!#REF!,2)+1911&MID(重整表!#REF!,3,8),LEFT(重整表!#REF!,3)+1911&MID(重整表!#REF!,4,8))","v":{"$error":"#REF!"}},{"$f":"IF(ISBLANK(重整表!#REF!),\"\",重整表!#REF!)","v":{"$error":"#REF!"}},{"$f":"IF(ISBLANK(重整表!#REF!),\"\",重整表!#REF!)","v":{"$error":"#REF!"}},{"$f":"IF(ISBLANK(重整表!#REF!),\"\",重整表!#REF!)","v":{"$error":"#REF!"}},null,null,{"$f":"IF(ISBLANK(重整表!#REF!),\"\",重整表!#REF!)","v":{"$error":"#REF!"}},null,null,{"$f":"IF(SEARCH(\"/\",重整表!#REF!)=3,LEFT(重整表!#REF!,2)+1911&MID(重整表!#REF!,3,8),LEFT(重整表!#REF!,3)+1911&MID(重整表!#REF!,4,8))","v":{"$error":"#REF!"}}]
[null,{"$f":"IF(ISBLANK(重整表!#REF!),\"\",重整表!#REF!)","v":{"$error":"#REF!"}},{"$f":"IF(ISBLANK(重整表!#REF!),\"\",IF(重整表!#REF!=\"男\",1,IF(重整表!#REF!=\"女\",2)))","v":{"$error":"#REF!"}},null,{"$f":"IF(ISERROR(VLOOKUP($B51,IF({1,0},編班結果表!$E$4:$E$303,編班結果表!$B$4:$B$303),2,)),\"\",VLOOKUP($B51,IF({1,0},編班結果表!$E$4:$E$303,編班結果表!$B$4:$B$303),2,))","v":""},{"$f":"IF(ISERROR(VLOOKUP($B51,IF({1,0},編班結果表!$E$4:$F$303,編班結果表!$C$4:$C$303),2,FALSE)),\"\",VLOOKUP($B51,IF({1,0},編班結果表!$E$4:$F$303,編班結果表!$C$4:$C$303),2,FALSE))","v":""},{"$f":"IF(SEARCH(\"/\",重整表!#REF!)=3,LEFT(重整表!#REF!,2)+1911&MID(重整表!#REF!,3,8),LEFT(重整表!#REF!,3)+1911&MID(重整表!#REF!,4,8))","v":{"$error":"#REF!"}},{"$f":"IF(ISBLANK(重整表!#REF!),\"\",重整表!#REF!)","v":{"$error":"#REF!"}},{"$f":"IF(ISBLANK(重整表!#REF!),\"\",重整表!#REF!)","v":{"$error":"#REF!"}},{"$f":"IF(ISBLANK(重整表!#REF!),\"\",重整表!#REF!)","v":{"$error":"#REF!"}},null,null,{"$f":"IF(ISBLANK(重整表!#REF!),\"\",重整表!#REF!)","v":{"$error":"#REF!"}},null,null,{"$f":"IF(SEARCH(\"/\",重整表!#REF!)=3,LEFT(重整表!#REF!,2)+1911&MID(重整表!#REF!,3,8),LEFT(重整表!#REF!,3)+1911&MID(重整表!#REF!,4,8))","v":{"$error":"#REF!"}}]
[null,{"$f":"IF(ISBLANK(重整表!#REF!),\"\",重整表!#REF!)","v":{"$error":"#REF!"}},{"$f":"IF(ISBLANK(重整表!#REF!),\"\",IF(重整表!#REF!=\"男\",1,IF(重整表!#REF!=\"女\",2)))","v":{"$error":"#REF!"}},null,{"$f":"IF(ISERROR(VLOOKUP($B52,IF({1,0},編班結果表!$E$4:$E$303,編班結果表!$B$4:$B$303),2,)),\"\",VLOOKUP($B52,IF({1,0},編班結果表!$E$4:$E$303,編班結果表!$B$4:$B$303),2,))","v":""},{"$f":"IF(ISERROR(VLOOKUP($B52,IF({1,0},編班結果表!$E$4:$F$303,編班結果表!$C$4:$C$303),2,FALSE)),\"\",VLOOKUP($B52,IF({1,0},編班結果表!$E$4:$F$303,編班結果表!$C$4:$C$303),2,FALSE))","v":""},{"$f":"IF(SEARCH(\"/\",重整表!#REF!)=3,LEFT(重整表!#REF!,2)+1911&MID(重整表!#REF!,3,8),LEFT(重整表!#REF!,3)+1911&MID(重整表!#REF!,4,8))","v":{"$error":"#REF!"}},{"$f":"IF(ISBLANK(重整表!#REF!),\"\",重整表!#REF!)","v":{"$error":"#REF!"}},{"$f":"IF(ISBLANK(重整表!#REF!),\"\",重整表!#REF!)","v":{"$error":"#REF!"}},{"$f":"IF(ISBLANK(重整表!#REF!),\"\",重整表!#REF!)","v":{"$error":"#REF!"}},null,null,{"$f":"IF(ISBLANK(重整表!#REF!),\"\",重整表!#REF!)","v":{"$error":"#REF!"}},null,null,{"$f":"IF(SEARCH(\"/\",重整表!#REF!)=3,LEFT(重整表!#REF!,2)+1911&MID(重整表!#REF!,3,8),LEFT(重整表!#REF!,3)+1911&MID(重整表!#REF!,4,8))","v":{"$error":"#REF!"}}]
[null,{"$f":"IF(ISBLANK(重整表!#REF!),\"\",重整表!#REF!)","v":{"$error":"#REF!"}},{"$f":"IF(ISBLANK(重整表!#REF!),\"\",IF(重整表!#REF!=\"男\",1,IF(重整表!#REF!=\"女\",2)))","v":{"$error":"#REF!"}},null,{"$f":"IF(ISERROR(VLOOKUP($B53,IF({1,0},編班結果表!$E$4:$E$303,編班結果表!$B$4:$B$303),2,)),\"\",VLOOKUP($B53,IF({1,0},編班結果表!$E$4:$E$303,編班結果表!$B$4:$B$303),2,))","v":""},{"$f":"IF(ISERROR(VLOOKUP($B53,IF({1,0},編班結果表!$E$4:$F$303,編班結果表!$C$4:$C$303),2,FALSE)),\"\",VLOOKUP($B53,IF({1,0},編班結果表!$E$4:$F$303,編班結果表!$C$4:$C$303),2,FALSE))","v":""},{"$f":"IF(SEARCH(\"/\",重整表!#REF!)=3,LEFT(重整表!#REF!,2)+1911&MID(重整表!#REF!,3,8),LEFT(重整表!#REF!,3)+1911&MID(重整表!#REF!,4,8))","v":{"$error":"#REF!"}},{"$f":"IF(ISBLANK(重整表!#REF!),\"\",重整表!#REF!)","v":{"$error":"#REF!"}},{"$f":"IF(ISBLANK(重整表!#REF!),\"\",重整表!#REF!)","v":{"$error":"#REF!"}},{"$f":"IF(ISBLANK(重整表!#REF!),\"\",重整表!#REF!)","v":{"$error":"#REF!"}},null,null,{"$f":"IF(ISBLANK(重整表!#REF!),\"\",重整表!#REF!)","v":{"$error":"#REF!"}},null,null,{"$f":"IF(SEARCH(\"/\",重整表!#REF!)=3,LEFT(重整表!#REF!,2)+1911&MID(重整表!#REF!,3,8),LEFT(重整表!#REF!,3)+1911&MID(重整表!#REF!,4,8))","v":{"$error":"#REF!"}}]
[null,{"$f":"IF(ISBLANK(重整表!#REF!),\"\",重整表!#REF!)","v":{"$error":"#REF!"}},{"$f":"IF(ISBLANK(重整表!#REF!),\"\",IF(重整表!#REF!=\"男\",1,IF(重整表!#REF!=\"女\",2)))","v":{"$error":"#REF!"}},null,{"$f":"IF(ISERROR(VLOOKUP($B54,IF({1,0},編班結果表!$E$4:$E$303,編班結果表!$B$4:$B$303),2,)),\"\",VLOOKUP($B54,IF({1,0},編班結果表!$E$4:$E$303,編班結果表!$B$4:$B$303),2,))","v":""},{"$f":"IF(ISERROR(VLOOKUP($B54,IF({1,0},編班結果表!$E$4:$F$303,編班結果表!$C$4:$C$303),2,FALSE)),\"\",VLOOKUP($B54,IF({1,0},編班結果表!$E$4:$F$303,編班結果表!$C$4:$C$303),2,FALSE))","v":""},{"$f":"IF(SEARCH(\"/\",重整表!#REF!)=3,LEFT(重整表!#REF!,2)+1911&MID(重整表!#REF!,3,8),LEFT(重整表!#REF!,3)+1911&MID(重整表!#REF!,4,8))","v":{"$error":"#REF!"}},{"$f":"IF(ISBLANK(重整表!#REF!),\"\",重整表!#REF!)","v":{"$error":"#REF!"}},{"$f":"IF(ISBLANK(重整表!#REF!),\"\",重整表!#REF!)","v":{"$error":"#REF!"}},{"$f":"IF(ISBLANK(重整表!#REF!),\"\",重整表!#REF!)","v":{"$error":"#REF!"}},null,null,{"$f":"IF(ISBLANK(重整表!#REF!),\"\",重整表!#REF!)","v":{"$error":"#REF!"}},null,null,{"$f":"IF(SEARCH(\"/\",重整表!#REF!)=3,LEFT(重整表!#REF!,2)+1911&MID(重整表!#REF!,3,8),LEFT(重整表!#REF!,3)+1911&MID(重整表!#REF!,4,8))","v":{"$error":"#REF!"}}]
[null,{"$f":"IF(ISBLANK(重整表!#REF!),\"\",重整表!#REF!)","v":{"$error":"#REF!"}},{"$f":"IF(ISBLANK(重整表!#REF!),\"\",IF(重整表!#REF!=\"男\",1,IF(重整表!#REF!=\"女\",2)))","v":{"$error":"#REF!"}},null,{"$f":"IF(ISERROR(VLOOKUP($B55,IF({1,0},編班結果表!$E$4:$E$303,編班結果表!$B$4:$B$303),2,)),\"\",VLOOKUP($B55,IF({1,0},編班結果表!$E$4:$E$303,編班結果表!$B$4:$B$303),2,))","v":""},{"$f":"IF(ISERROR(VLOOKUP($B55,IF({1,0},編班結果表!$E$4:$F$303,編班結果表!$C$4:$C$303),2,FALSE)),\"\",VLOOKUP($B55,IF({1,0},編班結果表!$E$4:$F$303,編班結果表!$C$4:$C$303),2,FALSE))","v":""},{"$f":"IF(SEARCH(\"/\",重整表!#REF!)=3,LEFT(重整表!#REF!,2)+1911&MID(重整表!#REF!,3,8),LEFT(重整表!#REF!,3)+1911&MID(重整表!#REF!,4,8))","v":{"$error":"#REF!"}},{"$f":"IF(ISBLANK(重整表!#REF!),\"\",重整表!#REF!)","v":{"$error":"#REF!"}},{"$f":"IF(ISBLANK(重整表!#REF!),\"\",重整表!#REF!)","v":{"$error":"#REF!"}},{"$f":"IF(ISBLANK(重整表!#REF!),\"\",重整表!#REF!)","v":{"$error":"#REF!"}},null,null,{"$f":"IF(ISBLANK(重整表!#REF!),\"\",重整表!#REF!)","v":{"$error":"#REF!"}},null,null,{"$f":"IF(SEARCH(\"/\",重整表!#REF!)=3,LEFT(重整表!#REF!,2)+1911&MID(重整表!#REF!,3,8),LEFT(重整表!#REF!,3)+1911&MID(重整表!#REF!,4,8))","v":{"$error":"#REF!"}}]
[null,{"$f":"IF(ISBLANK(重整表!#REF!),\"\",重整表!#REF!)","v":{"$error":"#REF!"}},{"$f":"IF(ISBLANK(重整表!#REF!),\"\",IF(重整表!#REF!=\"男\",1,IF(重整表!#REF!=\"女\",2)))","v":{"$error":"#REF!"}},null,{"$f":"IF(ISERROR(VLOOKUP($B56,IF({1,0},編班結果表!$E$4:$E$303,編班結果表!$B$4:$B$303),2,)),\"\",VLOOKUP($B56,IF({1,0},編班結果表!$E$4:$E$303,編班結果表!$B$4:$B$303),2,))","v":""},{"$f":"IF(ISERROR(VLOOKUP($B56,IF({1,0},編班結果表!$E$4:$F$303,編班結果表!$C$4:$C$303),2,FALSE)),\"\",VLOOKUP($B56,IF({1,0},編班結果表!$E$4:$F$303,編班結果表!$C$4:$C$303),2,FALSE))","v":""},{"$f":"IF(SEARCH(\"/\",重整表!#REF!)=3,LEFT(重整表!#REF!,2)+1911&MID(重整表!#REF!,3,8),LEFT(重整表!#REF!,3)+1911&MID(重整表!#REF!,4,8))","v":{"$error":"#REF!"}},{"$f":"IF(ISBLANK(重整表!#REF!),\"\",重整表!#REF!)","v":{"$error":"#REF!"}},{"$f":"IF(ISBLANK(重整表!#REF!),\"\",重整表!#REF!)","v":{"$error":"#REF!"}},{"$f":"IF(ISBLANK(重整表!#REF!),\"\",重整表!#REF!)","v":{"$error":"#REF!"}},null,null,{"$f":"IF(ISBLANK(重整表!#REF!),\"\",重整表!#REF!)","v":{"$error":"#REF!"}},null,null,{"$f":"IF(SEARCH(\"/\",重整表!#REF!)=3,LEFT(重整表!#REF!,2)+1911&MID(重整表!#REF!,3,8),LEFT(重整表!#REF!,3)+1911&MID(重整表!#REF!,4,8))","v":{"$error":"#REF!"}}]
[null,{"$f":"IF(ISBLANK(重整表!#REF!),\"\",重整表!#REF!)","v":{"$error":"#REF!"}},{"$f":"IF(ISBLANK(重整表!#REF!),\"\",IF(重整表!#REF!=\"男\",1,IF(重整表!#REF!=\"女\",2)))","v":{"$error":"#REF!"}},null,{"$f":"IF(ISERROR(VLOOKUP($B57,IF({1,0},編班結果表!$E$4:$E$303,編班結果表!$B$4:$B$303),2,)),\"\",VLOOKUP($B57,IF({1,0},編班結果表!$E$4:$E$303,編班結果表!$B$4:$B$303),2,))","v":""},{"$f":"IF(ISERROR(VLOOKUP($B57,IF({1,0},編班結果表!$E$4:$F$303,編班結果表!$C$4:$C$303),2,FALSE)),\"\",VLOOKUP($B57,IF({1,0},編班結果表!$E$4:$F$303,編班結果表!$C$4:$C$303),2,FALSE))","v":""},{"$f":"IF(SEARCH(\"/\",重整表!#REF!)=3,LEFT(重整表!#REF!,2)+1911&MID(重整表!#REF!,3,8),LEFT(重整表!#REF!,3)+1911&MID(重整表!#REF!,4,8))","v":{"$error":"#REF!"}},{"$f":"IF(ISBLANK(重整表!#REF!),\"\",重整表!#REF!)","v":{"$error":"#REF!"}},{"$f":"IF(ISBLANK(重整表!#REF!),\"\",重整表!#REF!)","v":{"$error":"#REF!"}},{"$f":"IF(ISBLANK(重整表!#REF!),\"\",重整表!#REF!)","v":{"$error":"#REF!"}},null,null,{"$f":"IF(ISBLANK(重整表!#REF!),\"\",重整表!#REF!)","v":{"$error":"#REF!"}},null,null,{"$f":"IF(SEARCH(\"/\",重整表!#REF!)=3,LEFT(重整表!#REF!,2)+1911&MID(重整表!#REF!,3,8),LEFT(重整表!#REF!,3)+1911&MID(重整表!#REF!,4,8))","v":{"$error":"#REF!"}}]
[null,{"$f":"IF(ISBLANK(重整表!#REF!),\"\",重整表!#REF!)","v":{"$error":"#REF!"}},{"$f":"IF(ISBLANK(重整表!#REF!),\"\",IF(重整表!#REF!=\"男\",1,IF(重整表!#REF!=\"女\",2)))","v":{"$error":"#REF!"}},null,{"$f":"IF(ISERROR(VLOOKUP($B58,IF({1,0},編班結果表!$E$4:$E$303,編班結果表!$B$4:$B$303),2,)),\"\",VLOOKUP($B58,IF({1,0},編班結果表!$E$4:$E$303,編班結果表!$B$4:$B$303),2,))","v":""},{"$f":"IF(ISERROR(VLOOKUP($B58,IF({1,0},編班結果表!$E$4:$F$303,編班結果表!$C$4:$C$303),2,FALSE)),\"\",VLOOKUP($B58,IF({1,0},編班結果表!$E$4:$F$303,編班結果表!$C$4:$C$303),2,FALSE))","v":""},{"$f":"IF(SEARCH(\"/\",重整表!#REF!)=3,LEFT(重整表!#REF!,2)+1911&MID(重整表!#REF!,3,8),LEFT(重整表!#REF!,3)+1911&MID(重整表!#REF!,4,8))","v":{"$error":"#REF!"}},{"$f":"IF(ISBLANK(重整表!#REF!),\"\",重整表!#REF!)","v":{"$error":"#REF!"}},{"$f":"IF(ISBLANK(重整表!#REF!),\"\",重整表!#REF!)","v":{"$error":"#REF!"}},{"$f":"IF(ISBLANK(重整表!#REF!),\"\",重整表!#REF!)","v":{"$error":"#REF!"}},null,null,{"$f":"IF(ISBLANK(重整表!#REF!),\"\",重整表!#REF!)","v":{"$error":"#REF!"}},null,null,{"$f":"IF(SEARCH(\"/\",重整表!#REF!)=3,LEFT(重整表!#REF!,2)+1911&MID(重整表!#REF!,3,8),LEFT(重整表!#REF!,3)+1911&MID(重整表!#REF!,4,8))","v":{"$error":"#REF!"}}]
[null,{"$f":"IF(ISBLANK(重整表!#REF!),\"\",重整表!#REF!)","v":{"$error":"#REF!"}},{"$f":"IF(ISBLANK(重整表!#REF!),\"\",IF(重整表!#REF!=\"男\",1,IF(重整表!#REF!=\"女\",2)))","v":{"$error":"#REF!"}},null,{"$f":"IF(ISERROR(VLOOKUP($B59,IF({1,0},編班結果表!$E$4:$E$303,編班結果表!$B$4:$B$303),2,)),\"\",VLOOKUP($B59,IF({1,0},編班結果表!$E$4:$E$303,編班結果表!$B$4:$B$303),2,))","v":""},{"$f":"IF(ISERROR(VLOOKUP($B59,IF({1,0},編班結果表!$E$4:$F$303,編班結果表!$C$4:$C$303),2,FALSE)),\"\",VLOOKUP($B59,IF({1,0},編班結果表!$E$4:$F$303,編班結果表!$C$4:$C$303),2,FALSE))","v":""},{"$f":"IF(SEARCH(\"/\",重整表!#REF!)=3,LEFT(重整表!#REF!,2)+1911&MID(重整表!#REF!,3,8),LEFT(重整表!#REF!,3)+1911&MID(重整表!#REF!,4,8))","v":{"$error":"#REF!"}},{"$f":"IF(ISBLANK(重整表!#REF!),\"\",重整表!#REF!)","v":{"$error":"#REF!"}},{"$f":"IF(ISBLANK(重整表!#REF!),\"\",重整表!#REF!)","v":{"$error":"#REF!"}},{"$f":"IF(ISBLANK(重整表!#REF!),\"\",重整表!#REF!)","v":{"$error":"#REF!"}},null,null,{"$f":"IF(ISBLANK(重整表!#REF!),\"\",重整表!#REF!)","v":{"$error":"#REF!"}},null,null,{"$f":"IF(SEARCH(\"/\",重整表!#REF!)=3,LEFT(重整表!#REF!,2)+1911&MID(重整表!#REF!,3,8),LEFT(重整表!#REF!,3)+1911&MID(重整表!#REF!,4,8))","v":{"$error":"#REF!"}}]
[null,{"$f":"IF(ISBLANK(重整表!#REF!),\"\",重整表!#REF!)","v":{"$error":"#REF!"}},{"$f":"IF(ISBLANK(重整表!#REF!),\"\",IF(重整表!#REF!=\"男\",1,IF(重整表!#REF!=\"女\",2)))","v":{"$error":"#REF!"}},null,{"$f":"IF(ISERROR(VLOOKUP($B60,IF({1,0},編班結果表!$E$4:$E$303,編班結果表!$B$4:$B$303),2,)),\"\",VLOOKUP($B60,IF({1,0},編班結果表!$E$4:$E$303,編班結果表!$B$4:$B$303),2,))","v":""},{"$f":"IF(ISERROR(VLOOKUP($B60,IF({1,0},編班結果表!$E$4:$F$303,編班結果表!$C$4:$C$303),2,FALSE)),\"\",VLOOKUP($B60,IF({1,0},編班結果表!$E$4:$F$303,編班結果表!$C$4:$C$303),2,FALSE))","v":""},{"$f":"IF(SEARCH(\"/\",重整表!#REF!)=3,LEFT(重整表!#REF!,2)+1911&MID(重整表!#REF!,3,8),LEFT(重整表!#REF!,3)+1911&MID(重整表!#REF!,4,8))","v":{"$error":"#REF!"}},{"$f":"IF(ISBLANK(重整表!#REF!),\"\",重整表!#REF!)","v":{"$error":"#REF!"}},{"$f":"IF(ISBLANK(重整表!#REF!),\"\",重整表!#REF!)","v":{"$error":"#REF!"}},{"$f":"IF(ISBLANK(重整表!#REF!),\"\",重整表!#REF!)","v":{"$error":"#REF!"}},null,null,{"$f":"IF(ISBLANK(重整表!#REF!),\"\",重整表!#REF!)","v":{"$error":"#REF!"}},null,null,{"$f":"IF(SEARCH(\"/\",重整表!#REF!)=3,LEFT(重整表!#REF!,2)+1911&MID(重整表!#REF!,3,8),LEFT(重整表!#REF!,3)+1911&MID(重整表!#REF!,4,8))","v":{"$error":"#REF!"}}]
[null,{"$f":"IF(ISBLANK(重整表!#REF!),\"\",重整表!#REF!)","v":{"$error":"#REF!"}},{"$f":"IF(ISBLANK(重整表!#REF!),\"\",IF(重整表!#REF!=\"男\",1,IF(重整表!#REF!=\"女\",2)))","v":{"$error":"#REF!"}},null,{"$f":"IF(ISERROR(VLOOKUP($B61,IF({1,0},編班結果表!$E$4:$E$303,編班結果表!$B$4:$B$303),2,)),\"\",VLOOKUP($B61,IF({1,0},編班結果表!$E$4:$E$303,編班結果表!$B$4:$B$303),2,))","v":""},{"$f":"IF(ISERROR(VLOOKUP($B61,IF({1,0},編班結果表!$E$4:$F$303,編班結果表!$C$4:$C$303),2,FALSE)),\"\",VLOOKUP($B61,IF({1,0},編班結果表!$E$4:$F$303,編班結果表!$C$4:$C$303),2,FALSE))","v":""},{"$f":"IF(SEARCH(\"/\",重整表!#REF!)=3,LEFT(重整表!#REF!,2)+1911&MID(重整表!#REF!,3,8),LEFT(重整表!#REF!,3)+1911&MID(重整表!#REF!,4,8))","v":{"$error":"#REF!"}},{"$f":"IF(ISBLANK(重整表!#REF!),\"\",重整表!#REF!)","v":{"$error":"#REF!"}},{"$f":"IF(ISBLANK(重整表!#REF!),\"\",重整表!#REF!)","v":{"$error":"#REF!"}},{"$f":"IF(ISBLANK(重整表!#REF!),\"\",重整表!#REF!)","v":{"$error":"#REF!"}},null,null,{"$f":"IF(ISBLANK(重整表!#REF!),\"\",重整表!#REF!)","v":{"$error":"#REF!"}},null,null,{"$f":"IF(SEARCH(\"/\",重整表!#REF!)=3,LEFT(重整表!#REF!,2)+1911&MID(重整表!#REF!,3,8),LEFT(重整表!#REF!,3)+1911&MID(重整表!#REF!,4,8))","v":{"$error":"#REF!"}}]
[null,{"$f":"IF(ISBLANK(重整表!#REF!),\"\",重整表!#REF!)","v":{"$error":"#REF!"}},{"$f":"IF(ISBLANK(重整表!#REF!),\"\",IF(重整表!#REF!=\"男\",1,IF(重整表!#REF!=\"女\",2)))","v":{"$error":"#REF!"}},null,{"$f":"IF(ISERROR(VLOOKUP($B62,IF({1,0},編班結果表!$E$4:$E$303,編班結果表!$B$4:$B$303),2,)),\"\",VLOOKUP($B62,IF({1,0},編班結果表!$E$4:$E$303,編班結果表!$B$4:$B$303),2,))","v":""},{"$f":"IF(ISERROR(VLOOKUP($B62,IF({1,0},編班結果表!$E$4:$F$303,編班結果表!$C$4:$C$303),2,FALSE)),\"\",VLOOKUP($B62,IF({1,0},編班結果表!$E$4:$F$303,編班結果表!$C$4:$C$303),2,FALSE))","v":""},{"$f":"IF(SEARCH(\"/\",重整表!#REF!)=3,LEFT(重整表!#REF!,2)+1911&MID(重整表!#REF!,3,8),LEFT(重整表!#REF!,3)+1911&MID(重整表!#REF!,4,8))","v":{"$error":"#REF!"}},{"$f":"IF(ISBLANK(重整表!#REF!),\"\",重整表!#REF!)","v":{"$error":"#REF!"}},{"$f":"IF(ISBLANK(重整表!#REF!),\"\",重整表!#REF!)","v":{"$error":"#REF!"}},{"$f":"IF(ISBLANK(重整表!#REF!),\"\",重整表!#REF!)","v":{"$error":"#REF!"}},null,null,{"$f":"IF(ISBLANK(重整表!#REF!),\"\",重整表!#REF!)","v":{"$error":"#REF!"}},null,null,{"$f":"IF(SEARCH(\"/\",重整表!#REF!)=3,LEFT(重整表!#REF!,2)+1911&MID(重整表!#REF!,3,8),LEFT(重整表!#REF!,3)+1911&MID(重整表!#REF!,4,8))","v":{"$error":"#REF!"}}]
[null,{"$f":"IF(ISBLANK(重整表!#REF!),\"\",重整表!#REF!)","v":{"$error":"#REF!"}},{"$f":"IF(ISBLANK(重整表!#REF!),\"\",IF(重整表!#REF!=\"男\",1,IF(重整表!#REF!=\"女\",2)))","v":{"$error":"#REF!"}},null,{"$f":"IF(ISERROR(VLOOKUP($B63,IF({1,0},編班結果表!$E$4:$E$303,編班結果表!$B$4:$B$303),2,)),\"\",VLOOKUP($B63,IF({1,0},編班結果表!$E$4:$E$303,編班結果表!$B$4:$B$303),2,))","v":""},{"$f":"IF(ISERROR(VLOOKUP($B63,IF({1,0},編班結果表!$E$4:$F$303,編班結果表!$C$4:$C$303),2,FALSE)),\"\",VLOOKUP($B63,IF({1,0},編班結果表!$E$4:$F$303,編班結果表!$C$4:$C$303),2,FALSE))","v":""},{"$f":"IF(SEARCH(\"/\",重整表!#REF!)=3,LEFT(重整表!#REF!,2)+1911&MID(重整表!#REF!,3,8),LEFT(重整表!#REF!,3)+1911&MID(重整表!#REF!,4,8))","v":{"$error":"#REF!"}},{"$f":"IF(ISBLANK(重整表!#REF!),\"\",重整表!#REF!)","v":{"$error":"#REF!"}},{"$f":"IF(ISBLANK(重整表!#REF!),\"\",重整表!#REF!)","v":{"$error":"#REF!"}},{"$f":"IF(ISBLANK(重整表!#REF!),\"\",重整表!#REF!)","v":{"$error":"#REF!"}},null,null,{"$f":"IF(ISBLANK(重整表!#REF!),\"\",重整表!#REF!)","v":{"$error":"#REF!"}},null,null,{"$f":"IF(SEARCH(\"/\",重整表!#REF!)=3,LEFT(重整表!#REF!,2)+1911&MID(重整表!#REF!,3,8),LEFT(重整表!#REF!,3)+1911&MID(重整表!#REF!,4,8))","v":{"$error":"#REF!"}}]
[null,{"$f":"IF(ISBLANK(重整表!#REF!),\"\",重整表!#REF!)","v":{"$error":"#REF!"}},{"$f":"IF(ISBLANK(重整表!#REF!),\"\",IF(重整表!#REF!=\"男\",1,IF(重整表!#REF!=\"女\",2)))","v":{"$error":"#REF!"}},null,{"$f":"IF(ISERROR(VLOOKUP($B64,IF({1,0},編班結果表!$E$4:$E$303,編班結果表!$B$4:$B$303),2,)),\"\",VLOOKUP($B64,IF({1,0},編班結果表!$E$4:$E$303,編班結果表!$B$4:$B$303),2,))","v":""},{"$f":"IF(ISERROR(VLOOKUP($B64,IF({1,0},編班結果表!$E$4:$F$303,編班結果表!$C$4:$C$303),2,FALSE)),\"\",VLOOKUP($B64,IF({1,0},編班結果表!$E$4:$F$303,編班結果表!$C$4:$C$303),2,FALSE))","v":""},{"$f":"IF(SEARCH(\"/\",重整表!#REF!)=3,LEFT(重整表!#REF!,2)+1911&MID(重整表!#REF!,3,8),LEFT(重整表!#REF!,3)+1911&MID(重整表!#REF!,4,8))","v":{"$error":"#REF!"}},{"$f":"IF(ISBLANK(重整表!#REF!),\"\",重整表!#REF!)","v":{"$error":"#REF!"}},{"$f":"IF(ISBLANK(重整表!#REF!),\"\",重整表!#REF!)","v":{"$error":"#REF!"}},{"$f":"IF(ISBLANK(重整表!#REF!),\"\",重整表!#REF!)","v":{"$error":"#REF!"}},null,null,{"$f":"IF(ISBLANK(重整表!#REF!),\"\",重整表!#REF!)","v":{"$error":"#REF!"}},null,null,{"$f":"IF(SEARCH(\"/\",重整表!#REF!)=3,LEFT(重整表!#REF!,2)+1911&MID(重整表!#REF!,3,8),LEFT(重整表!#REF!,3)+1911&MID(重整表!#REF!,4,8))","v":{"$error":"#REF!"}}]
[null,{"$f":"IF(ISBLANK(重整表!#REF!),\"\",重整表!#REF!)","v":{"$error":"#REF!"}},{"$f":"IF(ISBLANK(重整表!#REF!),\"\",IF(重整表!#REF!=\"男\",1,IF(重整表!#REF!=\"女\",2)))","v":{"$error":"#REF!"}},null,{"$f":"IF(ISERROR(VLOOKUP($B65,IF({1,0},編班結果表!$E$4:$E$303,編班結果表!$B$4:$B$303),2,)),\"\",VLOOKUP($B65,IF({1,0},編班結果表!$E$4:$E$303,編班結果表!$B$4:$B$303),2,))","v":""},{"$f":"IF(ISERROR(VLOOKUP($B65,IF({1,0},編班結果表!$E$4:$F$303,編班結果表!$C$4:$C$303),2,FALSE)),\"\",VLOOKUP($B65,IF({1,0},編班結果表!$E$4:$F$303,編班結果表!$C$4:$C$303),2,FALSE))","v":""},{"$f":"IF(SEARCH(\"/\",重整表!#REF!)=3,LEFT(重整表!#REF!,2)+1911&MID(重整表!#REF!,3,8),LEFT(重整表!#REF!,3)+1911&MID(重整表!#REF!,4,8))","v":{"$error":"#REF!"}},{"$f":"IF(ISBLANK(重整表!#REF!),\"\",重整表!#REF!)","v":{"$error":"#REF!"}},{"$f":"IF(ISBLANK(重整表!#REF!),\"\",重整表!#REF!)","v":{"$error":"#REF!"}},{"$f":"IF(ISBLANK(重整表!#REF!),\"\",重整表!#REF!)","v":{"$error":"#REF!"}},null,null,{"$f":"IF(ISBLANK(重整表!#REF!),\"\",重整表!#REF!)","v":{"$error":"#REF!"}},null,null,{"$f":"IF(SEARCH(\"/\",重整表!#REF!)=3,LEFT(重整表!#REF!,2)+1911&MID(重整表!#REF!,3,8),LEFT(重整表!#REF!,3)+1911&MID(重整表!#REF!,4,8))","v":{"$error":"#REF!"}}]
[null,{"$f":"IF(ISBLANK(重整表!#REF!),\"\",重整表!#REF!)","v":{"$error":"#REF!"}},{"$f":"IF(ISBLANK(重整表!#REF!),\"\",IF(重整表!#REF!=\"男\",1,IF(重整表!#REF!=\"女\",2)))","v":{"$error":"#REF!"}},null,{"$f":"IF(ISERROR(VLOOKUP($B66,IF({1,0},編班結果表!$E$4:$E$303,編班結果表!$B$4:$B$303),2,)),\"\",VLOOKUP($B66,IF({1,0},編班結果表!$E$4:$E$303,編班結果表!$B$4:$B$303),2,))","v":""},{"$f":"IF(ISERROR(VLOOKUP($B66,IF({1,0},編班結果表!$E$4:$F$303,編班結果表!$C$4:$C$303),2,FALSE)),\"\",VLOOKUP($B66,IF({1,0},編班結果表!$E$4:$F$303,編班結果表!$C$4:$C$303),2,FALSE))","v":""},{"$f":"IF(SEARCH(\"/\",重整表!#REF!)=3,LEFT(重整表!#REF!,2)+1911&MID(重整表!#REF!,3,8),LEFT(重整表!#REF!,3)+1911&MID(重整表!#REF!,4,8))","v":{"$error":"#REF!"}},{"$f":"IF(ISBLANK(重整表!#REF!),\"\",重整表!#REF!)","v":{"$error":"#REF!"}},{"$f":"IF(ISBLANK(重整表!#REF!),\"\",重整表!#REF!)","v":{"$error":"#REF!"}},{"$f":"IF(ISBLANK(重整表!#REF!),\"\",重整表!#REF!)","v":{"$error":"#REF!"}},null,null,{"$f":"IF(ISBLANK(重整表!#REF!),\"\",重整表!#REF!)","v":{"$error":"#REF!"}},null,null,{"$f":"IF(SEARCH(\"/\",重整表!#REF!)=3,LEFT(重整表!#REF!,2)+1911&MID(重整表!#REF!,3,8),LEFT(重整表!#REF!,3)+1911&MID(重整表!#REF!,4,8))","v":{"$error":"#REF!"}}]
[null,{"$f":"IF(ISBLANK(重整表!#REF!),\"\",重整表!#REF!)","v":{"$error":"#REF!"}},{"$f":"IF(ISBLANK(重整表!#REF!),\"\",IF(重整表!#REF!=\"男\",1,IF(重整表!#REF!=\"女\",2)))","v":{"$error":"#REF!"}},null,{"$f":"IF(ISERROR(VLOOKUP($B67,IF({1,0},編班結果表!$E$4:$E$303,編班結果表!$B$4:$B$303),2,)),\"\",VLOOKUP($B67,IF({1,0},編班結果表!$E$4:$E$303,編班結果表!$B$4:$B$303),2,))","v":""},{"$f":"IF(ISERROR(VLOOKUP($B67,IF({1,0},編班結果表!$E$4:$F$303,編班結果表!$C$4:$C$303),2,FALSE)),\"\",VLOOKUP($B67,IF({1,0},編班結果表!$E$4:$F$303,編班結果表!$C$4:$C$303),2,FALSE))","v":""},{"$f":"IF(SEARCH(\"/\",重整表!#REF!)=3,LEFT(重整表!#REF!,2)+1911&MID(重整表!#REF!,3,8),LEFT(重整表!#REF!,3)+1911&MID(重整表!#REF!,4,8))","v":{"$error":"#REF!"}},{"$f":"IF(ISBLANK(重整表!#REF!),\"\",重整表!#REF!)","v":{"$error":"#REF!"}},{"$f":"IF(ISBLANK(重整表!#REF!),\"\",重整表!#REF!)","v":{"$error":"#REF!"}},{"$f":"IF(ISBLANK(重整表!#REF!),\"\",重整表!#REF!)","v":{"$error":"#REF!"}},null,null,{"$f":"IF(ISBLANK(重整表!#REF!),\"\",重整表!#REF!)","v":{"$error":"#REF!"}},null,null,{"$f":"IF(SEARCH(\"/\",重整表!#REF!)=3,LEFT(重整表!#REF!,2)+1911&MID(重整表!#REF!,3,8),LEFT(重整表!#REF!,3)+1911&MID(重整表!#REF!,4,8))","v":{"$error":"#REF!"}}]
[null,{"$f":"IF(ISBLANK(重整表!#REF!),\"\",重整表!#REF!)","v":{"$error":"#REF!"}},{"$f":"IF(ISBLANK(重整表!#REF!),\"\",IF(重整表!#REF!=\"男\",1,IF(重整表!#REF!=\"女\",2)))","v":{"$error":"#REF!"}},null,{"$f":"IF(ISERROR(VLOOKUP($B68,IF({1,0},編班結果表!$E$4:$E$303,編班結果表!$B$4:$B$303),2,)),\"\",VLOOKUP($B68,IF({1,0},編班結果表!$E$4:$E$303,編班結果表!$B$4:$B$303),2,))","v":""},{"$f":"IF(ISERROR(VLOOKUP($B68,IF({1,0},編班結果表!$E$4:$F$303,編班結果表!$C$4:$C$303),2,FALSE)),\"\",VLOOKUP($B68,IF({1,0},編班結果表!$E$4:$F$303,編班結果表!$C$4:$C$303),2,FALSE))","v":""},{"$f":"IF(SEARCH(\"/\",重整表!#REF!)=3,LEFT(重整表!#REF!,2)+1911&MID(重整表!#REF!,3,8),LEFT(重整表!#REF!,3)+1911&MID(重整表!#REF!,4,8))","v":{"$error":"#REF!"}},{"$f":"IF(ISBLANK(重整表!#REF!),\"\",重整表!#REF!)","v":{"$error":"#REF!"}},{"$f":"IF(ISBLANK(重整表!#REF!),\"\",重整表!#REF!)","v":{"$error":"#REF!"}},{"$f":"IF(ISBLANK(重整表!#REF!),\"\",重整表!#REF!)","v":{"$error":"#REF!"}},null,null,{"$f":"IF(ISBLANK(重整表!#REF!),\"\",重整表!#REF!)","v":{"$error":"#REF!"}},null,null,{"$f":"IF(SEARCH(\"/\",重整表!#REF!)=3,LEFT(重整表!#REF!,2)+1911&MID(重整表!#REF!,3,8),LEFT(重整表!#REF!,3)+1911&MID(重整表!#REF!,4,8))","v":{"$error":"#REF!"}}]
[null,{"$f":"IF(ISBLANK(重整表!#REF!),\"\",重整表!#REF!)","v":{"$error":"#REF!"}},{"$f":"IF(ISBLANK(重整表!#REF!),\"\",IF(重整表!#REF!=\"男\",1,IF(重整表!#REF!=\"女\",2)))","v":{"$error":"#REF!"}},null,{"$f":"IF(ISERROR(VLOOKUP($B69,IF({1,0},編班結果表!$E$4:$E$303,編班結果表!$B$4:$B$303),2,)),\"\",VLOOKUP($B69,IF({1,0},編班結果表!$E$4:$E$303,編班結果表!$B$4:$B$303),2,))","v":""},{"$f":"IF(ISERROR(VLOOKUP($B69,IF({1,0},編班結果表!$E$4:$F$303,編班結果表!$C$4:$C$303),2,FALSE)),\"\",VLOOKUP($B69,IF({1,0},編班結果表!$E$4:$F$303,編班結果表!$C$4:$C$303),2,FALSE))","v":""},{"$f":"IF(SEARCH(\"/\",重整表!#REF!)=3,LEFT(重整表!#REF!,2)+1911&MID(重整表!#REF!,3,8),LEFT(重整表!#REF!,3)+1911&MID(重整表!#REF!,4,8))","v":{"$error":"#REF!"}},{"$f":"IF(ISBLANK(重整表!#REF!),\"\",重整表!#REF!)","v":{"$error":"#REF!"}},{"$f":"IF(ISBLANK(重整表!#REF!),\"\",重整表!#REF!)","v":{"$error":"#REF!"}},{"$f":"IF(ISBLANK(重整表!#REF!),\"\",重整表!#REF!)","v":{"$error":"#REF!"}},null,null,{"$f":"IF(ISBLANK(重整表!#REF!),\"\",重整表!#REF!)","v":{"$error":"#REF!"}},null,null,{"$f":"IF(SEARCH(\"/\",重整表!#REF!)=3,LEFT(重整表!#REF!,2)+1911&MID(重整表!#REF!,3,8),LEFT(重整表!#REF!,3)+1911&MID(重整表!#REF!,4,8))","v":{"$error":"#REF!"}}]
[null,{"$f":"IF(ISBLANK(重整表!#REF!),\"\",重整表!#REF!)","v":{"$error":"#REF!"}},{"$f":"IF(ISBLANK(重整表!#REF!),\"\",IF(重整表!#REF!=\"男\",1,IF(重整表!#REF!=\"女\",2)))","v":{"$error":"#REF!"}},null,{"$f":"IF(ISERROR(VLOOKUP($B70,IF({1,0},編班結果表!$E$4:$E$303,編班結果表!$B$4:$B$303),2,)),\"\",VLOOKUP($B70,IF({1,0},編班結果表!$E$4:$E$303,編班結果表!$B$4:$B$303),2,))","v":""},{"$f":"IF(ISERROR(VLOOKUP($B70,IF({1,0},編班結果表!$E$4:$F$303,編班結果表!$C$4:$C$303),2,FALSE)),\"\",VLOOKUP($B70,IF({1,0},編班結果表!$E$4:$F$303,編班結果表!$C$4:$C$303),2,FALSE))","v":""},{"$f":"IF(SEARCH(\"/\",重整表!#REF!)=3,LEFT(重整表!#REF!,2)+1911&MID(重整表!#REF!,3,8),LEFT(重整表!#REF!,3)+1911&MID(重整表!#REF!,4,8))","v":{"$error":"#REF!"}},{"$f":"IF(ISBLANK(重整表!#REF!),\"\",重整表!#REF!)","v":{"$error":"#REF!"}},{"$f":"IF(ISBLANK(重整表!#REF!),\"\",重整表!#REF!)","v":{"$error":"#REF!"}},{"$f":"IF(ISBLANK(重整表!#REF!),\"\",重整表!#REF!)","v":{"$error":"#REF!"}},null,null,{"$f":"IF(ISBLANK(重整表!#REF!),\"\",重整表!#REF!)","v":{"$error":"#REF!"}},null,null,{"$f":"IF(SEARCH(\"/\",重整表!#REF!)=3,LEFT(重整表!#REF!,2)+1911&MID(重整表!#REF!,3,8),LEFT(重整表!#REF!,3)+1911&MID(重整表!#REF!,4,8))","v":{"$error":"#REF!"}}]
[null,{"$f":"IF(ISBLANK(重整表!#REF!),\"\",重整表!#REF!)","v":{"$error":"#REF!"}},{"$f":"IF(ISBLANK(重整表!#REF!),\"\",IF(重整表!#REF!=\"男\",1,IF(重整表!#REF!=\"女\",2)))","v":{"$error":"#REF!"}},null,{"$f":"IF(ISERROR(VLOOKUP($B71,IF({1,0},編班結果表!$E$4:$E$303,編班結果表!$B$4:$B$303),2,)),\"\",VLOOKUP($B71,IF({1,0},編班結果表!$E$4:$E$303,編班結果表!$B$4:$B$303),2,))","v":""},{"$f":"IF(ISERROR(VLOOKUP($B71,IF({1,0},編班結果表!$E$4:$F$303,編班結果表!$C$4:$C$303),2,FALSE)),\"\",VLOOKUP($B71,IF({1,0},編班結果表!$E$4:$F$303,編班結果表!$C$4:$C$303),2,FALSE))","v":""},{"$f":"IF(SEARCH(\"/\",重整表!#REF!)=3,LEFT(重整表!#REF!,2)+1911&MID(重整表!#REF!,3,8),LEFT(重整表!#REF!,3)+1911&MID(重整表!#REF!,4,8))","v":{"$error":"#REF!"}},{"$f":"IF(ISBLANK(重整表!#REF!),\"\",重整表!#REF!)","v":{"$error":"#REF!"}},{"$f":"IF(ISBLANK(重整表!#REF!),\"\",重整表!#REF!)","v":{"$error":"#REF!"}},{"$f":"IF(ISBLANK(重整表!#REF!),\"\",重整表!#REF!)","v":{"$error":"#REF!"}},null,null,{"$f":"IF(ISBLANK(重整表!#REF!),\"\",重整表!#REF!)","v":{"$error":"#REF!"}},null,null,{"$f":"IF(SEARCH(\"/\",重整表!#REF!)=3,LEFT(重整表!#REF!,2)+1911&MID(重整表!#REF!,3,8),LEFT(重整表!#REF!,3)+1911&MID(重整表!#REF!,4,8))","v":{"$error":"#REF!"}}]
[null,{"$f":"IF(ISBLANK(重整表!#REF!),\"\",重整表!#REF!)","v":{"$error":"#REF!"}},{"$f":"IF(ISBLANK(重整表!#REF!),\"\",IF(重整表!#REF!=\"男\",1,IF(重整表!#REF!=\"女\",2)))","v":{"$error":"#REF!"}},null,{"$f":"IF(ISERROR(VLOOKUP($B72,IF({1,0},編班結果表!$E$4:$E$303,編班結果表!$B$4:$B$303),2,)),\"\",VLOOKUP($B72,IF({1,0},編班結果表!$E$4:$E$303,編班結果表!$B$4:$B$303),2,))","v":""},{"$f":"IF(ISERROR(VLOOKUP($B72,IF({1,0},編班結果表!$E$4:$F$303,編班結果表!$C$4:$C$303),2,FALSE)),\"\",VLOOKUP($B72,IF({1,0},編班結果表!$E$4:$F$303,編班結果表!$C$4:$C$303),2,FALSE))","v":""},{"$f":"IF(SEARCH(\"/\",重整表!#REF!)=3,LEFT(重整表!#REF!,2)+1911&MID(重整表!#REF!,3,8),LEFT(重整表!#REF!,3)+1911&MID(重整表!#REF!,4,8))","v":{"$error":"#REF!"}},{"$f":"IF(ISBLANK(重整表!#REF!),\"\",重整表!#REF!)","v":{"$error":"#REF!"}},{"$f":"IF(ISBLANK(重整表!#REF!),\"\",重整表!#REF!)","v":{"$error":"#REF!"}},{"$f":"IF(ISBLANK(重整表!#REF!),\"\",重整表!#REF!)","v":{"$error":"#REF!"}},null,null,{"$f":"IF(ISBLANK(重整表!#REF!),\"\",重整表!#REF!)","v":{"$error":"#REF!"}},null,null,{"$f":"IF(SEARCH(\"/\",重整表!#REF!)=3,LEFT(重整表!#REF!,2)+1911&MID(重整表!#REF!,3,8),LEFT(重整表!#REF!,3)+1911&MID(重整表!#REF!,4,8))","v":{"$error":"#REF!"}}]
[null,{"$f":"IF(ISBLANK(重整表!#REF!),\"\",重整表!#REF!)","v":{"$error":"#REF!"}},{"$f":"IF(ISBLANK(重整表!#REF!),\"\",IF(重整表!#REF!=\"男\",1,IF(重整表!#REF!=\"女\",2)))","v":{"$error":"#REF!"}},null,{"$f":"IF(ISERROR(VLOOKUP($B73,IF({1,0},編班結果表!$E$4:$E$303,編班結果表!$B$4:$B$303),2,)),\"\",VLOOKUP($B73,IF({1,0},編班結果表!$E$4:$E$303,編班結果表!$B$4:$B$303),2,))","v":""},{"$f":"IF(ISERROR(VLOOKUP($B73,IF({1,0},編班結果表!$E$4:$F$303,編班結果表!$C$4:$C$303),2,FALSE)),\"\",VLOOKUP($B73,IF({1,0},編班結果表!$E$4:$F$303,編班結果表!$C$4:$C$303),2,FALSE))","v":""},{"$f":"IF(SEARCH(\"/\",重整表!#REF!)=3,LEFT(重整表!#REF!,2)+1911&MID(重整表!#REF!,3,8),LEFT(重整表!#REF!,3)+1911&MID(重整表!#REF!,4,8))","v":{"$error":"#REF!"}},{"$f":"IF(ISBLANK(重整表!#REF!),\"\",重整表!#REF!)","v":{"$error":"#REF!"}},{"$f":"IF(ISBLANK(重整表!#REF!),\"\",重整表!#REF!)","v":{"$error":"#REF!"}},{"$f":"IF(ISBLANK(重整表!#REF!),\"\",重整表!#REF!)","v":{"$error":"#REF!"}},null,null,{"$f":"IF(ISBLANK(重整表!#REF!),\"\",重整表!#REF!)","v":{"$error":"#REF!"}},null,null,{"$f":"IF(SEARCH(\"/\",重整表!#REF!)=3,LEFT(重整表!#REF!,2)+1911&MID(重整表!#REF!,3,8),LEFT(重整表!#REF!,3)+1911&MID(重整表!#REF!,4,8))","v":{"$error":"#REF!"}}]
[null,{"$f":"IF(ISBLANK(重整表!#REF!),\"\",重整表!#REF!)","v":{"$error":"#REF!"}},{"$f":"IF(ISBLANK(重整表!#REF!),\"\",IF(重整表!#REF!=\"男\",1,IF(重整表!#REF!=\"女\",2)))","v":{"$error":"#REF!"}},null,{"$f":"IF(ISERROR(VLOOKUP($B74,IF({1,0},編班結果表!$E$4:$E$303,編班結果表!$B$4:$B$303),2,)),\"\",VLOOKUP($B74,IF({1,0},編班結果表!$E$4:$E$303,編班結果表!$B$4:$B$303),2,))","v":""},{"$f":"IF(ISERROR(VLOOKUP($B74,IF({1,0},編班結果表!$E$4:$F$303,編班結果表!$C$4:$C$303),2,FALSE)),\"\",VLOOKUP($B74,IF({1,0},編班結果表!$E$4:$F$303,編班結果表!$C$4:$C$303),2,FALSE))","v":""},{"$f":"IF(SEARCH(\"/\",重整表!#REF!)=3,LEFT(重整表!#REF!,2)+1911&MID(重整表!#REF!,3,8),LEFT(重整表!#REF!,3)+1911&MID(重整表!#REF!,4,8))","v":{"$error":"#REF!"}},{"$f":"IF(ISBLANK(重整表!#REF!),\"\",重整表!#REF!)","v":{"$error":"#REF!"}},{"$f":"IF(ISBLANK(重整表!#REF!),\"\",重整表!#REF!)","v":{"$error":"#REF!"}},{"$f":"IF(ISBLANK(重整表!#REF!),\"\",重整表!#REF!)","v":{"$error":"#REF!"}},null,null,{"$f":"IF(ISBLANK(重整表!#REF!),\"\",重整表!#REF!)","v":{"$error":"#REF!"}},null,null,{"$f":"IF(SEARCH(\"/\",重整表!#REF!)=3,LEFT(重整表!#REF!,2)+1911&MID(重整表!#REF!,3,8),LEFT(重整表!#REF!,3)+1911&MID(重整表!#REF!,4,8))","v":{"$error":"#REF!"}}]
[null,{"$f":"IF(ISBLANK(重整表!#REF!),\"\",重整表!#REF!)","v":{"$error":"#REF!"}},{"$f":"IF(ISBLANK(重整表!#REF!),\"\",IF(重整表!#REF!=\"男\",1,IF(重整表!#REF!=\"女\",2)))","v":{"$error":"#REF!"}},null,{"$f":"IF(ISERROR(VLOOKUP($B75,IF({1,0},編班結果表!$E$4:$E$303,編班結果表!$B$4:$B$303),2,)),\"\",VLOOKUP($B75,IF({1,0},編班結果表!$E$4:$E$303,編班結果表!$B$4:$B$303),2,))","v":""},{"$f":"IF(ISERROR(VLOOKUP($B75,IF({1,0},編班結果表!$E$4:$F$303,編班結果表!$C$4:$C$303),2,FALSE)),\"\",VLOOKUP($B75,IF({1,0},編班結果表!$E$4:$F$303,編班結果表!$C$4:$C$303),2,FALSE))","v":""},{"$f":"IF(SEARCH(\"/\",重整表!#REF!)=3,LEFT(重整表!#REF!,2)+1911&MID(重整表!#REF!,3,8),LEFT(重整表!#REF!,3)+1911&MID(重整表!#REF!,4,8))","v":{"$error":"#REF!"}},{"$f":"IF(ISBLANK(重整表!#REF!),\"\",重整表!#REF!)","v":{"$error":"#REF!"}},{"$f":"IF(ISBLANK(重整表!#REF!),\"\",重整表!#REF!)","v":{"$error":"#REF!"}},{"$f":"IF(ISBLANK(重整表!#REF!),\"\",重整表!#REF!)","v":{"$error":"#REF!"}},null,null,{"$f":"IF(ISBLANK(重整表!#REF!),\"\",重整表!#REF!)","v":{"$error":"#REF!"}},null,null,{"$f":"IF(SEARCH(\"/\",重整表!#REF!)=3,LEFT(重整表!#REF!,2)+1911&MID(重整表!#REF!,3,8),LEFT(重整表!#REF!,3)+1911&MID(重整表!#REF!,4,8))","v":{"$error":"#REF!"}}]
[null,{"$f":"IF(ISBLANK(重整表!#REF!),\"\",重整表!#REF!)","v":{"$error":"#REF!"}},{"$f":"IF(ISBLANK(重整表!#REF!),\"\",IF(重整表!#REF!=\"男\",1,IF(重整表!#REF!=\"女\",2)))","v":{"$error":"#REF!"}},null,{"$f":"IF(ISERROR(VLOOKUP($B76,IF({1,0},編班結果表!$E$4:$E$303,編班結果表!$B$4:$B$303),2,)),\"\",VLOOKUP($B76,IF({1,0},編班結果表!$E$4:$E$303,編班結果表!$B$4:$B$303),2,))","v":""},{"$f":"IF(ISERROR(VLOOKUP($B76,IF({1,0},編班結果表!$E$4:$F$303,編班結果表!$C$4:$C$303),2,FALSE)),\"\",VLOOKUP($B76,IF({1,0},編班結果表!$E$4:$F$303,編班結果表!$C$4:$C$303),2,FALSE))","v":""},{"$f":"IF(SEARCH(\"/\",重整表!#REF!)=3,LEFT(重整表!#REF!,2)+1911&MID(重整表!#REF!,3,8),LEFT(重整表!#REF!,3)+1911&MID(重整表!#REF!,4,8))","v":{"$error":"#REF!"}},{"$f":"IF(ISBLANK(重整表!#REF!),\"\",重整表!#REF!)","v":{"$error":"#REF!"}},{"$f":"IF(ISBLANK(重整表!#REF!),\"\",重整表!#REF!)","v":{"$error":"#REF!"}},{"$f":"IF(ISBLANK(重整表!#REF!),\"\",重整表!#REF!)","v":{"$error":"#REF!"}},null,null,{"$f":"IF(ISBLANK(重整表!#REF!),\"\",重整表!#REF!)","v":{"$error":"#REF!"}},null,null,{"$f":"IF(SEARCH(\"/\",重整表!#REF!)=3,LEFT(重整表!#REF!,2)+1911&MID(重整表!#REF!,3,8),LEFT(重整表!#REF!,3)+1911&MID(重整表!#REF!,4,8))","v":{"$error":"#REF!"}}]
[null,{"$f":"IF(ISBLANK(重整表!#REF!),\"\",重整表!#REF!)","v":{"$error":"#REF!"}},{"$f":"IF(ISBLANK(重整表!#REF!),\"\",IF(重整表!#REF!=\"男\",1,IF(重整表!#REF!=\"女\",2)))","v":{"$error":"#REF!"}},null,{"$f":"IF(ISERROR(VLOOKUP($B77,IF({1,0},編班結果表!$E$4:$E$303,編班結果表!$B$4:$B$303),2,)),\"\",VLOOKUP($B77,IF({1,0},編班結果表!$E$4:$E$303,編班結果表!$B$4:$B$303),2,))","v":""},{"$f":"IF(ISERROR(VLOOKUP($B77,IF({1,0},編班結果表!$E$4:$F$303,編班結果表!$C$4:$C$303),2,FALSE)),\"\",VLOOKUP($B77,IF({1,0},編班結果表!$E$4:$F$303,編班結果表!$C$4:$C$303),2,FALSE))","v":""},{"$f":"IF(SEARCH(\"/\",重整表!#REF!)=3,LEFT(重整表!#REF!,2)+1911&MID(重整表!#REF!,3,8),LEFT(重整表!#REF!,3)+1911&MID(重整表!#REF!,4,8))","v":{"$error":"#REF!"}},{"$f":"IF(ISBLANK(重整表!#REF!),\"\",重整表!#REF!)","v":{"$error":"#REF!"}},{"$f":"IF(ISBLANK(重整表!#REF!),\"\",重整表!#REF!)","v":{"$error":"#REF!"}},{"$f":"IF(ISBLANK(重整表!#REF!),\"\",重整表!#REF!)","v":{"$error":"#REF!"}},null,null,{"$f":"IF(ISBLANK(重整表!#REF!),\"\",重整表!#REF!)","v":{"$error":"#REF!"}},null,null,{"$f":"IF(SEARCH(\"/\",重整表!#REF!)=3,LEFT(重整表!#REF!,2)+1911&MID(重整表!#REF!,3,8),LEFT(重整表!#REF!,3)+1911&MID(重整表!#REF!,4,8))","v":{"$error":"#REF!"}}]
[null,{"$f":"IF(ISBLANK(重整表!#REF!),\"\",重整表!#REF!)","v":{"$error":"#REF!"}},{"$f":"IF(ISBLANK(重整表!#REF!),\"\",IF(重整表!#REF!=\"男\",1,IF(重整表!#REF!=\"女\",2)))","v":{"$error":"#REF!"}},null,{"$f":"IF(ISERROR(VLOOKUP($B78,IF({1,0},編班結果表!$E$4:$E$303,編班結果表!$B$4:$B$303),2,)),\"\",VLOOKUP($B78,IF({1,0},編班結果表!$E$4:$E$303,編班結果表!$B$4:$B$303),2,))","v":""},{"$f":"IF(ISERROR(VLOOKUP($B78,IF({1,0},編班結果表!$E$4:$F$303,編班結果表!$C$4:$C$303),2,FALSE)),\"\",VLOOKUP($B78,IF({1,0},編班結果表!$E$4:$F$303,編班結果表!$C$4:$C$303),2,FALSE))","v":""},{"$f":"IF(SEARCH(\"/\",重整表!#REF!)=3,LEFT(重整表!#REF!,2)+1911&MID(重整表!#REF!,3,8),LEFT(重整表!#REF!,3)+1911&MID(重整表!#REF!,4,8))","v":{"$error":"#REF!"}},{"$f":"IF(ISBLANK(重整表!#REF!),\"\",重整表!#REF!)","v":{"$error":"#REF!"}},{"$f":"IF(ISBLANK(重整表!#REF!),\"\",重整表!#REF!)","v":{"$error":"#REF!"}},{"$f":"IF(ISBLANK(重整表!#REF!),\"\",重整表!#REF!)","v":{"$error":"#REF!"}},null,null,{"$f":"IF(ISBLANK(重整表!#REF!),\"\",重整表!#REF!)","v":{"$error":"#REF!"}},null,null,{"$f":"IF(SEARCH(\"/\",重整表!#REF!)=3,LEFT(重整表!#REF!,2)+1911&MID(重整表!#REF!,3,8),LEFT(重整表!#REF!,3)+1911&MID(重整表!#REF!,4,8))","v":{"$error":"#REF!"}}]
[null,{"$f":"IF(ISBLANK(重整表!#REF!),\"\",重整表!#REF!)","v":{"$error":"#REF!"}},{"$f":"IF(ISBLANK(重整表!#REF!),\"\",IF(重整表!#REF!=\"男\",1,IF(重整表!#REF!=\"女\",2)))","v":{"$error":"#REF!"}},null,{"$f":"IF(ISERROR(VLOOKUP($B79,IF({1,0},編班結果表!$E$4:$E$303,編班結果表!$B$4:$B$303),2,)),\"\",VLOOKUP($B79,IF({1,0},編班結果表!$E$4:$E$303,編班結果表!$B$4:$B$303),2,))","v":""},{"$f":"IF(ISERROR(VLOOKUP($B79,IF({1,0},編班結果表!$E$4:$F$303,編班結果表!$C$4:$C$303),2,FALSE)),\"\",VLOOKUP($B79,IF({1,0},編班結果表!$E$4:$F$303,編班結果表!$C$4:$C$303),2,FALSE))","v":""},{"$f":"IF(SEARCH(\"/\",重整表!#REF!)=3,LEFT(重整表!#REF!,2)+1911&MID(重整表!#REF!,3,8),LEFT(重整表!#REF!,3)+1911&MID(重整表!#REF!,4,8))","v":{"$error":"#REF!"}},{"$f":"IF(ISBLANK(重整表!#REF!),\"\",重整表!#REF!)","v":{"$error":"#REF!"}},{"$f":"IF(ISBLANK(重整表!#REF!),\"\",重整表!#REF!)","v":{"$error":"#REF!"}},{"$f":"IF(ISBLANK(重整表!#REF!),\"\",重整表!#REF!)","v":{"$error":"#REF!"}},null,null,{"$f":"IF(ISBLANK(重整表!#REF!),\"\",重整表!#REF!)","v":{"$error":"#REF!"}},null,null,{"$f":"IF(SEARCH(\"/\",重整表!#REF!)=3,LEFT(重整表!#REF!,2)+1911&MID(重整表!#REF!,3,8),LEFT(重整表!#REF!,3)+1911&MID(重整表!#REF!,4,8))","v":{"$error":"#REF!"}}]
[null,{"$f":"IF(ISBLANK(重整表!#REF!),\"\",重整表!#REF!)","v":{"$error":"#REF!"}},{"$f":"IF(ISBLANK(重整表!#REF!),\"\",IF(重整表!#REF!=\"男\",1,IF(重整表!#REF!=\"女\",2)))","v":{"$error":"#REF!"}},null,{"$f":"IF(ISERROR(VLOOKUP($B80,IF({1,0},編班結果表!$E$4:$E$303,編班結果表!$B$4:$B$303),2,)),\"\",VLOOKUP($B80,IF({1,0},編班結果表!$E$4:$E$303,編班結果表!$B$4:$B$303),2,))","v":""},{"$f":"IF(ISERROR(VLOOKUP($B80,IF({1,0},編班結果表!$E$4:$F$303,編班結果表!$C$4:$C$303),2,FALSE)),\"\",VLOOKUP($B80,IF({1,0},編班結果表!$E$4:$F$303,編班結果表!$C$4:$C$303),2,FALSE))","v":""},{"$f":"IF(SEARCH(\"/\",重整表!#REF!)=3,LEFT(重整表!#REF!,2)+1911&MID(重整表!#REF!,3,8),LEFT(重整表!#REF!,3)+1911&MID(重整表!#REF!,4,8))","v":{"$error":"#REF!"}},{"$f":"IF(ISBLANK(重整表!#REF!),\"\",重整表!#REF!)","v":{"$error":"#REF!"}},{"$f":"IF(ISBLANK(重整表!#REF!),\"\",重整表!#REF!)","v":{"$error":"#REF!"}},{"$f":"IF(ISBLANK(重整表!#REF!),\"\",重整表!#REF!)","v":{"$error":"#REF!"}},null,null,{"$f":"IF(ISBLANK(重整表!#REF!),\"\",重整表!#REF!)","v":{"$error":"#REF!"}},null,null,{"$f":"IF(SEARCH(\"/\",重整表!#REF!)=3,LEFT(重整表!#REF!,2)+1911&MID(重整表!#REF!,3,8),LEFT(重整表!#REF!,3)+1911&MID(重整表!#REF!,4,8))","v":{"$error":"#REF!"}}]
[null,{"$f":"IF(ISBLANK(重整表!#REF!),\"\",重整表!#REF!)","v":{"$error":"#REF!"}},{"$f":"IF(ISBLANK(重整表!#REF!),\"\",IF(重整表!#REF!=\"男\",1,IF(重整表!#REF!=\"女\",2)))","v":{"$error":"#REF!"}},null,{"$f":"IF(ISERROR(VLOOKUP($B81,IF({1,0},編班結果表!$E$4:$E$303,編班結果表!$B$4:$B$303),2,)),\"\",VLOOKUP($B81,IF({1,0},編班結果表!$E$4:$E$303,編班結果表!$B$4:$B$303),2,))","v":""},{"$f":"IF(ISERROR(VLOOKUP($B81,IF({1,0},編班結果表!$E$4:$F$303,編班結果表!$C$4:$C$303),2,FALSE)),\"\",VLOOKUP($B81,IF({1,0},編班結果表!$E$4:$F$303,編班結果表!$C$4:$C$303),2,FALSE))","v":""},{"$f":"IF(SEARCH(\"/\",重整表!#REF!)=3,LEFT(重整表!#REF!,2)+1911&MID(重整表!#REF!,3,8),LEFT(重整表!#REF!,3)+1911&MID(重整表!#REF!,4,8))","v":{"$error":"#REF!"}},{"$f":"IF(ISBLANK(重整表!#REF!),\"\",重整表!#REF!)","v":{"$error":"#REF!"}},{"$f":"IF(ISBLANK(重整表!#REF!),\"\",重整表!#REF!)","v":{"$error":"#REF!"}},{"$f":"IF(ISBLANK(重整表!#REF!),\"\",重整表!#REF!)","v":{"$error":"#REF!"}},null,null,{"$f":"IF(ISBLANK(重整表!#REF!),\"\",重整表!#REF!)","v":{"$error":"#REF!"}},null,null,{"$f":"IF(SEARCH(\"/\",重整表!#REF!)=3,LEFT(重整表!#REF!,2)+1911&MID(重整表!#REF!,3,8),LEFT(重整表!#REF!,3)+1911&MID(重整表!#REF!,4,8))","v":{"$error":"#REF!"}}]
[null,{"$f":"IF(ISBLANK(重整表!#REF!),\"\",重整表!#REF!)","v":{"$error":"#REF!"}},{"$f":"IF(ISBLANK(重整表!#REF!),\"\",IF(重整表!#REF!=\"男\",1,IF(重整表!#REF!=\"女\",2)))","v":{"$error":"#REF!"}},null,{"$f":"IF(ISERROR(VLOOKUP($B82,IF({1,0},編班結果表!$E$4:$E$303,編班結果表!$B$4:$B$303),2,)),\"\",VLOOKUP($B82,IF({1,0},編班結果表!$E$4:$E$303,編班結果表!$B$4:$B$303),2,))","v":""},{"$f":"IF(ISERROR(VLOOKUP($B82,IF({1,0},編班結果表!$E$4:$F$303,編班結果表!$C$4:$C$303),2,FALSE)),\"\",VLOOKUP($B82,IF({1,0},編班結果表!$E$4:$F$303,編班結果表!$C$4:$C$303),2,FALSE))","v":""},{"$f":"IF(SEARCH(\"/\",重整表!#REF!)=3,LEFT(重整表!#REF!,2)+1911&MID(重整表!#REF!,3,8),LEFT(重整表!#REF!,3)+1911&MID(重整表!#REF!,4,8))","v":{"$error":"#REF!"}},{"$f":"IF(ISBLANK(重整表!#REF!),\"\",重整表!#REF!)","v":{"$error":"#REF!"}},{"$f":"IF(ISBLANK(重整表!#REF!),\"\",重整表!#REF!)","v":{"$error":"#REF!"}},{"$f":"IF(ISBLANK(重整表!#REF!),\"\",重整表!#REF!)","v":{"$error":"#REF!"}},null,null,{"$f":"IF(ISBLANK(重整表!#REF!),\"\",重整表!#REF!)","v":{"$error":"#REF!"}},null,null,{"$f":"IF(SEARCH(\"/\",重整表!#REF!)=3,LEFT(重整表!#REF!,2)+1911&MID(重整表!#REF!,3,8),LEFT(重整表!#REF!,3)+1911&MID(重整表!#REF!,4,8))","v":{"$error":"#REF!"}}]
[null,{"$f":"IF(ISBLANK(重整表!#REF!),\"\",重整表!#REF!)","v":{"$error":"#REF!"}},{"$f":"IF(ISBLANK(重整表!#REF!),\"\",IF(重整表!#REF!=\"男\",1,IF(重整表!#REF!=\"女\",2)))","v":{"$error":"#REF!"}},null,{"$f":"IF(ISERROR(VLOOKUP($B83,IF({1,0},編班結果表!$E$4:$E$303,編班結果表!$B$4:$B$303),2,)),\"\",VLOOKUP($B83,IF({1,0},編班結果表!$E$4:$E$303,編班結果表!$B$4:$B$303),2,))","v":""},{"$f":"IF(ISERROR(VLOOKUP($B83,IF({1,0},編班結果表!$E$4:$F$303,編班結果表!$C$4:$C$303),2,FALSE)),\"\",VLOOKUP($B83,IF({1,0},編班結果表!$E$4:$F$303,編班結果表!$C$4:$C$303),2,FALSE))","v":""},{"$f":"IF(SEARCH(\"/\",重整表!#REF!)=3,LEFT(重整表!#REF!,2)+1911&MID(重整表!#REF!,3,8),LEFT(重整表!#REF!,3)+1911&MID(重整表!#REF!,4,8))","v":{"$error":"#REF!"}},{"$f":"IF(ISBLANK(重整表!#REF!),\"\",重整表!#REF!)","v":{"$error":"#REF!"}},{"$f":"IF(ISBLANK(重整表!#REF!),\"\",重整表!#REF!)","v":{"$error":"#REF!"}},{"$f":"IF(ISBLANK(重整表!#REF!),\"\",重整表!#REF!)","v":{"$error":"#REF!"}},null,null,{"$f":"IF(ISBLANK(重整表!#REF!),\"\",重整表!#REF!)","v":{"$error":"#REF!"}},null,null,{"$f":"IF(SEARCH(\"/\",重整表!#REF!)=3,LEFT(重整表!#REF!,2)+1911&MID(重整表!#REF!,3,8),LEFT(重整表!#REF!,3)+1911&MID(重整表!#REF!,4,8))","v":{"$error":"#REF!"}}]
[null,{"$f":"IF(ISBLANK(重整表!#REF!),\"\",重整表!#REF!)","v":{"$error":"#REF!"}},{"$f":"IF(ISBLANK(重整表!#REF!),\"\",IF(重整表!#REF!=\"男\",1,IF(重整表!#REF!=\"女\",2)))","v":{"$error":"#REF!"}},null,{"$f":"IF(ISERROR(VLOOKUP($B84,IF({1,0},編班結果表!$E$4:$E$303,編班結果表!$B$4:$B$303),2,)),\"\",VLOOKUP($B84,IF({1,0},編班結果表!$E$4:$E$303,編班結果表!$B$4:$B$303),2,))","v":""},{"$f":"IF(ISERROR(VLOOKUP($B84,IF({1,0},編班結果表!$E$4:$F$303,編班結果表!$C$4:$C$303),2,FALSE)),\"\",VLOOKUP($B84,IF({1,0},編班結果表!$E$4:$F$303,編班結果表!$C$4:$C$303),2,FALSE))","v":""},{"$f":"IF(SEARCH(\"/\",重整表!#REF!)=3,LEFT(重整表!#REF!,2)+1911&MID(重整表!#REF!,3,8),LEFT(重整表!#REF!,3)+1911&MID(重整表!#REF!,4,8))","v":{"$error":"#REF!"}},{"$f":"IF(ISBLANK(重整表!#REF!),\"\",重整表!#REF!)","v":{"$error":"#REF!"}},{"$f":"IF(ISBLANK(重整表!#REF!),\"\",重整表!#REF!)","v":{"$error":"#REF!"}},{"$f":"IF(ISBLANK(重整表!#REF!),\"\",重整表!#REF!)","v":{"$error":"#REF!"}},null,null,{"$f":"IF(ISBLANK(重整表!#REF!),\"\",重整表!#REF!)","v":{"$error":"#REF!"}},null,null,{"$f":"IF(SEARCH(\"/\",重整表!#REF!)=3,LEFT(重整表!#REF!,2)+1911&MID(重整表!#REF!,3,8),LEFT(重整表!#REF!,3)+1911&MID(重整表!#REF!,4,8))","v":{"$error":"#REF!"}}]
[null,{"$f":"IF(ISBLANK(重整表!#REF!),\"\",重整表!#REF!)","v":{"$error":"#REF!"}},{"$f":"IF(ISBLANK(重整表!#REF!),\"\",IF(重整表!#REF!=\"男\",1,IF(重整表!#REF!=\"女\",2)))","v":{"$error":"#REF!"}},null,{"$f":"IF(ISERROR(VLOOKUP($B85,IF({1,0},編班結果表!$E$4:$E$303,編班結果表!$B$4:$B$303),2,)),\"\",VLOOKUP($B85,IF({1,0},編班結果表!$E$4:$E$303,編班結果表!$B$4:$B$303),2,))","v":""},{"$f":"IF(ISERROR(VLOOKUP($B85,IF({1,0},編班結果表!$E$4:$F$303,編班結果表!$C$4:$C$303),2,FALSE)),\"\",VLOOKUP($B85,IF({1,0},編班結果表!$E$4:$F$303,編班結果表!$C$4:$C$303),2,FALSE))","v":""},{"$f":"IF(SEARCH(\"/\",重整表!#REF!)=3,LEFT(重整表!#REF!,2)+1911&MID(重整表!#REF!,3,8),LEFT(重整表!#REF!,3)+1911&MID(重整表!#REF!,4,8))","v":{"$error":"#REF!"}},{"$f":"IF(ISBLANK(重整表!#REF!),\"\",重整表!#REF!)","v":{"$error":"#REF!"}},{"$f":"IF(ISBLANK(重整表!#REF!),\"\",重整表!#REF!)","v":{"$error":"#REF!"}},{"$f":"IF(ISBLANK(重整表!#REF!),\"\",重整表!#REF!)","v":{"$error":"#REF!"}},null,null,{"$f":"IF(ISBLANK(重整表!#REF!),\"\",重整表!#REF!)","v":{"$error":"#REF!"}},null,null,{"$f":"IF(SEARCH(\"/\",重整表!#REF!)=3,LEFT(重整表!#REF!,2)+1911&MID(重整表!#REF!,3,8),LEFT(重整表!#REF!,3)+1911&MID(重整表!#REF!,4,8))","v":{"$error":"#REF!"}}]
[null,{"$f":"IF(ISBLANK(重整表!#REF!),\"\",重整表!#REF!)","v":{"$error":"#REF!"}},{"$f":"IF(ISBLANK(重整表!#REF!),\"\",IF(重整表!#REF!=\"男\",1,IF(重整表!#REF!=\"女\",2)))","v":{"$error":"#REF!"}},null,{"$f":"IF(ISERROR(VLOOKUP($B86,IF({1,0},編班結果表!$E$4:$E$303,編班結果表!$B$4:$B$303),2,)),\"\",VLOOKUP($B86,IF({1,0},編班結果表!$E$4:$E$303,編班結果表!$B$4:$B$303),2,))","v":""},{"$f":"IF(ISERROR(VLOOKUP($B86,IF({1,0},編班結果表!$E$4:$F$303,編班結果表!$C$4:$C$303),2,FALSE)),\"\",VLOOKUP($B86,IF({1,0},編班結果表!$E$4:$F$303,編班結果表!$C$4:$C$303),2,FALSE))","v":""},{"$f":"IF(SEARCH(\"/\",重整表!#REF!)=3,LEFT(重整表!#REF!,2)+1911&MID(重整表!#REF!,3,8),LEFT(重整表!#REF!,3)+1911&MID(重整表!#REF!,4,8))","v":{"$error":"#REF!"}},{"$f":"IF(ISBLANK(重整表!#REF!),\"\",重整表!#REF!)","v":{"$error":"#REF!"}},{"$f":"IF(ISBLANK(重整表!#REF!),\"\",重整表!#REF!)","v":{"$error":"#REF!"}},{"$f":"IF(ISBLANK(重整表!#REF!),\"\",重整表!#REF!)","v":{"$error":"#REF!"}},null,null,{"$f":"IF(ISBLANK(重整表!#REF!),\"\",重整表!#REF!)","v":{"$error":"#REF!"}},null,null,{"$f":"IF(SEARCH(\"/\",重整表!#REF!)=3,LEFT(重整表!#REF!,2)+1911&MID(重整表!#REF!,3,8),LEFT(重整表!#REF!,3)+1911&MID(重整表!#REF!,4,8))","v":{"$error":"#REF!"}}]
[null,{"$f":"IF(ISBLANK(重整表!#REF!),\"\",重整表!#REF!)","v":{"$error":"#REF!"}},{"$f":"IF(ISBLANK(重整表!#REF!),\"\",IF(重整表!#REF!=\"男\",1,IF(重整表!#REF!=\"女\",2)))","v":{"$error":"#REF!"}},null,{"$f":"IF(ISERROR(VLOOKUP($B87,IF({1,0},編班結果表!$E$4:$E$303,編班結果表!$B$4:$B$303),2,)),\"\",VLOOKUP($B87,IF({1,0},編班結果表!$E$4:$E$303,編班結果表!$B$4:$B$303),2,))","v":""},{"$f":"IF(ISERROR(VLOOKUP($B87,IF({1,0},編班結果表!$E$4:$F$303,編班結果表!$C$4:$C$303),2,FALSE)),\"\",VLOOKUP($B87,IF({1,0},編班結果表!$E$4:$F$303,編班結果表!$C$4:$C$303),2,FALSE))","v":""},{"$f":"IF(SEARCH(\"/\",重整表!#REF!)=3,LEFT(重整表!#REF!,2)+1911&MID(重整表!#REF!,3,8),LEFT(重整表!#REF!,3)+1911&MID(重整表!#REF!,4,8))","v":{"$error":"#REF!"}},{"$f":"IF(ISBLANK(重整表!#REF!),\"\",重整表!#REF!)","v":{"$error":"#REF!"}},{"$f":"IF(ISBLANK(重整表!#REF!),\"\",重整表!#REF!)","v":{"$error":"#REF!"}},{"$f":"IF(ISBLANK(重整表!#REF!),\"\",重整表!#REF!)","v":{"$error":"#REF!"}},null,null,{"$f":"IF(ISBLANK(重整表!#REF!),\"\",重整表!#REF!)","v":{"$error":"#REF!"}},null,null,{"$f":"IF(SEARCH(\"/\",重整表!#REF!)=3,LEFT(重整表!#REF!,2)+1911&MID(重整表!#REF!,3,8),LEFT(重整表!#REF!,3)+1911&MID(重整表!#REF!,4,8))","v":{"$error":"#REF!"}}]
[null,{"$f":"IF(ISBLANK(重整表!#REF!),\"\",重整表!#REF!)","v":{"$error":"#REF!"}},{"$f":"IF(ISBLANK(重整表!#REF!),\"\",IF(重整表!#REF!=\"男\",1,IF(重整表!#REF!=\"女\",2)))","v":{"$error":"#REF!"}},null,{"$f":"IF(ISERROR(VLOOKUP($B88,IF({1,0},編班結果表!$E$4:$E$303,編班結果表!$B$4:$B$303),2,)),\"\",VLOOKUP($B88,IF({1,0},編班結果表!$E$4:$E$303,編班結果表!$B$4:$B$303),2,))","v":""},{"$f":"IF(ISERROR(VLOOKUP($B88,IF({1,0},編班結果表!$E$4:$F$303,編班結果表!$C$4:$C$303),2,FALSE)),\"\",VLOOKUP($B88,IF({1,0},編班結果表!$E$4:$F$303,編班結果表!$C$4:$C$303),2,FALSE))","v":""},{"$f":"IF(SEARCH(\"/\",重整表!#REF!)=3,LEFT(重整表!#REF!,2)+1911&MID(重整表!#REF!,3,8),LEFT(重整表!#REF!,3)+1911&MID(重整表!#REF!,4,8))","v":{"$error":"#REF!"}},{"$f":"IF(ISBLANK(重整表!#REF!),\"\",重整表!#REF!)","v":{"$error":"#REF!"}},{"$f":"IF(ISBLANK(重整表!#REF!),\"\",重整表!#REF!)","v":{"$error":"#REF!"}},{"$f":"IF(ISBLANK(重整表!#REF!),\"\",重整表!#REF!)","v":{"$error":"#REF!"}},null,null,{"$f":"IF(ISBLANK(重整表!#REF!),\"\",重整表!#REF!)","v":{"$error":"#REF!"}},null,null,{"$f":"IF(SEARCH(\"/\",重整表!#REF!)=3,LEFT(重整表!#REF!,2)+1911&MID(重整表!#REF!,3,8),LEFT(重整表!#REF!,3)+1911&MID(重整表!#REF!,4,8))","v":{"$error":"#REF!"}}]
[null,{"$f":"IF(ISBLANK(重整表!#REF!),\"\",重整表!#REF!)","v":{"$error":"#REF!"}},{"$f":"IF(ISBLANK(重整表!#REF!),\"\",IF(重整表!#REF!=\"男\",1,IF(重整表!#REF!=\"女\",2)))","v":{"$error":"#REF!"}},null,{"$f":"IF(ISERROR(VLOOKUP($B89,IF({1,0},編班結果表!$E$4:$E$303,編班結果表!$B$4:$B$303),2,)),\"\",VLOOKUP($B89,IF({1,0},編班結果表!$E$4:$E$303,編班結果表!$B$4:$B$303),2,))","v":""},{"$f":"IF(ISERROR(VLOOKUP($B89,IF({1,0},編班結果表!$E$4:$F$303,編班結果表!$C$4:$C$303),2,FALSE)),\"\",VLOOKUP($B89,IF({1,0},編班結果表!$E$4:$F$303,編班結果表!$C$4:$C$303),2,FALSE))","v":""},{"$f":"IF(SEARCH(\"/\",重整表!#REF!)=3,LEFT(重整表!#REF!,2)+1911&MID(重整表!#REF!,3,8),LEFT(重整表!#REF!,3)+1911&MID(重整表!#REF!,4,8))","v":{"$error":"#REF!"}},{"$f":"IF(ISBLANK(重整表!#REF!),\"\",重整表!#REF!)","v":{"$error":"#REF!"}},{"$f":"IF(ISBLANK(重整表!#REF!),\"\",重整表!#REF!)","v":{"$error":"#REF!"}},{"$f":"IF(ISBLANK(重整表!#REF!),\"\",重整表!#REF!)","v":{"$error":"#REF!"}},null,null,{"$f":"IF(ISBLANK(重整表!#REF!),\"\",重整表!#REF!)","v":{"$error":"#REF!"}},null,null,{"$f":"IF(SEARCH(\"/\",重整表!#REF!)=3,LEFT(重整表!#REF!,2)+1911&MID(重整表!#REF!,3,8),LEFT(重整表!#REF!,3)+1911&MID(重整表!#REF!,4,8))","v":{"$error":"#REF!"}}]
[null,{"$f":"IF(ISBLANK(重整表!#REF!),\"\",重整表!#REF!)","v":{"$error":"#REF!"}},{"$f":"IF(ISBLANK(重整表!#REF!),\"\",IF(重整表!#REF!=\"男\",1,IF(重整表!#REF!=\"女\",2)))","v":{"$error":"#REF!"}},null,{"$f":"IF(ISERROR(VLOOKUP($B90,IF({1,0},編班結果表!$E$4:$E$303,編班結果表!$B$4:$B$303),2,)),\"\",VLOOKUP($B90,IF({1,0},編班結果表!$E$4:$E$303,編班結果表!$B$4:$B$303),2,))","v":""},{"$f":"IF(ISERROR(VLOOKUP($B90,IF({1,0},編班結果表!$E$4:$F$303,編班結果表!$C$4:$C$303),2,FALSE)),\"\",VLOOKUP($B90,IF({1,0},編班結果表!$E$4:$F$303,編班結果表!$C$4:$C$303),2,FALSE))","v":""},{"$f":"IF(SEARCH(\"/\",重整表!#REF!)=3,LEFT(重整表!#REF!,2)+1911&MID(重整表!#REF!,3,8),LEFT(重整表!#REF!,3)+1911&MID(重整表!#REF!,4,8))","v":{"$error":"#REF!"}},{"$f":"IF(ISBLANK(重整表!#REF!),\"\",重整表!#REF!)","v":{"$error":"#REF!"}},{"$f":"IF(ISBLANK(重整表!#REF!),\"\",重整表!#REF!)","v":{"$error":"#REF!"}},{"$f":"IF(ISBLANK(重整表!#REF!),\"\",重整表!#REF!)","v":{"$error":"#REF!"}},null,null,{"$f":"IF(ISBLANK(重整表!#REF!),\"\",重整表!#REF!)","v":{"$error":"#REF!"}},null,null,{"$f":"IF(SEARCH(\"/\",重整表!#REF!)=3,LEFT(重整表!#REF!,2)+1911&MID(重整表!#REF!,3,8),LEFT(重整表!#REF!,3)+1911&MID(重整表!#REF!,4,8))","v":{"$error":"#REF!"}}]
[null,{"$f":"IF(ISBLANK(重整表!#REF!),\"\",重整表!#REF!)","v":{"$error":"#REF!"}},{"$f":"IF(ISBLANK(重整表!#REF!),\"\",IF(重整表!#REF!=\"男\",1,IF(重整表!#REF!=\"女\",2)))","v":{"$error":"#REF!"}},null,{"$f":"IF(ISERROR(VLOOKUP($B91,IF({1,0},編班結果表!$E$4:$E$303,編班結果表!$B$4:$B$303),2,)),\"\",VLOOKUP($B91,IF({1,0},編班結果表!$E$4:$E$303,編班結果表!$B$4:$B$303),2,))","v":""},{"$f":"IF(ISERROR(VLOOKUP($B91,IF({1,0},編班結果表!$E$4:$F$303,編班結果表!$C$4:$C$303),2,FALSE)),\"\",VLOOKUP($B91,IF({1,0},編班結果表!$E$4:$F$303,編班結果表!$C$4:$C$303),2,FALSE))","v":""},{"$f":"IF(SEARCH(\"/\",重整表!#REF!)=3,LEFT(重整表!#REF!,2)+1911&MID(重整表!#REF!,3,8),LEFT(重整表!#REF!,3)+1911&MID(重整表!#REF!,4,8))","v":{"$error":"#REF!"}},{"$f":"IF(ISBLANK(重整表!#REF!),\"\",重整表!#REF!)","v":{"$error":"#REF!"}},{"$f":"IF(ISBLANK(重整表!#REF!),\"\",重整表!#REF!)","v":{"$error":"#REF!"}},{"$f":"IF(ISBLANK(重整表!#REF!),\"\",重整表!#REF!)","v":{"$error":"#REF!"}},null,null,{"$f":"IF(ISBLANK(重整表!#REF!),\"\",重整表!#REF!)","v":{"$error":"#REF!"}},null,null,{"$f":"IF(SEARCH(\"/\",重整表!#REF!)=3,LEFT(重整表!#REF!,2)+1911&MID(重整表!#REF!,3,8),LEFT(重整表!#REF!,3)+1911&MID(重整表!#REF!,4,8))","v":{"$error":"#REF!"}}]
[null,{"$f":"IF(ISBLANK(重整表!#REF!),\"\",重整表!#REF!)","v":{"$error":"#REF!"}},{"$f":"IF(ISBLANK(重整表!#REF!),\"\",IF(重整表!#REF!=\"男\",1,IF(重整表!#REF!=\"女\",2)))","v":{"$error":"#REF!"}},null,{"$f":"IF(ISERROR(VLOOKUP($B92,IF({1,0},編班結果表!$E$4:$E$303,編班結果表!$B$4:$B$303),2,)),\"\",VLOOKUP($B92,IF({1,0},編班結果表!$E$4:$E$303,編班結果表!$B$4:$B$303),2,))","v":""},{"$f":"IF(ISERROR(VLOOKUP($B92,IF({1,0},編班結果表!$E$4:$F$303,編班結果表!$C$4:$C$303),2,FALSE)),\"\",VLOOKUP($B92,IF({1,0},編班結果表!$E$4:$F$303,編班結果表!$C$4:$C$303),2,FALSE))","v":""},{"$f":"IF(SEARCH(\"/\",重整表!#REF!)=3,LEFT(重整表!#REF!,2)+1911&MID(重整表!#REF!,3,8),LEFT(重整表!#REF!,3)+1911&MID(重整表!#REF!,4,8))","v":{"$error":"#REF!"}},{"$f":"IF(ISBLANK(重整表!#REF!),\"\",重整表!#REF!)","v":{"$error":"#REF!"}},{"$f":"IF(ISBLANK(重整表!#REF!),\"\",重整表!#REF!)","v":{"$error":"#REF!"}},{"$f":"IF(ISBLANK(重整表!#REF!),\"\",重整表!#REF!)","v":{"$error":"#REF!"}},null,null,{"$f":"IF(ISBLANK(重整表!#REF!),\"\",重整表!#REF!)","v":{"$error":"#REF!"}},null,null,{"$f":"IF(SEARCH(\"/\",重整表!#REF!)=3,LEFT(重整表!#REF!,2)+1911&MID(重整表!#REF!,3,8),LEFT(重整表!#REF!,3)+1911&MID(重整表!#REF!,4,8))","v":{"$error":"#REF!"}}]
[null,{"$f":"IF(ISBLANK(重整表!#REF!),\"\",重整表!#REF!)","v":{"$error":"#REF!"}},{"$f":"IF(ISBLANK(重整表!#REF!),\"\",IF(重整表!#REF!=\"男\",1,IF(重整表!#REF!=\"女\",2)))","v":{"$error":"#REF!"}},null,{"$f":"IF(ISERROR(VLOOKUP($B93,IF({1,0},編班結果表!$E$4:$E$303,編班結果表!$B$4:$B$303),2,)),\"\",VLOOKUP($B93,IF({1,0},編班結果表!$E$4:$E$303,編班結果表!$B$4:$B$303),2,))","v":""},{"$f":"IF(ISERROR(VLOOKUP($B93,IF({1,0},編班結果表!$E$4:$F$303,編班結果表!$C$4:$C$303),2,FALSE)),\"\",VLOOKUP($B93,IF({1,0},編班結果表!$E$4:$F$303,編班結果表!$C$4:$C$303),2,FALSE))","v":""},{"$f":"IF(SEARCH(\"/\",重整表!#REF!)=3,LEFT(重整表!#REF!,2)+1911&MID(重整表!#REF!,3,8),LEFT(重整表!#REF!,3)+1911&MID(重整表!#REF!,4,8))","v":{"$error":"#REF!"}},{"$f":"IF(ISBLANK(重整表!#REF!),\"\",重整表!#REF!)","v":{"$error":"#REF!"}},{"$f":"IF(ISBLANK(重整表!#REF!),\"\",重整表!#REF!)","v":{"$error":"#REF!"}},{"$f":"IF(ISBLANK(重整表!#REF!),\"\",重整表!#REF!)","v":{"$error":"#REF!"}},null,null,{"$f":"IF(ISBLANK(重整表!#REF!),\"\",重整表!#REF!)","v":{"$error":"#REF!"}},null,null,{"$f":"IF(SEARCH(\"/\",重整表!#REF!)=3,LEFT(重整表!#REF!,2)+1911&MID(重整表!#REF!,3,8),LEFT(重整表!#REF!,3)+1911&MID(重整表!#REF!,4,8))","v":{"$error":"#REF!"}}]
[null,{"$f":"IF(ISBLANK(重整表!#REF!),\"\",重整表!#REF!)","v":{"$error":"#REF!"}},{"$f":"IF(ISBLANK(重整表!#REF!),\"\",IF(重整表!#REF!=\"男\",1,IF(重整表!#REF!=\"女\",2)))","v":{"$error":"#REF!"}},null,{"$f":"IF(ISERROR(VLOOKUP($B94,IF({1,0},編班結果表!$E$4:$E$303,編班結果表!$B$4:$B$303),2,)),\"\",VLOOKUP($B94,IF({1,0},編班結果表!$E$4:$E$303,編班結果表!$B$4:$B$303),2,))","v":""},{"$f":"IF(ISERROR(VLOOKUP($B94,IF({1,0},編班結果表!$E$4:$F$303,編班結果表!$C$4:$C$303),2,FALSE)),\"\",VLOOKUP($B94,IF({1,0},編班結果表!$E$4:$F$303,編班結果表!$C$4:$C$303),2,FALSE))","v":""},{"$f":"IF(SEARCH(\"/\",重整表!#REF!)=3,LEFT(重整表!#REF!,2)+1911&MID(重整表!#REF!,3,8),LEFT(重整表!#REF!,3)+1911&MID(重整表!#REF!,4,8))","v":{"$error":"#REF!"}},{"$f":"IF(ISBLANK(重整表!#REF!),\"\",重整表!#REF!)","v":{"$error":"#REF!"}},{"$f":"IF(ISBLANK(重整表!#REF!),\"\",重整表!#REF!)","v":{"$error":"#REF!"}},{"$f":"IF(ISBLANK(重整表!#REF!),\"\",重整表!#REF!)","v":{"$error":"#REF!"}},null,null,{"$f":"IF(ISBLANK(重整表!#REF!),\"\",重整表!#REF!)","v":{"$error":"#REF!"}},null,null,{"$f":"IF(SEARCH(\"/\",重整表!#REF!)=3,LEFT(重整表!#REF!,2)+1911&MID(重整表!#REF!,3,8),LEFT(重整表!#REF!,3)+1911&MID(重整表!#REF!,4,8))","v":{"$error":"#REF!"}}]
[null,{"$f":"IF(ISBLANK(重整表!#REF!),\"\",重整表!#REF!)","v":{"$error":"#REF!"}},{"$f":"IF(ISBLANK(重整表!#REF!),\"\",IF(重整表!#REF!=\"男\",1,IF(重整表!#REF!=\"女\",2)))","v":{"$error":"#REF!"}},null,{"$f":"IF(ISERROR(VLOOKUP($B95,IF({1,0},編班結果表!$E$4:$E$303,編班結果表!$B$4:$B$303),2,)),\"\",VLOOKUP($B95,IF({1,0},編班結果表!$E$4:$E$303,編班結果表!$B$4:$B$303),2,))","v":""},{"$f":"IF(ISERROR(VLOOKUP($B95,IF({1,0},編班結果表!$E$4:$F$303,編班結果表!$C$4:$C$303),2,FALSE)),\"\",VLOOKUP($B95,IF({1,0},編班結果表!$E$4:$F$303,編班結果表!$C$4:$C$303),2,FALSE))","v":""},{"$f":"IF(SEARCH(\"/\",重整表!#REF!)=3,LEFT(重整表!#REF!,2)+1911&MID(重整表!#REF!,3,8),LEFT(重整表!#REF!,3)+1911&MID(重整表!#REF!,4,8))","v":{"$error":"#REF!"}},{"$f":"IF(ISBLANK(重整表!#REF!),\"\",重整表!#REF!)","v":{"$error":"#REF!"}},{"$f":"IF(ISBLANK(重整表!#REF!),\"\",重整表!#REF!)","v":{"$error":"#REF!"}},{"$f":"IF(ISBLANK(重整表!#REF!),\"\",重整表!#REF!)","v":{"$error":"#REF!"}},null,null,{"$f":"IF(ISBLANK(重整表!#REF!),\"\",重整表!#REF!)","v":{"$error":"#REF!"}},null,null,{"$f":"IF(SEARCH(\"/\",重整表!#REF!)=3,LEFT(重整表!#REF!,2)+1911&MID(重整表!#REF!,3,8),LEFT(重整表!#REF!,3)+1911&MID(重整表!#REF!,4,8))","v":{"$error":"#REF!"}}]
[null,{"$f":"IF(ISBLANK(重整表!#REF!),\"\",重整表!#REF!)","v":{"$error":"#REF!"}},{"$f":"IF(ISBLANK(重整表!#REF!),\"\",IF(重整表!#REF!=\"男\",1,IF(重整表!#REF!=\"女\",2)))","v":{"$error":"#REF!"}},null,{"$f":"IF(ISERROR(VLOOKUP($B96,IF({1,0},編班結果表!$E$4:$E$303,編班結果表!$B$4:$B$303),2,)),\"\",VLOOKUP($B96,IF({1,0},編班結果表!$E$4:$E$303,編班結果表!$B$4:$B$303),2,))","v":""},{"$f":"IF(ISERROR(VLOOKUP($B96,IF({1,0},編班結果表!$E$4:$F$303,編班結果表!$C$4:$C$303),2,FALSE)),\"\",VLOOKUP($B96,IF({1,0},編班結果表!$E$4:$F$303,編班結果表!$C$4:$C$303),2,FALSE))","v":""},{"$f":"IF(SEARCH(\"/\",重整表!#REF!)=3,LEFT(重整表!#REF!,2)+1911&MID(重整表!#REF!,3,8),LEFT(重整表!#REF!,3)+1911&MID(重整表!#REF!,4,8))","v":{"$error":"#REF!"}},{"$f":"IF(ISBLANK(重整表!#REF!),\"\",重整表!#REF!)","v":{"$error":"#REF!"}},{"$f":"IF(ISBLANK(重整表!#REF!),\"\",重整表!#REF!)","v":{"$error":"#REF!"}},{"$f":"IF(ISBLANK(重整表!#REF!),\"\",重整表!#REF!)","v":{"$error":"#REF!"}},null,null,{"$f":"IF(ISBLANK(重整表!#REF!),\"\",重整表!#REF!)","v":{"$error":"#REF!"}},null,null,{"$f":"IF(SEARCH(\"/\",重整表!#REF!)=3,LEFT(重整表!#REF!,2)+1911&MID(重整表!#REF!,3,8),LEFT(重整表!#REF!,3)+1911&MID(重整表!#REF!,4,8))","v":{"$error":"#REF!"}}]
[null,{"$f":"IF(ISBLANK(重整表!#REF!),\"\",重整表!#REF!)","v":{"$error":"#REF!"}},{"$f":"IF(ISBLANK(重整表!#REF!),\"\",IF(重整表!#REF!=\"男\",1,IF(重整表!#REF!=\"女\",2)))","v":{"$error":"#REF!"}},null,{"$f":"IF(ISERROR(VLOOKUP($B97,IF({1,0},編班結果表!$E$4:$E$303,編班結果表!$B$4:$B$303),2,)),\"\",VLOOKUP($B97,IF({1,0},編班結果表!$E$4:$E$303,編班結果表!$B$4:$B$303),2,))","v":""},{"$f":"IF(ISERROR(VLOOKUP($B97,IF({1,0},編班結果表!$E$4:$F$303,編班結果表!$C$4:$C$303),2,FALSE)),\"\",VLOOKUP($B97,IF({1,0},編班結果表!$E$4:$F$303,編班結果表!$C$4:$C$303),2,FALSE))","v":""},{"$f":"IF(SEARCH(\"/\",重整表!#REF!)=3,LEFT(重整表!#REF!,2)+1911&MID(重整表!#REF!,3,8),LEFT(重整表!#REF!,3)+1911&MID(重整表!#REF!,4,8))","v":{"$error":"#REF!"}},{"$f":"IF(ISBLANK(重整表!#REF!),\"\",重整表!#REF!)","v":{"$error":"#REF!"}},{"$f":"IF(ISBLANK(重整表!#REF!),\"\",重整表!#REF!)","v":{"$error":"#REF!"}},{"$f":"IF(ISBLANK(重整表!#REF!),\"\",重整表!#REF!)","v":{"$error":"#REF!"}},null,null,{"$f":"IF(ISBLANK(重整表!#REF!),\"\",重整表!#REF!)","v":{"$error":"#REF!"}},null,null,{"$f":"IF(SEARCH(\"/\",重整表!#REF!)=3,LEFT(重整表!#REF!,2)+1911&MID(重整表!#REF!,3,8),LEFT(重整表!#REF!,3)+1911&MID(重整表!#REF!,4,8))","v":{"$error":"#REF!"}}]
[null,{"$f":"IF(ISBLANK(重整表!#REF!),\"\",重整表!#REF!)","v":{"$error":"#REF!"}},{"$f":"IF(ISBLANK(重整表!#REF!),\"\",IF(重整表!#REF!=\"男\",1,IF(重整表!#REF!=\"女\",2)))","v":{"$error":"#REF!"}},null,{"$f":"IF(ISERROR(VLOOKUP($B98,IF({1,0},編班結果表!$E$4:$E$303,編班結果表!$B$4:$B$303),2,)),\"\",VLOOKUP($B98,IF({1,0},編班結果表!$E$4:$E$303,編班結果表!$B$4:$B$303),2,))","v":""},{"$f":"IF(ISERROR(VLOOKUP($B98,IF({1,0},編班結果表!$E$4:$F$303,編班結果表!$C$4:$C$303),2,FALSE)),\"\",VLOOKUP($B98,IF({1,0},編班結果表!$E$4:$F$303,編班結果表!$C$4:$C$303),2,FALSE))","v":""},{"$f":"IF(SEARCH(\"/\",重整表!#REF!)=3,LEFT(重整表!#REF!,2)+1911&MID(重整表!#REF!,3,8),LEFT(重整表!#REF!,3)+1911&MID(重整表!#REF!,4,8))","v":{"$error":"#REF!"}},{"$f":"IF(ISBLANK(重整表!#REF!),\"\",重整表!#REF!)","v":{"$error":"#REF!"}},{"$f":"IF(ISBLANK(重整表!#REF!),\"\",重整表!#REF!)","v":{"$error":"#REF!"}},{"$f":"IF(ISBLANK(重整表!#REF!),\"\",重整表!#REF!)","v":{"$error":"#REF!"}},null,null,{"$f":"IF(ISBLANK(重整表!#REF!),\"\",重整表!#REF!)","v":{"$error":"#REF!"}},null,null,{"$f":"IF(SEARCH(\"/\",重整表!#REF!)=3,LEFT(重整表!#REF!,2)+1911&MID(重整表!#REF!,3,8),LEFT(重整表!#REF!,3)+1911&MID(重整表!#REF!,4,8))","v":{"$error":"#REF!"}}]
[null,{"$f":"IF(ISBLANK(重整表!#REF!),\"\",重整表!#REF!)","v":{"$error":"#REF!"}},{"$f":"IF(ISBLANK(重整表!#REF!),\"\",IF(重整表!#REF!=\"男\",1,IF(重整表!#REF!=\"女\",2)))","v":{"$error":"#REF!"}},null,{"$f":"IF(ISERROR(VLOOKUP($B99,IF({1,0},編班結果表!$E$4:$E$303,編班結果表!$B$4:$B$303),2,)),\"\",VLOOKUP($B99,IF({1,0},編班結果表!$E$4:$E$303,編班結果表!$B$4:$B$303),2,))","v":""},{"$f":"IF(ISERROR(VLOOKUP($B99,IF({1,0},編班結果表!$E$4:$F$303,編班結果表!$C$4:$C$303),2,FALSE)),\"\",VLOOKUP($B99,IF({1,0},編班結果表!$E$4:$F$303,編班結果表!$C$4:$C$303),2,FALSE))","v":""},{"$f":"IF(SEARCH(\"/\",重整表!#REF!)=3,LEFT(重整表!#REF!,2)+1911&MID(重整表!#REF!,3,8),LEFT(重整表!#REF!,3)+1911&MID(重整表!#REF!,4,8))","v":{"$error":"#REF!"}},{"$f":"IF(ISBLANK(重整表!#REF!),\"\",重整表!#REF!)","v":{"$error":"#REF!"}},{"$f":"IF(ISBLANK(重整表!#REF!),\"\",重整表!#REF!)","v":{"$error":"#REF!"}},{"$f":"IF(ISBLANK(重整表!#REF!),\"\",重整表!#REF!)","v":{"$error":"#REF!"}},null,null,{"$f":"IF(ISBLANK(重整表!#REF!),\"\",重整表!#REF!)","v":{"$error":"#REF!"}},null,null,{"$f":"IF(SEARCH(\"/\",重整表!#REF!)=3,LEFT(重整表!#REF!,2)+1911&MID(重整表!#REF!,3,8),LEFT(重整表!#REF!,3)+1911&MID(重整表!#REF!,4,8))","v":{"$error":"#REF!"}}]
[null,{"$f":"IF(ISBLANK(重整表!#REF!),\"\",重整表!#REF!)","v":{"$error":"#REF!"}},{"$f":"IF(ISBLANK(重整表!#REF!),\"\",IF(重整表!#REF!=\"男\",1,IF(重整表!#REF!=\"女\",2)))","v":{"$error":"#REF!"}},null,{"$f":"IF(ISERROR(VLOOKUP($B100,IF({1,0},編班結果表!$E$4:$E$303,編班結果表!$B$4:$B$303),2,)),\"\",VLOOKUP($B100,IF({1,0},編班結果表!$E$4:$E$303,編班結果表!$B$4:$B$303),2,))","v":""},{"$f":"IF(ISERROR(VLOOKUP($B100,IF({1,0},編班結果表!$E$4:$F$303,編班結果表!$C$4:$C$303),2,FALSE)),\"\",VLOOKUP($B100,IF({1,0},編班結果表!$E$4:$F$303,編班結果表!$C$4:$C$303),2,FALSE))","v":""},{"$f":"IF(SEARCH(\"/\",重整表!#REF!)=3,LEFT(重整表!#REF!,2)+1911&MID(重整表!#REF!,3,8),LEFT(重整表!#REF!,3)+1911&MID(重整表!#REF!,4,8))","v":{"$error":"#REF!"}},{"$f":"IF(ISBLANK(重整表!#REF!),\"\",重整表!#REF!)","v":{"$error":"#REF!"}},{"$f":"IF(ISBLANK(重整表!#REF!),\"\",重整表!#REF!)","v":{"$error":"#REF!"}},{"$f":"IF(ISBLANK(重整表!#REF!),\"\",重整表!#REF!)","v":{"$error":"#REF!"}},null,null,{"$f":"IF(ISBLANK(重整表!#REF!),\"\",重整表!#REF!)","v":{"$error":"#REF!"}},null,null,{"$f":"IF(SEARCH(\"/\",重整表!#REF!)=3,LEFT(重整表!#REF!,2)+1911&MID(重整表!#REF!,3,8),LEFT(重整表!#REF!,3)+1911&MID(重整表!#REF!,4,8))","v":{"$error":"#REF!"}}]
[null,{"$f":"IF(ISBLANK(重整表!#REF!),\"\",重整表!#REF!)","v":{"$error":"#REF!"}},{"$f":"IF(ISBLANK(重整表!#REF!),\"\",IF(重整表!#REF!=\"男\",1,IF(重整表!#REF!=\"女\",2)))","v":{"$error":"#REF!"}},null,{"$f":"IF(ISERROR(VLOOKUP($B101,IF({1,0},編班結果表!$E$4:$E$303,編班結果表!$B$4:$B$303),2,)),\"\",VLOOKUP($B101,IF({1,0},編班結果表!$E$4:$E$303,編班結果表!$B$4:$B$303),2,))","v":""},{"$f":"IF(ISERROR(VLOOKUP($B101,IF({1,0},編班結果表!$E$4:$F$303,編班結果表!$C$4:$C$303),2,FALSE)),\"\",VLOOKUP($B101,IF({1,0},編班結果表!$E$4:$F$303,編班結果表!$C$4:$C$303),2,FALSE))","v":""},{"$f":"IF(SEARCH(\"/\",重整表!#REF!)=3,LEFT(重整表!#REF!,2)+1911&MID(重整表!#REF!,3,8),LEFT(重整表!#REF!,3)+1911&MID(重整表!#REF!,4,8))","v":{"$error":"#REF!"}},{"$f":"IF(ISBLANK(重整表!#REF!),\"\",重整表!#REF!)","v":{"$error":"#REF!"}},{"$f":"IF(ISBLANK(重整表!#REF!),\"\",重整表!#REF!)","v":{"$error":"#REF!"}},{"$f":"IF(ISBLANK(重整表!#REF!),\"\",重整表!#REF!)","v":{"$error":"#REF!"}},null,null,{"$f":"IF(ISBLANK(重整表!#REF!),\"\",重整表!#REF!)","v":{"$error":"#REF!"}},null,null,{"$f":"IF(SEARCH(\"/\",重整表!#REF!)=3,LEFT(重整表!#REF!,2)+1911&MID(重整表!#REF!,3,8),LEFT(重整表!#REF!,3)+1911&MID(重整表!#REF!,4,8))","v":{"$error":"#REF!"}}]
[null,{"$f":"IF(ISBLANK(重整表!#REF!),\"\",重整表!#REF!)","v":{"$error":"#REF!"}},{"$f":"IF(ISBLANK(重整表!#REF!),\"\",IF(重整表!#REF!=\"男\",1,IF(重整表!#REF!=\"女\",2)))","v":{"$error":"#REF!"}},null,{"$f":"IF(ISERROR(VLOOKUP($B102,IF({1,0},編班結果表!$E$4:$E$303,編班結果表!$B$4:$B$303),2,)),\"\",VLOOKUP($B102,IF({1,0},編班結果表!$E$4:$E$303,編班結果表!$B$4:$B$303),2,))","v":""},{"$f":"IF(ISERROR(VLOOKUP($B102,IF({1,0},編班結果表!$E$4:$F$303,編班結果表!$C$4:$C$303),2,FALSE)),\"\",VLOOKUP($B102,IF({1,0},編班結果表!$E$4:$F$303,編班結果表!$C$4:$C$303),2,FALSE))","v":""},{"$f":"IF(SEARCH(\"/\",重整表!#REF!)=3,LEFT(重整表!#REF!,2)+1911&MID(重整表!#REF!,3,8),LEFT(重整表!#REF!,3)+1911&MID(重整表!#REF!,4,8))","v":{"$error":"#REF!"}},{"$f":"IF(ISBLANK(重整表!#REF!),\"\",重整表!#REF!)","v":{"$error":"#REF!"}},{"$f":"IF(ISBLANK(重整表!#REF!),\"\",重整表!#REF!)","v":{"$error":"#REF!"}},{"$f":"IF(ISBLANK(重整表!#REF!),\"\",重整表!#REF!)","v":{"$error":"#REF!"}},null,null,{"$f":"IF(ISBLANK(重整表!#REF!),\"\",重整表!#REF!)","v":{"$error":"#REF!"}},null,null,{"$f":"IF(SEARCH(\"/\",重整表!#REF!)=3,LEFT(重整表!#REF!,2)+1911&MID(重整表!#REF!,3,8),LEFT(重整表!#REF!,3)+1911&MID(重整表!#REF!,4,8))","v":{"$error":"#REF!"}}]
[null,{"$f":"IF(ISBLANK(重整表!#REF!),\"\",重整表!#REF!)","v":{"$error":"#REF!"}},{"$f":"IF(ISBLANK(重整表!#REF!),\"\",IF(重整表!#REF!=\"男\",1,IF(重整表!#REF!=\"女\",2)))","v":{"$error":"#REF!"}},null,{"$f":"IF(ISERROR(VLOOKUP($B103,IF({1,0},編班結果表!$E$4:$E$303,編班結果表!$B$4:$B$303),2,)),\"\",VLOOKUP($B103,IF({1,0},編班結果表!$E$4:$E$303,編班結果表!$B$4:$B$303),2,))","v":""},{"$f":"IF(ISERROR(VLOOKUP($B103,IF({1,0},編班結果表!$E$4:$F$303,編班結果表!$C$4:$C$303),2,FALSE)),\"\",VLOOKUP($B103,IF({1,0},編班結果表!$E$4:$F$303,編班結果表!$C$4:$C$303),2,FALSE))","v":""},{"$f":"IF(SEARCH(\"/\",重整表!#REF!)=3,LEFT(重整表!#REF!,2)+1911&MID(重整表!#REF!,3,8),LEFT(重整表!#REF!,3)+1911&MID(重整表!#REF!,4,8))","v":{"$error":"#REF!"}},{"$f":"IF(ISBLANK(重整表!#REF!),\"\",重整表!#REF!)","v":{"$error":"#REF!"}},{"$f":"IF(ISBLANK(重整表!#REF!),\"\",重整表!#REF!)","v":{"$error":"#REF!"}},{"$f":"IF(ISBLANK(重整表!#REF!),\"\",重整表!#REF!)","v":{"$error":"#REF!"}},null,null,{"$f":"IF(ISBLANK(重整表!#REF!),\"\",重整表!#REF!)","v":{"$error":"#REF!"}},null,null,{"$f":"IF(SEARCH(\"/\",重整表!#REF!)=3,LEFT(重整表!#REF!,2)+1911&MID(重整表!#REF!,3,8),LEFT(重整表!#REF!,3)+1911&MID(重整表!#REF!,4,8))","v":{"$error":"#REF!"}}]
[null,{"$f":"IF(ISBLANK(重整表!#REF!),\"\",重整表!#REF!)","v":{"$error":"#REF!"}},{"$f":"IF(ISBLANK(重整表!#REF!),\"\",IF(重整表!#REF!=\"男\",1,IF(重整表!#REF!=\"女\",2)))","v":{"$error":"#REF!"}},null,{"$f":"IF(ISERROR(VLOOKUP($B104,IF({1,0},編班結果表!$E$4:$E$303,編班結果表!$B$4:$B$303),2,)),\"\",VLOOKUP($B104,IF({1,0},編班結果表!$E$4:$E$303,編班結果表!$B$4:$B$303),2,))","v":""},{"$f":"IF(ISERROR(VLOOKUP($B104,IF({1,0},編班結果表!$E$4:$F$303,編班結果表!$C$4:$C$303),2,FALSE)),\"\",VLOOKUP($B104,IF({1,0},編班結果表!$E$4:$F$303,編班結果表!$C$4:$C$303),2,FALSE))","v":""},{"$f":"IF(SEARCH(\"/\",重整表!#REF!)=3,LEFT(重整表!#REF!,2)+1911&MID(重整表!#REF!,3,8),LEFT(重整表!#REF!,3)+1911&MID(重整表!#REF!,4,8))","v":{"$error":"#REF!"}},{"$f":"IF(ISBLANK(重整表!#REF!),\"\",重整表!#REF!)","v":{"$error":"#REF!"}},{"$f":"IF(ISBLANK(重整表!#REF!),\"\",重整表!#REF!)","v":{"$error":"#REF!"}},{"$f":"IF(ISBLANK(重整表!#REF!),\"\",重整表!#REF!)","v":{"$error":"#REF!"}},null,null,{"$f":"IF(ISBLANK(重整表!#REF!),\"\",重整表!#REF!)","v":{"$error":"#REF!"}},null,null,{"$f":"IF(SEARCH(\"/\",重整表!#REF!)=3,LEFT(重整表!#REF!,2)+1911&MID(重整表!#REF!,3,8),LEFT(重整表!#REF!,3)+1911&MID(重整表!#REF!,4,8))","v":{"$error":"#REF!"}}]
[null,{"$f":"IF(ISBLANK(重整表!#REF!),\"\",重整表!#REF!)","v":{"$error":"#REF!"}},{"$f":"IF(ISBLANK(重整表!#REF!),\"\",IF(重整表!#REF!=\"男\",1,IF(重整表!#REF!=\"女\",2)))","v":{"$error":"#REF!"}},null,{"$f":"IF(ISERROR(VLOOKUP($B105,IF({1,0},編班結果表!$E$4:$E$303,編班結果表!$B$4:$B$303),2,)),\"\",VLOOKUP($B105,IF({1,0},編班結果表!$E$4:$E$303,編班結果表!$B$4:$B$303),2,))","v":""},{"$f":"IF(ISERROR(VLOOKUP($B105,IF({1,0},編班結果表!$E$4:$F$303,編班結果表!$C$4:$C$303),2,FALSE)),\"\",VLOOKUP($B105,IF({1,0},編班結果表!$E$4:$F$303,編班結果表!$C$4:$C$303),2,FALSE))","v":""},{"$f":"IF(SEARCH(\"/\",重整表!#REF!)=3,LEFT(重整表!#REF!,2)+1911&MID(重整表!#REF!,3,8),LEFT(重整表!#REF!,3)+1911&MID(重整表!#REF!,4,8))","v":{"$error":"#REF!"}},{"$f":"IF(ISBLANK(重整表!#REF!),\"\",重整表!#REF!)","v":{"$error":"#REF!"}},{"$f":"IF(ISBLANK(重整表!#REF!),\"\",重整表!#REF!)","v":{"$error":"#REF!"}},{"$f":"IF(ISBLANK(重整表!#REF!),\"\",重整表!#REF!)","v":{"$error":"#REF!"}},null,null,{"$f":"IF(ISBLANK(重整表!#REF!),\"\",重整表!#REF!)","v":{"$error":"#REF!"}},null,null,{"$f":"IF(SEARCH(\"/\",重整表!#REF!)=3,LEFT(重整表!#REF!,2)+1911&MID(重整表!#REF!,3,8),LEFT(重整表!#REF!,3)+1911&MID(重整表!#REF!,4,8))","v":{"$error":"#REF!"}}]
[null,{"$f":"IF(ISBLANK(重整表!#REF!),\"\",重整表!#REF!)","v":{"$error":"#REF!"}},{"$f":"IF(ISBLANK(重整表!#REF!),\"\",IF(重整表!#REF!=\"男\",1,IF(重整表!#REF!=\"女\",2)))","v":{"$error":"#REF!"}},null,{"$f":"IF(ISERROR(VLOOKUP($B106,IF({1,0},編班結果表!$E$4:$E$303,編班結果表!$B$4:$B$303),2,)),\"\",VLOOKUP($B106,IF({1,0},編班結果表!$E$4:$E$303,編班結果表!$B$4:$B$303),2,))","v":""},{"$f":"IF(ISERROR(VLOOKUP($B106,IF({1,0},編班結果表!$E$4:$F$303,編班結果表!$C$4:$C$303),2,FALSE)),\"\",VLOOKUP($B106,IF({1,0},編班結果表!$E$4:$F$303,編班結果表!$C$4:$C$303),2,FALSE))","v":""},{"$f":"IF(SEARCH(\"/\",重整表!#REF!)=3,LEFT(重整表!#REF!,2)+1911&MID(重整表!#REF!,3,8),LEFT(重整表!#REF!,3)+1911&MID(重整表!#REF!,4,8))","v":{"$error":"#REF!"}},{"$f":"IF(ISBLANK(重整表!#REF!),\"\",重整表!#REF!)","v":{"$error":"#REF!"}},{"$f":"IF(ISBLANK(重整表!#REF!),\"\",重整表!#REF!)","v":{"$error":"#REF!"}},{"$f":"IF(ISBLANK(重整表!#REF!),\"\",重整表!#REF!)","v":{"$error":"#REF!"}},null,null,{"$f":"IF(ISBLANK(重整表!#REF!),\"\",重整表!#REF!)","v":{"$error":"#REF!"}},null,null,{"$f":"IF(SEARCH(\"/\",重整表!#REF!)=3,LEFT(重整表!#REF!,2)+1911&MID(重整表!#REF!,3,8),LEFT(重整表!#REF!,3)+1911&MID(重整表!#REF!,4,8))","v":{"$error":"#REF!"}}]
[null,{"$f":"IF(ISBLANK(重整表!#REF!),\"\",重整表!#REF!)","v":{"$error":"#REF!"}},{"$f":"IF(ISBLANK(重整表!#REF!),\"\",IF(重整表!#REF!=\"男\",1,IF(重整表!#REF!=\"女\",2)))","v":{"$error":"#REF!"}},null,{"$f":"IF(ISERROR(VLOOKUP($B107,IF({1,0},編班結果表!$E$4:$E$303,編班結果表!$B$4:$B$303),2,)),\"\",VLOOKUP($B107,IF({1,0},編班結果表!$E$4:$E$303,編班結果表!$B$4:$B$303),2,))","v":""},{"$f":"IF(ISERROR(VLOOKUP($B107,IF({1,0},編班結果表!$E$4:$F$303,編班結果表!$C$4:$C$303),2,FALSE)),\"\",VLOOKUP($B107,IF({1,0},編班結果表!$E$4:$F$303,編班結果表!$C$4:$C$303),2,FALSE))","v":""},{"$f":"IF(SEARCH(\"/\",重整表!#REF!)=3,LEFT(重整表!#REF!,2)+1911&MID(重整表!#REF!,3,8),LEFT(重整表!#REF!,3)+1911&MID(重整表!#REF!,4,8))","v":{"$error":"#REF!"}},{"$f":"IF(ISBLANK(重整表!#REF!),\"\",重整表!#REF!)","v":{"$error":"#REF!"}},{"$f":"IF(ISBLANK(重整表!#REF!),\"\",重整表!#REF!)","v":{"$error":"#REF!"}},{"$f":"IF(ISBLANK(重整表!#REF!),\"\",重整表!#REF!)","v":{"$error":"#REF!"}},null,null,{"$f":"IF(ISBLANK(重整表!#REF!),\"\",重整表!#REF!)","v":{"$error":"#REF!"}},null,null,{"$f":"IF(SEARCH(\"/\",重整表!#REF!)=3,LEFT(重整表!#REF!,2)+1911&MID(重整表!#REF!,3,8),LEFT(重整表!#REF!,3)+1911&MID(重整表!#REF!,4,8))","v":{"$error":"#REF!"}}]
[null,{"$f":"IF(ISBLANK(重整表!#REF!),\"\",重整表!#REF!)","v":{"$error":"#REF!"}},{"$f":"IF(ISBLANK(重整表!#REF!),\"\",IF(重整表!#REF!=\"男\",1,IF(重整表!#REF!=\"女\",2)))","v":{"$error":"#REF!"}},null,{"$f":"IF(ISERROR(VLOOKUP($B108,IF({1,0},編班結果表!$E$4:$E$303,編班結果表!$B$4:$B$303),2,)),\"\",VLOOKUP($B108,IF({1,0},編班結果表!$E$4:$E$303,編班結果表!$B$4:$B$303),2,))","v":""},{"$f":"IF(ISERROR(VLOOKUP($B108,IF({1,0},編班結果表!$E$4:$F$303,編班結果表!$C$4:$C$303),2,FALSE)),\"\",VLOOKUP($B108,IF({1,0},編班結果表!$E$4:$F$303,編班結果表!$C$4:$C$303),2,FALSE))","v":""},{"$f":"IF(SEARCH(\"/\",重整表!#REF!)=3,LEFT(重整表!#REF!,2)+1911&MID(重整表!#REF!,3,8),LEFT(重整表!#REF!,3)+1911&MID(重整表!#REF!,4,8))","v":{"$error":"#REF!"}},{"$f":"IF(ISBLANK(重整表!#REF!),\"\",重整表!#REF!)","v":{"$error":"#REF!"}},{"$f":"IF(ISBLANK(重整表!#REF!),\"\",重整表!#REF!)","v":{"$error":"#REF!"}},{"$f":"IF(ISBLANK(重整表!#REF!),\"\",重整表!#REF!)","v":{"$error":"#REF!"}},null,null,{"$f":"IF(ISBLANK(重整表!#REF!),\"\",重整表!#REF!)","v":{"$error":"#REF!"}},null,null,{"$f":"IF(SEARCH(\"/\",重整表!#REF!)=3,LEFT(重整表!#REF!,2)+1911&MID(重整表!#REF!,3,8),LEFT(重整表!#REF!,3)+1911&MID(重整表!#REF!,4,8))","v":{"$error":"#REF!"}}]
[null,{"$f":"IF(ISBLANK(重整表!#REF!),\"\",重整表!#REF!)","v":{"$error":"#REF!"}},{"$f":"IF(ISBLANK(重整表!#REF!),\"\",IF(重整表!#REF!=\"男\",1,IF(重整表!#REF!=\"女\",2)))","v":{"$error":"#REF!"}},null,{"$f":"IF(ISERROR(VLOOKUP($B109,IF({1,0},編班結果表!$E$4:$E$303,編班結果表!$B$4:$B$303),2,)),\"\",VLOOKUP($B109,IF({1,0},編班結果表!$E$4:$E$303,編班結果表!$B$4:$B$303),2,))","v":""},{"$f":"IF(ISERROR(VLOOKUP($B109,IF({1,0},編班結果表!$E$4:$F$303,編班結果表!$C$4:$C$303),2,FALSE)),\"\",VLOOKUP($B109,IF({1,0},編班結果表!$E$4:$F$303,編班結果表!$C$4:$C$303),2,FALSE))","v":""},{"$f":"IF(SEARCH(\"/\",重整表!#REF!)=3,LEFT(重整表!#REF!,2)+1911&MID(重整表!#REF!,3,8),LEFT(重整表!#REF!,3)+1911&MID(重整表!#REF!,4,8))","v":{"$error":"#REF!"}},{"$f":"IF(ISBLANK(重整表!#REF!),\"\",重整表!#REF!)","v":{"$error":"#REF!"}},{"$f":"IF(ISBLANK(重整表!#REF!),\"\",重整表!#REF!)","v":{"$error":"#REF!"}},{"$f":"IF(ISBLANK(重整表!#REF!),\"\",重整表!#REF!)","v":{"$error":"#REF!"}},null,null,{"$f":"IF(ISBLANK(重整表!#REF!),\"\",重整表!#REF!)","v":{"$error":"#REF!"}},null,null,{"$f":"IF(SEARCH(\"/\",重整表!#REF!)=3,LEFT(重整表!#REF!,2)+1911&MID(重整表!#REF!,3,8),LEFT(重整表!#REF!,3)+1911&MID(重整表!#REF!,4,8))","v":{"$error":"#REF!"}}]
[null,{"$f":"IF(ISBLANK(重整表!#REF!),\"\",重整表!#REF!)","v":{"$error":"#REF!"}},{"$f":"IF(ISBLANK(重整表!#REF!),\"\",IF(重整表!#REF!=\"男\",1,IF(重整表!#REF!=\"女\",2)))","v":{"$error":"#REF!"}},null,{"$f":"IF(ISERROR(VLOOKUP($B110,IF({1,0},編班結果表!$E$4:$E$303,編班結果表!$B$4:$B$303),2,)),\"\",VLOOKUP($B110,IF({1,0},編班結果表!$E$4:$E$303,編班結果表!$B$4:$B$303),2,))","v":""},{"$f":"IF(ISERROR(VLOOKUP($B110,IF({1,0},編班結果表!$E$4:$F$303,編班結果表!$C$4:$C$303),2,FALSE)),\"\",VLOOKUP($B110,IF({1,0},編班結果表!$E$4:$F$303,編班結果表!$C$4:$C$303),2,FALSE))","v":""},{"$f":"IF(SEARCH(\"/\",重整表!#REF!)=3,LEFT(重整表!#REF!,2)+1911&MID(重整表!#REF!,3,8),LEFT(重整表!#REF!,3)+1911&MID(重整表!#REF!,4,8))","v":{"$error":"#REF!"}},{"$f":"IF(ISBLANK(重整表!#REF!),\"\",重整表!#REF!)","v":{"$error":"#REF!"}},{"$f":"IF(ISBLANK(重整表!#REF!),\"\",重整表!#REF!)","v":{"$error":"#REF!"}},{"$f":"IF(ISBLANK(重整表!#REF!),\"\",重整表!#REF!)","v":{"$error":"#REF!"}},null,null,{"$f":"IF(ISBLANK(重整表!#REF!),\"\",重整表!#REF!)","v":{"$error":"#REF!"}},null,null,{"$f":"IF(SEARCH(\"/\",重整表!#REF!)=3,LEFT(重整表!#REF!,2)+1911&MID(重整表!#REF!,3,8),LEFT(重整表!#REF!,3)+1911&MID(重整表!#REF!,4,8))","v":{"$error":"#REF!"}}]
[null,{"$f":"IF(ISBLANK(重整表!#REF!),\"\",重整表!#REF!)","v":{"$error":"#REF!"}},{"$f":"IF(ISBLANK(重整表!#REF!),\"\",IF(重整表!#REF!=\"男\",1,IF(重整表!#REF!=\"女\",2)))","v":{"$error":"#REF!"}},null,{"$f":"IF(ISERROR(VLOOKUP($B111,IF({1,0},編班結果表!$E$4:$E$303,編班結果表!$B$4:$B$303),2,)),\"\",VLOOKUP($B111,IF({1,0},編班結果表!$E$4:$E$303,編班結果表!$B$4:$B$303),2,))","v":""},{"$f":"IF(ISERROR(VLOOKUP($B111,IF({1,0},編班結果表!$E$4:$F$303,編班結果表!$C$4:$C$303),2,FALSE)),\"\",VLOOKUP($B111,IF({1,0},編班結果表!$E$4:$F$303,編班結果表!$C$4:$C$303),2,FALSE))","v":""},{"$f":"IF(SEARCH(\"/\",重整表!#REF!)=3,LEFT(重整表!#REF!,2)+1911&MID(重整表!#REF!,3,8),LEFT(重整表!#REF!,3)+1911&MID(重整表!#REF!,4,8))","v":{"$error":"#REF!"}},{"$f":"IF(ISBLANK(重整表!#REF!),\"\",重整表!#REF!)","v":{"$error":"#REF!"}},{"$f":"IF(ISBLANK(重整表!#REF!),\"\",重整表!#REF!)","v":{"$error":"#REF!"}},{"$f":"IF(ISBLANK(重整表!#REF!),\"\",重整表!#REF!)","v":{"$error":"#REF!"}},null,null,{"$f":"IF(ISBLANK(重整表!#REF!),\"\",重整表!#REF!)","v":{"$error":"#REF!"}},null,null,{"$f":"IF(SEARCH(\"/\",重整表!#REF!)=3,LEFT(重整表!#REF!,2)+1911&MID(重整表!#REF!,3,8),LEFT(重整表!#REF!,3)+1911&MID(重整表!#REF!,4,8))","v":{"$error":"#REF!"}}]
[null,{"$f":"IF(ISBLANK(重整表!#REF!),\"\",重整表!#REF!)","v":{"$error":"#REF!"}},{"$f":"IF(ISBLANK(重整表!#REF!),\"\",IF(重整表!#REF!=\"男\",1,IF(重整表!#REF!=\"女\",2)))","v":{"$error":"#REF!"}},null,{"$f":"IF(ISERROR(VLOOKUP($B112,IF({1,0},編班結果表!$E$4:$E$303,編班結果表!$B$4:$B$303),2,)),\"\",VLOOKUP($B112,IF({1,0},編班結果表!$E$4:$E$303,編班結果表!$B$4:$B$303),2,))","v":""},{"$f":"IF(ISERROR(VLOOKUP($B112,IF({1,0},編班結果表!$E$4:$F$303,編班結果表!$C$4:$C$303),2,FALSE)),\"\",VLOOKUP($B112,IF({1,0},編班結果表!$E$4:$F$303,編班結果表!$C$4:$C$303),2,FALSE))","v":""},{"$f":"IF(SEARCH(\"/\",重整表!#REF!)=3,LEFT(重整表!#REF!,2)+1911&MID(重整表!#REF!,3,8),LEFT(重整表!#REF!,3)+1911&MID(重整表!#REF!,4,8))","v":{"$error":"#REF!"}},{"$f":"IF(ISBLANK(重整表!#REF!),\"\",重整表!#REF!)","v":{"$error":"#REF!"}},{"$f":"IF(ISBLANK(重整表!#REF!),\"\",重整表!#REF!)","v":{"$error":"#REF!"}},{"$f":"IF(ISBLANK(重整表!#REF!),\"\",重整表!#REF!)","v":{"$error":"#REF!"}},null,null,{"$f":"IF(ISBLANK(重整表!#REF!),\"\",重整表!#REF!)","v":{"$error":"#REF!"}},null,null,{"$f":"IF(SEARCH(\"/\",重整表!#REF!)=3,LEFT(重整表!#REF!,2)+1911&MID(重整表!#REF!,3,8),LEFT(重整表!#REF!,3)+1911&MID(重整表!#REF!,4,8))","v":{"$error":"#REF!"}}]
[null,{"$f":"IF(ISBLANK(重整表!#REF!),\"\",重整表!#REF!)","v":{"$error":"#REF!"}},{"$f":"IF(ISBLANK(重整表!#REF!),\"\",IF(重整表!#REF!=\"男\",1,IF(重整表!#REF!=\"女\",2)))","v":{"$error":"#REF!"}},null,{"$f":"IF(ISERROR(VLOOKUP($B113,IF({1,0},編班結果表!$E$4:$E$303,編班結果表!$B$4:$B$303),2,)),\"\",VLOOKUP($B113,IF({1,0},編班結果表!$E$4:$E$303,編班結果表!$B$4:$B$303),2,))","v":""},{"$f":"IF(ISERROR(VLOOKUP($B113,IF({1,0},編班結果表!$E$4:$F$303,編班結果表!$C$4:$C$303),2,FALSE)),\"\",VLOOKUP($B113,IF({1,0},編班結果表!$E$4:$F$303,編班結果表!$C$4:$C$303),2,FALSE))","v":""},{"$f":"IF(SEARCH(\"/\",重整表!#REF!)=3,LEFT(重整表!#REF!,2)+1911&MID(重整表!#REF!,3,8),LEFT(重整表!#REF!,3)+1911&MID(重整表!#REF!,4,8))","v":{"$error":"#REF!"}},{"$f":"IF(ISBLANK(重整表!#REF!),\"\",重整表!#REF!)","v":{"$error":"#REF!"}},{"$f":"IF(ISBLANK(重整表!#REF!),\"\",重整表!#REF!)","v":{"$error":"#REF!"}},{"$f":"IF(ISBLANK(重整表!#REF!),\"\",重整表!#REF!)","v":{"$error":"#REF!"}},null,null,{"$f":"IF(ISBLANK(重整表!#REF!),\"\",重整表!#REF!)","v":{"$error":"#REF!"}},null,null,{"$f":"IF(SEARCH(\"/\",重整表!#REF!)=3,LEFT(重整表!#REF!,2)+1911&MID(重整表!#REF!,3,8),LEFT(重整表!#REF!,3)+1911&MID(重整表!#REF!,4,8))","v":{"$error":"#REF!"}}]
[null,{"$f":"IF(ISBLANK(重整表!#REF!),\"\",重整表!#REF!)","v":{"$error":"#REF!"}},{"$f":"IF(ISBLANK(重整表!#REF!),\"\",IF(重整表!#REF!=\"男\",1,IF(重整表!#REF!=\"女\",2)))","v":{"$error":"#REF!"}},null,{"$f":"IF(ISERROR(VLOOKUP($B114,IF({1,0},編班結果表!$E$4:$E$303,編班結果表!$B$4:$B$303),2,)),\"\",VLOOKUP($B114,IF({1,0},編班結果表!$E$4:$E$303,編班結果表!$B$4:$B$303),2,))","v":""},{"$f":"IF(ISERROR(VLOOKUP($B114,IF({1,0},編班結果表!$E$4:$F$303,編班結果表!$C$4:$C$303),2,FALSE)),\"\",VLOOKUP($B114,IF({1,0},編班結果表!$E$4:$F$303,編班結果表!$C$4:$C$303),2,FALSE))","v":""},{"$f":"IF(SEARCH(\"/\",重整表!#REF!)=3,LEFT(重整表!#REF!,2)+1911&MID(重整表!#REF!,3,8),LEFT(重整表!#REF!,3)+1911&MID(重整表!#REF!,4,8))","v":{"$error":"#REF!"}},{"$f":"IF(ISBLANK(重整表!#REF!),\"\",重整表!#REF!)","v":{"$error":"#REF!"}},{"$f":"IF(ISBLANK(重整表!#REF!),\"\",重整表!#REF!)","v":{"$error":"#REF!"}},{"$f":"IF(ISBLANK(重整表!#REF!),\"\",重整表!#REF!)","v":{"$error":"#REF!"}},null,null,{"$f":"IF(ISBLANK(重整表!#REF!),\"\",重整表!#REF!)","v":{"$error":"#REF!"}},null,null,{"$f":"IF(SEARCH(\"/\",重整表!#REF!)=3,LEFT(重整表!#REF!,2)+1911&MID(重整表!#REF!,3,8),LEFT(重整表!#REF!,3)+1911&MID(重整表!#REF!,4,8))","v":{"$error":"#REF!"}}]
[null,{"$f":"IF(ISBLANK(重整表!#REF!),\"\",重整表!#REF!)","v":{"$error":"#REF!"}},{"$f":"IF(ISBLANK(重整表!#REF!),\"\",IF(重整表!#REF!=\"男\",1,IF(重整表!#REF!=\"女\",2)))","v":{"$error":"#REF!"}},null,{"$f":"IF(ISERROR(VLOOKUP($B115,IF({1,0},編班結果表!$E$4:$E$303,編班結果表!$B$4:$B$303),2,)),\"\",VLOOKUP($B115,IF({1,0},編班結果表!$E$4:$E$303,編班結果表!$B$4:$B$303),2,))","v":""},{"$f":"IF(ISERROR(VLOOKUP($B115,IF({1,0},編班結果表!$E$4:$F$303,編班結果表!$C$4:$C$303),2,FALSE)),\"\",VLOOKUP($B115,IF({1,0},編班結果表!$E$4:$F$303,編班結果表!$C$4:$C$303),2,FALSE))","v":""},{"$f":"IF(SEARCH(\"/\",重整表!#REF!)=3,LEFT(重整表!#REF!,2)+1911&MID(重整表!#REF!,3,8),LEFT(重整表!#REF!,3)+1911&MID(重整表!#REF!,4,8))","v":{"$error":"#REF!"}},{"$f":"IF(ISBLANK(重整表!#REF!),\"\",重整表!#REF!)","v":{"$error":"#REF!"}},{"$f":"IF(ISBLANK(重整表!#REF!),\"\",重整表!#REF!)","v":{"$error":"#REF!"}},{"$f":"IF(ISBLANK(重整表!#REF!),\"\",重整表!#REF!)","v":{"$error":"#REF!"}},null,null,{"$f":"IF(ISBLANK(重整表!#REF!),\"\",重整表!#REF!)","v":{"$error":"#REF!"}},null,null,{"$f":"IF(SEARCH(\"/\",重整表!#REF!)=3,LEFT(重整表!#REF!,2)+1911&MID(重整表!#REF!,3,8),LEFT(重整表!#REF!,3)+1911&MID(重整表!#REF!,4,8))","v":{"$error":"#REF!"}}]
[null,{"$f":"IF(ISBLANK(重整表!#REF!),\"\",重整表!#REF!)","v":{"$error":"#REF!"}},{"$f":"IF(ISBLANK(重整表!#REF!),\"\",IF(重整表!#REF!=\"男\",1,IF(重整表!#REF!=\"女\",2)))","v":{"$error":"#REF!"}},null,{"$f":"IF(ISERROR(VLOOKUP($B116,IF({1,0},編班結果表!$E$4:$E$303,編班結果表!$B$4:$B$303),2,)),\"\",VLOOKUP($B116,IF({1,0},編班結果表!$E$4:$E$303,編班結果表!$B$4:$B$303),2,))","v":""},{"$f":"IF(ISERROR(VLOOKUP($B116,IF({1,0},編班結果表!$E$4:$F$303,編班結果表!$C$4:$C$303),2,FALSE)),\"\",VLOOKUP($B116,IF({1,0},編班結果表!$E$4:$F$303,編班結果表!$C$4:$C$303),2,FALSE))","v":""},{"$f":"IF(SEARCH(\"/\",重整表!#REF!)=3,LEFT(重整表!#REF!,2)+1911&MID(重整表!#REF!,3,8),LEFT(重整表!#REF!,3)+1911&MID(重整表!#REF!,4,8))","v":{"$error":"#REF!"}},{"$f":"IF(ISBLANK(重整表!#REF!),\"\",重整表!#REF!)","v":{"$error":"#REF!"}},{"$f":"IF(ISBLANK(重整表!#REF!),\"\",重整表!#REF!)","v":{"$error":"#REF!"}},{"$f":"IF(ISBLANK(重整表!#REF!),\"\",重整表!#REF!)","v":{"$error":"#REF!"}},null,null,{"$f":"IF(ISBLANK(重整表!#REF!),\"\",重整表!#REF!)","v":{"$error":"#REF!"}},null,null,{"$f":"IF(SEARCH(\"/\",重整表!#REF!)=3,LEFT(重整表!#REF!,2)+1911&MID(重整表!#REF!,3,8),LEFT(重整表!#REF!,3)+1911&MID(重整表!#REF!,4,8))","v":{"$error":"#REF!"}}]
[null,{"$f":"IF(ISBLANK(重整表!#REF!),\"\",重整表!#REF!)","v":{"$error":"#REF!"}},{"$f":"IF(ISBLANK(重整表!#REF!),\"\",IF(重整表!#REF!=\"男\",1,IF(重整表!#REF!=\"女\",2)))","v":{"$error":"#REF!"}},null,{"$f":"IF(ISERROR(VLOOKUP($B117,IF({1,0},編班結果表!$E$4:$E$303,編班結果表!$B$4:$B$303),2,)),\"\",VLOOKUP($B117,IF({1,0},編班結果表!$E$4:$E$303,編班結果表!$B$4:$B$303),2,))","v":""},{"$f":"IF(ISERROR(VLOOKUP($B117,IF({1,0},編班結果表!$E$4:$F$303,編班結果表!$C$4:$C$303),2,FALSE)),\"\",VLOOKUP($B117,IF({1,0},編班結果表!$E$4:$F$303,編班結果表!$C$4:$C$303),2,FALSE))","v":""},{"$f":"IF(SEARCH(\"/\",重整表!#REF!)=3,LEFT(重整表!#REF!,2)+1911&MID(重整表!#REF!,3,8),LEFT(重整表!#REF!,3)+1911&MID(重整表!#REF!,4,8))","v":{"$error":"#REF!"}},{"$f":"IF(ISBLANK(重整表!#REF!),\"\",重整表!#REF!)","v":{"$error":"#REF!"}},{"$f":"IF(ISBLANK(重整表!#REF!),\"\",重整表!#REF!)","v":{"$error":"#REF!"}},{"$f":"IF(ISBLANK(重整表!#REF!),\"\",重整表!#REF!)","v":{"$error":"#REF!"}},null,null,{"$f":"IF(ISBLANK(重整表!#REF!),\"\",重整表!#REF!)","v":{"$error":"#REF!"}},null,null,{"$f":"IF(SEARCH(\"/\",重整表!#REF!)=3,LEFT(重整表!#REF!,2)+1911&MID(重整表!#REF!,3,8),LEFT(重整表!#REF!,3)+1911&MID(重整表!#REF!,4,8))","v":{"$error":"#REF!"}}]
[null,{"$f":"IF(ISBLANK(重整表!#REF!),\"\",重整表!#REF!)","v":{"$error":"#REF!"}},{"$f":"IF(ISBLANK(重整表!#REF!),\"\",IF(重整表!#REF!=\"男\",1,IF(重整表!#REF!=\"女\",2)))","v":{"$error":"#REF!"}},null,{"$f":"IF(ISERROR(VLOOKUP($B118,IF({1,0},編班結果表!$E$4:$E$303,編班結果表!$B$4:$B$303),2,)),\"\",VLOOKUP($B118,IF({1,0},編班結果表!$E$4:$E$303,編班結果表!$B$4:$B$303),2,))","v":""},{"$f":"IF(ISERROR(VLOOKUP($B118,IF({1,0},編班結果表!$E$4:$F$303,編班結果表!$C$4:$C$303),2,FALSE)),\"\",VLOOKUP($B118,IF({1,0},編班結果表!$E$4:$F$303,編班結果表!$C$4:$C$303),2,FALSE))","v":""},{"$f":"IF(SEARCH(\"/\",重整表!#REF!)=3,LEFT(重整表!#REF!,2)+1911&MID(重整表!#REF!,3,8),LEFT(重整表!#REF!,3)+1911&MID(重整表!#REF!,4,8))","v":{"$error":"#REF!"}},{"$f":"IF(ISBLANK(重整表!#REF!),\"\",重整表!#REF!)","v":{"$error":"#REF!"}},{"$f":"IF(ISBLANK(重整表!#REF!),\"\",重整表!#REF!)","v":{"$error":"#REF!"}},{"$f":"IF(ISBLANK(重整表!#REF!),\"\",重整表!#REF!)","v":{"$error":"#REF!"}},null,null,{"$f":"IF(ISBLANK(重整表!#REF!),\"\",重整表!#REF!)","v":{"$error":"#REF!"}},null,null,{"$f":"IF(SEARCH(\"/\",重整表!#REF!)=3,LEFT(重整表!#REF!,2)+1911&MID(重整表!#REF!,3,8),LEFT(重整表!#REF!,3)+1911&MID(重整表!#REF!,4,8))","v":{"$error":"#REF!"}}]
[null,{"$f":"IF(ISBLANK(重整表!#REF!),\"\",重整表!#REF!)","v":{"$error":"#REF!"}},{"$f":"IF(ISBLANK(重整表!#REF!),\"\",IF(重整表!#REF!=\"男\",1,IF(重整表!#REF!=\"女\",2)))","v":{"$error":"#REF!"}},null,{"$f":"IF(ISERROR(VLOOKUP($B119,IF({1,0},編班結果表!$E$4:$E$303,編班結果表!$B$4:$B$303),2,)),\"\",VLOOKUP($B119,IF({1,0},編班結果表!$E$4:$E$303,編班結果表!$B$4:$B$303),2,))","v":""},{"$f":"IF(ISERROR(VLOOKUP($B119,IF({1,0},編班結果表!$E$4:$F$303,編班結果表!$C$4:$C$303),2,FALSE)),\"\",VLOOKUP($B119,IF({1,0},編班結果表!$E$4:$F$303,編班結果表!$C$4:$C$303),2,FALSE))","v":""},{"$f":"IF(SEARCH(\"/\",重整表!#REF!)=3,LEFT(重整表!#REF!,2)+1911&MID(重整表!#REF!,3,8),LEFT(重整表!#REF!,3)+1911&MID(重整表!#REF!,4,8))","v":{"$error":"#REF!"}},{"$f":"IF(ISBLANK(重整表!#REF!),\"\",重整表!#REF!)","v":{"$error":"#REF!"}},{"$f":"IF(ISBLANK(重整表!#REF!),\"\",重整表!#REF!)","v":{"$error":"#REF!"}},{"$f":"IF(ISBLANK(重整表!#REF!),\"\",重整表!#REF!)","v":{"$error":"#REF!"}},null,null,{"$f":"IF(ISBLANK(重整表!#REF!),\"\",重整表!#REF!)","v":{"$error":"#REF!"}},null,null,{"$f":"IF(SEARCH(\"/\",重整表!#REF!)=3,LEFT(重整表!#REF!,2)+1911&MID(重整表!#REF!,3,8),LEFT(重整表!#REF!,3)+1911&MID(重整表!#REF!,4,8))","v":{"$error":"#REF!"}}]
[null,{"$f":"IF(ISBLANK(重整表!#REF!),\"\",重整表!#REF!)","v":{"$error":"#REF!"}},{"$f":"IF(ISBLANK(重整表!#REF!),\"\",IF(重整表!#REF!=\"男\",1,IF(重整表!#REF!=\"女\",2)))","v":{"$error":"#REF!"}},null,{"$f":"IF(ISERROR(VLOOKUP($B120,IF({1,0},編班結果表!$E$4:$E$303,編班結果表!$B$4:$B$303),2,)),\"\",VLOOKUP($B120,IF({1,0},編班結果表!$E$4:$E$303,編班結果表!$B$4:$B$303),2,))","v":""},{"$f":"IF(ISERROR(VLOOKUP($B120,IF({1,0},編班結果表!$E$4:$F$303,編班結果表!$C$4:$C$303),2,FALSE)),\"\",VLOOKUP($B120,IF({1,0},編班結果表!$E$4:$F$303,編班結果表!$C$4:$C$303),2,FALSE))","v":""},{"$f":"IF(SEARCH(\"/\",重整表!#REF!)=3,LEFT(重整表!#REF!,2)+1911&MID(重整表!#REF!,3,8),LEFT(重整表!#REF!,3)+1911&MID(重整表!#REF!,4,8))","v":{"$error":"#REF!"}},{"$f":"IF(ISBLANK(重整表!#REF!),\"\",重整表!#REF!)","v":{"$error":"#REF!"}},{"$f":"IF(ISBLANK(重整表!#REF!),\"\",重整表!#REF!)","v":{"$error":"#REF!"}},{"$f":"IF(ISBLANK(重整表!#REF!),\"\",重整表!#REF!)","v":{"$error":"#REF!"}},null,null,{"$f":"IF(ISBLANK(重整表!#REF!),\"\",重整表!#REF!)","v":{"$error":"#REF!"}},null,null,{"$f":"IF(SEARCH(\"/\",重整表!#REF!)=3,LEFT(重整表!#REF!,2)+1911&MID(重整表!#REF!,3,8),LEFT(重整表!#REF!,3)+1911&MID(重整表!#REF!,4,8))","v":{"$error":"#REF!"}}]
[null,{"$f":"IF(ISBLANK(重整表!#REF!),\"\",重整表!#REF!)","v":{"$error":"#REF!"}},{"$f":"IF(ISBLANK(重整表!#REF!),\"\",IF(重整表!#REF!=\"男\",1,IF(重整表!#REF!=\"女\",2)))","v":{"$error":"#REF!"}},null,{"$f":"IF(ISERROR(VLOOKUP($B121,IF({1,0},編班結果表!$E$4:$E$303,編班結果表!$B$4:$B$303),2,)),\"\",VLOOKUP($B121,IF({1,0},編班結果表!$E$4:$E$303,編班結果表!$B$4:$B$303),2,))","v":""},{"$f":"IF(ISERROR(VLOOKUP($B121,IF({1,0},編班結果表!$E$4:$F$303,編班結果表!$C$4:$C$303),2,FALSE)),\"\",VLOOKUP($B121,IF({1,0},編班結果表!$E$4:$F$303,編班結果表!$C$4:$C$303),2,FALSE))","v":""},{"$f":"IF(SEARCH(\"/\",重整表!#REF!)=3,LEFT(重整表!#REF!,2)+1911&MID(重整表!#REF!,3,8),LEFT(重整表!#REF!,3)+1911&MID(重整表!#REF!,4,8))","v":{"$error":"#REF!"}},{"$f":"IF(ISBLANK(重整表!#REF!),\"\",重整表!#REF!)","v":{"$error":"#REF!"}},{"$f":"IF(ISBLANK(重整表!#REF!),\"\",重整表!#REF!)","v":{"$error":"#REF!"}},{"$f":"IF(ISBLANK(重整表!#REF!),\"\",重整表!#REF!)","v":{"$error":"#REF!"}},null,null,{"$f":"IF(ISBLANK(重整表!#REF!),\"\",重整表!#REF!)","v":{"$error":"#REF!"}},null,null,{"$f":"IF(SEARCH(\"/\",重整表!#REF!)=3,LEFT(重整表!#REF!,2)+1911&MID(重整表!#REF!,3,8),LEFT(重整表!#REF!,3)+1911&MID(重整表!#REF!,4,8))","v":{"$error":"#REF!"}}]
[null,{"$f":"IF(ISBLANK(重整表!#REF!),\"\",重整表!#REF!)","v":{"$error":"#REF!"}},{"$f":"IF(ISBLANK(重整表!#REF!),\"\",IF(重整表!#REF!=\"男\",1,IF(重整表!#REF!=\"女\",2)))","v":{"$error":"#REF!"}},null,{"$f":"IF(ISERROR(VLOOKUP($B122,IF({1,0},編班結果表!$E$4:$E$303,編班結果表!$B$4:$B$303),2,)),\"\",VLOOKUP($B122,IF({1,0},編班結果表!$E$4:$E$303,編班結果表!$B$4:$B$303),2,))","v":""},{"$f":"IF(ISERROR(VLOOKUP($B122,IF({1,0},編班結果表!$E$4:$F$303,編班結果表!$C$4:$C$303),2,FALSE)),\"\",VLOOKUP($B122,IF({1,0},編班結果表!$E$4:$F$303,編班結果表!$C$4:$C$303),2,FALSE))","v":""},{"$f":"IF(SEARCH(\"/\",重整表!#REF!)=3,LEFT(重整表!#REF!,2)+1911&MID(重整表!#REF!,3,8),LEFT(重整表!#REF!,3)+1911&MID(重整表!#REF!,4,8))","v":{"$error":"#REF!"}},{"$f":"IF(ISBLANK(重整表!#REF!),\"\",重整表!#REF!)","v":{"$error":"#REF!"}},{"$f":"IF(ISBLANK(重整表!#REF!),\"\",重整表!#REF!)","v":{"$error":"#REF!"}},{"$f":"IF(ISBLANK(重整表!#REF!),\"\",重整表!#REF!)","v":{"$error":"#REF!"}},null,null,{"$f":"IF(ISBLANK(重整表!#REF!),\"\",重整表!#REF!)","v":{"$error":"#REF!"}},null,null,{"$f":"IF(SEARCH(\"/\",重整表!#REF!)=3,LEFT(重整表!#REF!,2)+1911&MID(重整表!#REF!,3,8),LEFT(重整表!#REF!,3)+1911&MID(重整表!#REF!,4,8))","v":{"$error":"#REF!"}}]
[null,{"$f":"IF(ISBLANK(重整表!#REF!),\"\",重整表!#REF!)","v":{"$error":"#REF!"}},{"$f":"IF(ISBLANK(重整表!#REF!),\"\",IF(重整表!#REF!=\"男\",1,IF(重整表!#REF!=\"女\",2)))","v":{"$error":"#REF!"}},null,{"$f":"IF(ISERROR(VLOOKUP($B123,IF({1,0},編班結果表!$E$4:$E$303,編班結果表!$B$4:$B$303),2,)),\"\",VLOOKUP($B123,IF({1,0},編班結果表!$E$4:$E$303,編班結果表!$B$4:$B$303),2,))","v":""},{"$f":"IF(ISERROR(VLOOKUP($B123,IF({1,0},編班結果表!$E$4:$F$303,編班結果表!$C$4:$C$303),2,FALSE)),\"\",VLOOKUP($B123,IF({1,0},編班結果表!$E$4:$F$303,編班結果表!$C$4:$C$303),2,FALSE))","v":""},{"$f":"IF(SEARCH(\"/\",重整表!#REF!)=3,LEFT(重整表!#REF!,2)+1911&MID(重整表!#REF!,3,8),LEFT(重整表!#REF!,3)+1911&MID(重整表!#REF!,4,8))","v":{"$error":"#REF!"}},{"$f":"IF(ISBLANK(重整表!#REF!),\"\",重整表!#REF!)","v":{"$error":"#REF!"}},{"$f":"IF(ISBLANK(重整表!#REF!),\"\",重整表!#REF!)","v":{"$error":"#REF!"}},{"$f":"IF(ISBLANK(重整表!#REF!),\"\",重整表!#REF!)","v":{"$error":"#REF!"}},null,null,{"$f":"IF(ISBLANK(重整表!#REF!),\"\",重整表!#REF!)","v":{"$error":"#REF!"}},null,null,{"$f":"IF(SEARCH(\"/\",重整表!#REF!)=3,LEFT(重整表!#REF!,2)+1911&MID(重整表!#REF!,3,8),LEFT(重整表!#REF!,3)+1911&MID(重整表!#REF!,4,8))","v":{"$error":"#REF!"}}]
[null,{"$f":"IF(ISBLANK(重整表!#REF!),\"\",重整表!#REF!)","v":{"$error":"#REF!"}},{"$f":"IF(ISBLANK(重整表!#REF!),\"\",IF(重整表!#REF!=\"男\",1,IF(重整表!#REF!=\"女\",2)))","v":{"$error":"#REF!"}},null,{"$f":"IF(ISERROR(VLOOKUP($B124,IF({1,0},編班結果表!$E$4:$E$303,編班結果表!$B$4:$B$303),2,)),\"\",VLOOKUP($B124,IF({1,0},編班結果表!$E$4:$E$303,編班結果表!$B$4:$B$303),2,))","v":""},{"$f":"IF(ISERROR(VLOOKUP($B124,IF({1,0},編班結果表!$E$4:$F$303,編班結果表!$C$4:$C$303),2,FALSE)),\"\",VLOOKUP($B124,IF({1,0},編班結果表!$E$4:$F$303,編班結果表!$C$4:$C$303),2,FALSE))","v":""},{"$f":"IF(SEARCH(\"/\",重整表!#REF!)=3,LEFT(重整表!#REF!,2)+1911&MID(重整表!#REF!,3,8),LEFT(重整表!#REF!,3)+1911&MID(重整表!#REF!,4,8))","v":{"$error":"#REF!"}},{"$f":"IF(ISBLANK(重整表!#REF!),\"\",重整表!#REF!)","v":{"$error":"#REF!"}},{"$f":"IF(ISBLANK(重整表!#REF!),\"\",重整表!#REF!)","v":{"$error":"#REF!"}},{"$f":"IF(ISBLANK(重整表!#REF!),\"\",重整表!#REF!)","v":{"$error":"#REF!"}},null,null,{"$f":"IF(ISBLANK(重整表!#REF!),\"\",重整表!#REF!)","v":{"$error":"#REF!"}},null,null,{"$f":"IF(SEARCH(\"/\",重整表!#REF!)=3,LEFT(重整表!#REF!,2)+1911&MID(重整表!#REF!,3,8),LEFT(重整表!#REF!,3)+1911&MID(重整表!#REF!,4,8))","v":{"$error":"#REF!"}}]
[null,{"$f":"IF(ISBLANK(重整表!#REF!),\"\",重整表!#REF!)","v":{"$error":"#REF!"}},{"$f":"IF(ISBLANK(重整表!#REF!),\"\",IF(重整表!#REF!=\"男\",1,IF(重整表!#REF!=\"女\",2)))","v":{"$error":"#REF!"}},null,{"$f":"IF(ISERROR(VLOOKUP($B125,IF({1,0},編班結果表!$E$4:$E$303,編班結果表!$B$4:$B$303),2,)),\"\",VLOOKUP($B125,IF({1,0},編班結果表!$E$4:$E$303,編班結果表!$B$4:$B$303),2,))","v":""},{"$f":"IF(ISERROR(VLOOKUP($B125,IF({1,0},編班結果表!$E$4:$F$303,編班結果表!$C$4:$C$303),2,FALSE)),\"\",VLOOKUP($B125,IF({1,0},編班結果表!$E$4:$F$303,編班結果表!$C$4:$C$303),2,FALSE))","v":""},{"$f":"IF(SEARCH(\"/\",重整表!#REF!)=3,LEFT(重整表!#REF!,2)+1911&MID(重整表!#REF!,3,8),LEFT(重整表!#REF!,3)+1911&MID(重整表!#REF!,4,8))","v":{"$error":"#REF!"}},{"$f":"IF(ISBLANK(重整表!#REF!),\"\",重整表!#REF!)","v":{"$error":"#REF!"}},{"$f":"IF(ISBLANK(重整表!#REF!),\"\",重整表!#REF!)","v":{"$error":"#REF!"}},{"$f":"IF(ISBLANK(重整表!#REF!),\"\",重整表!#REF!)","v":{"$error":"#REF!"}},null,null,{"$f":"IF(ISBLANK(重整表!#REF!),\"\",重整表!#REF!)","v":{"$error":"#REF!"}},null,null,{"$f":"IF(SEARCH(\"/\",重整表!#REF!)=3,LEFT(重整表!#REF!,2)+1911&MID(重整表!#REF!,3,8),LEFT(重整表!#REF!,3)+1911&MID(重整表!#REF!,4,8))","v":{"$error":"#REF!"}}]
[null,{"$f":"IF(ISBLANK(重整表!#REF!),\"\",重整表!#REF!)","v":{"$error":"#REF!"}},{"$f":"IF(ISBLANK(重整表!#REF!),\"\",IF(重整表!#REF!=\"男\",1,IF(重整表!#REF!=\"女\",2)))","v":{"$error":"#REF!"}},null,{"$f":"IF(ISERROR(VLOOKUP($B126,IF({1,0},編班結果表!$E$4:$E$303,編班結果表!$B$4:$B$303),2,)),\"\",VLOOKUP($B126,IF({1,0},編班結果表!$E$4:$E$303,編班結果表!$B$4:$B$303),2,))","v":""},{"$f":"IF(ISERROR(VLOOKUP($B126,IF({1,0},編班結果表!$E$4:$F$303,編班結果表!$C$4:$C$303),2,FALSE)),\"\",VLOOKUP($B126,IF({1,0},編班結果表!$E$4:$F$303,編班結果表!$C$4:$C$303),2,FALSE))","v":""},{"$f":"IF(SEARCH(\"/\",重整表!#REF!)=3,LEFT(重整表!#REF!,2)+1911&MID(重整表!#REF!,3,8),LEFT(重整表!#REF!,3)+1911&MID(重整表!#REF!,4,8))","v":{"$error":"#REF!"}},{"$f":"IF(ISBLANK(重整表!#REF!),\"\",重整表!#REF!)","v":{"$error":"#REF!"}},{"$f":"IF(ISBLANK(重整表!#REF!),\"\",重整表!#REF!)","v":{"$error":"#REF!"}},{"$f":"IF(ISBLANK(重整表!#REF!),\"\",重整表!#REF!)","v":{"$error":"#REF!"}},null,null,{"$f":"IF(ISBLANK(重整表!#REF!),\"\",重整表!#REF!)","v":{"$error":"#REF!"}},null,null,{"$f":"IF(SEARCH(\"/\",重整表!#REF!)=3,LEFT(重整表!#REF!,2)+1911&MID(重整表!#REF!,3,8),LEFT(重整表!#REF!,3)+1911&MID(重整表!#REF!,4,8))","v":{"$error":"#REF!"}}]
[null,{"$f":"IF(ISBLANK(重整表!#REF!),\"\",重整表!#REF!)","v":{"$error":"#REF!"}},{"$f":"IF(ISBLANK(重整表!#REF!),\"\",IF(重整表!#REF!=\"男\",1,IF(重整表!#REF!=\"女\",2)))","v":{"$error":"#REF!"}},null,{"$f":"IF(ISERROR(VLOOKUP($B127,IF({1,0},編班結果表!$E$4:$E$303,編班結果表!$B$4:$B$303),2,)),\"\",VLOOKUP($B127,IF({1,0},編班結果表!$E$4:$E$303,編班結果表!$B$4:$B$303),2,))","v":""},{"$f":"IF(ISERROR(VLOOKUP($B127,IF({1,0},編班結果表!$E$4:$F$303,編班結果表!$C$4:$C$303),2,FALSE)),\"\",VLOOKUP($B127,IF({1,0},編班結果表!$E$4:$F$303,編班結果表!$C$4:$C$303),2,FALSE))","v":""},{"$f":"IF(SEARCH(\"/\",重整表!#REF!)=3,LEFT(重整表!#REF!,2)+1911&MID(重整表!#REF!,3,8),LEFT(重整表!#REF!,3)+1911&MID(重整表!#REF!,4,8))","v":{"$error":"#REF!"}},{"$f":"IF(ISBLANK(重整表!#REF!),\"\",重整表!#REF!)","v":{"$error":"#REF!"}},{"$f":"IF(ISBLANK(重整表!#REF!),\"\",重整表!#REF!)","v":{"$error":"#REF!"}},{"$f":"IF(ISBLANK(重整表!#REF!),\"\",重整表!#REF!)","v":{"$error":"#REF!"}},null,null,{"$f":"IF(ISBLANK(重整表!#REF!),\"\",重整表!#REF!)","v":{"$error":"#REF!"}},null,null,{"$f":"IF(SEARCH(\"/\",重整表!#REF!)=3,LEFT(重整表!#REF!,2)+1911&MID(重整表!#REF!,3,8),LEFT(重整表!#REF!,3)+1911&MID(重整表!#REF!,4,8))","v":{"$error":"#REF!"}}]
[null,{"$f":"IF(ISBLANK(重整表!#REF!),\"\",重整表!#REF!)","v":{"$error":"#REF!"}},{"$f":"IF(ISBLANK(重整表!#REF!),\"\",IF(重整表!#REF!=\"男\",1,IF(重整表!#REF!=\"女\",2)))","v":{"$error":"#REF!"}},null,{"$f":"IF(ISERROR(VLOOKUP($B128,IF({1,0},編班結果表!$E$4:$E$303,編班結果表!$B$4:$B$303),2,)),\"\",VLOOKUP($B128,IF({1,0},編班結果表!$E$4:$E$303,編班結果表!$B$4:$B$303),2,))","v":""},{"$f":"IF(ISERROR(VLOOKUP($B128,IF({1,0},編班結果表!$E$4:$F$303,編班結果表!$C$4:$C$303),2,FALSE)),\"\",VLOOKUP($B128,IF({1,0},編班結果表!$E$4:$F$303,編班結果表!$C$4:$C$303),2,FALSE))","v":""},{"$f":"IF(SEARCH(\"/\",重整表!#REF!)=3,LEFT(重整表!#REF!,2)+1911&MID(重整表!#REF!,3,8),LEFT(重整表!#REF!,3)+1911&MID(重整表!#REF!,4,8))","v":{"$error":"#REF!"}},{"$f":"IF(ISBLANK(重整表!#REF!),\"\",重整表!#REF!)","v":{"$error":"#REF!"}},{"$f":"IF(ISBLANK(重整表!#REF!),\"\",重整表!#REF!)","v":{"$error":"#REF!"}},{"$f":"IF(ISBLANK(重整表!#REF!),\"\",重整表!#REF!)","v":{"$error":"#REF!"}},null,null,{"$f":"IF(ISBLANK(重整表!#REF!),\"\",重整表!#REF!)","v":{"$error":"#REF!"}},null,null,{"$f":"IF(SEARCH(\"/\",重整表!#REF!)=3,LEFT(重整表!#REF!,2)+1911&MID(重整表!#REF!,3,8),LEFT(重整表!#REF!,3)+1911&MID(重整表!#REF!,4,8))","v":{"$error":"#REF!"}}]
[null,{"$f":"IF(ISBLANK(重整表!#REF!),\"\",重整表!#REF!)","v":{"$error":"#REF!"}},{"$f":"IF(ISBLANK(重整表!#REF!),\"\",IF(重整表!#REF!=\"男\",1,IF(重整表!#REF!=\"女\",2)))","v":{"$error":"#REF!"}},null,{"$f":"IF(ISERROR(VLOOKUP($B129,IF({1,0},編班結果表!$E$4:$E$303,編班結果表!$B$4:$B$303),2,)),\"\",VLOOKUP($B129,IF({1,0},編班結果表!$E$4:$E$303,編班結果表!$B$4:$B$303),2,))","v":""},{"$f":"IF(ISERROR(VLOOKUP($B129,IF({1,0},編班結果表!$E$4:$F$303,編班結果表!$C$4:$C$303),2,FALSE)),\"\",VLOOKUP($B129,IF({1,0},編班結果表!$E$4:$F$303,編班結果表!$C$4:$C$303),2,FALSE))","v":""},{"$f":"IF(SEARCH(\"/\",重整表!#REF!)=3,LEFT(重整表!#REF!,2)+1911&MID(重整表!#REF!,3,8),LEFT(重整表!#REF!,3)+1911&MID(重整表!#REF!,4,8))","v":{"$error":"#REF!"}},{"$f":"IF(ISBLANK(重整表!#REF!),\"\",重整表!#REF!)","v":{"$error":"#REF!"}},{"$f":"IF(ISBLANK(重整表!#REF!),\"\",重整表!#REF!)","v":{"$error":"#REF!"}},{"$f":"IF(ISBLANK(重整表!#REF!),\"\",重整表!#REF!)","v":{"$error":"#REF!"}},null,null,{"$f":"IF(ISBLANK(重整表!#REF!),\"\",重整表!#REF!)","v":{"$error":"#REF!"}},null,null,{"$f":"IF(SEARCH(\"/\",重整表!#REF!)=3,LEFT(重整表!#REF!,2)+1911&MID(重整表!#REF!,3,8),LEFT(重整表!#REF!,3)+1911&MID(重整表!#REF!,4,8))","v":{"$error":"#REF!"}}]
[null,{"$f":"IF(ISBLANK(重整表!#REF!),\"\",重整表!#REF!)","v":{"$error":"#REF!"}},{"$f":"IF(ISBLANK(重整表!#REF!),\"\",IF(重整表!#REF!=\"男\",1,IF(重整表!#REF!=\"女\",2)))","v":{"$error":"#REF!"}},null,{"$f":"IF(ISERROR(VLOOKUP($B130,IF({1,0},編班結果表!$E$4:$E$303,編班結果表!$B$4:$B$303),2,)),\"\",VLOOKUP($B130,IF({1,0},編班結果表!$E$4:$E$303,編班結果表!$B$4:$B$303),2,))","v":""},{"$f":"IF(ISERROR(VLOOKUP($B130,IF({1,0},編班結果表!$E$4:$F$303,編班結果表!$C$4:$C$303),2,FALSE)),\"\",VLOOKUP($B130,IF({1,0},編班結果表!$E$4:$F$303,編班結果表!$C$4:$C$303),2,FALSE))","v":""},{"$f":"IF(SEARCH(\"/\",重整表!#REF!)=3,LEFT(重整表!#REF!,2)+1911&MID(重整表!#REF!,3,8),LEFT(重整表!#REF!,3)+1911&MID(重整表!#REF!,4,8))","v":{"$error":"#REF!"}},{"$f":"IF(ISBLANK(重整表!#REF!),\"\",重整表!#REF!)","v":{"$error":"#REF!"}},{"$f":"IF(ISBLANK(重整表!#REF!),\"\",重整表!#REF!)","v":{"$error":"#REF!"}},{"$f":"IF(ISBLANK(重整表!#REF!),\"\",重整表!#REF!)","v":{"$error":"#REF!"}},null,null,{"$f":"IF(ISBLANK(重整表!#REF!),\"\",重整表!#REF!)","v":{"$error":"#REF!"}},null,null,{"$f":"IF(SEARCH(\"/\",重整表!#REF!)=3,LEFT(重整表!#REF!,2)+1911&MID(重整表!#REF!,3,8),LEFT(重整表!#REF!,3)+1911&MID(重整表!#REF!,4,8))","v":{"$error":"#REF!"}}]
[null,{"$f":"IF(ISBLANK(重整表!#REF!),\"\",重整表!#REF!)","v":{"$error":"#REF!"}},{"$f":"IF(ISBLANK(重整表!#REF!),\"\",IF(重整表!#REF!=\"男\",1,IF(重整表!#REF!=\"女\",2)))","v":{"$error":"#REF!"}},null,{"$f":"IF(ISERROR(VLOOKUP($B131,IF({1,0},編班結果表!$E$4:$E$303,編班結果表!$B$4:$B$303),2,)),\"\",VLOOKUP($B131,IF({1,0},編班結果表!$E$4:$E$303,編班結果表!$B$4:$B$303),2,))","v":""},{"$f":"IF(ISERROR(VLOOKUP($B131,IF({1,0},編班結果表!$E$4:$F$303,編班結果表!$C$4:$C$303),2,FALSE)),\"\",VLOOKUP($B131,IF({1,0},編班結果表!$E$4:$F$303,編班結果表!$C$4:$C$303),2,FALSE))","v":""},{"$f":"IF(SEARCH(\"/\",重整表!#REF!)=3,LEFT(重整表!#REF!,2)+1911&MID(重整表!#REF!,3,8),LEFT(重整表!#REF!,3)+1911&MID(重整表!#REF!,4,8))","v":{"$error":"#REF!"}},{"$f":"IF(ISBLANK(重整表!#REF!),\"\",重整表!#REF!)","v":{"$error":"#REF!"}},{"$f":"IF(ISBLANK(重整表!#REF!),\"\",重整表!#REF!)","v":{"$error":"#REF!"}},{"$f":"IF(ISBLANK(重整表!#REF!),\"\",重整表!#REF!)","v":{"$error":"#REF!"}},null,null,{"$f":"IF(ISBLANK(重整表!#REF!),\"\",重整表!#REF!)","v":{"$error":"#REF!"}},null,null,{"$f":"IF(SEARCH(\"/\",重整表!#REF!)=3,LEFT(重整表!#REF!,2)+1911&MID(重整表!#REF!,3,8),LEFT(重整表!#REF!,3)+1911&MID(重整表!#REF!,4,8))","v":{"$error":"#REF!"}}]
[null,{"$f":"IF(ISBLANK(重整表!#REF!),\"\",重整表!#REF!)","v":{"$error":"#REF!"}},{"$f":"IF(ISBLANK(重整表!#REF!),\"\",IF(重整表!#REF!=\"男\",1,IF(重整表!#REF!=\"女\",2)))","v":{"$error":"#REF!"}},null,{"$f":"IF(ISERROR(VLOOKUP($B132,IF({1,0},編班結果表!$E$4:$E$303,編班結果表!$B$4:$B$303),2,)),\"\",VLOOKUP($B132,IF({1,0},編班結果表!$E$4:$E$303,編班結果表!$B$4:$B$303),2,))","v":""},{"$f":"IF(ISERROR(VLOOKUP($B132,IF({1,0},編班結果表!$E$4:$F$303,編班結果表!$C$4:$C$303),2,FALSE)),\"\",VLOOKUP($B132,IF({1,0},編班結果表!$E$4:$F$303,編班結果表!$C$4:$C$303),2,FALSE))","v":""},{"$f":"IF(SEARCH(\"/\",重整表!#REF!)=3,LEFT(重整表!#REF!,2)+1911&MID(重整表!#REF!,3,8),LEFT(重整表!#REF!,3)+1911&MID(重整表!#REF!,4,8))","v":{"$error":"#REF!"}},{"$f":"IF(ISBLANK(重整表!#REF!),\"\",重整表!#REF!)","v":{"$error":"#REF!"}},{"$f":"IF(ISBLANK(重整表!#REF!),\"\",重整表!#REF!)","v":{"$error":"#REF!"}},{"$f":"IF(ISBLANK(重整表!#REF!),\"\",重整表!#REF!)","v":{"$error":"#REF!"}},null,null,{"$f":"IF(ISBLANK(重整表!#REF!),\"\",重整表!#REF!)","v":{"$error":"#REF!"}},null,null,{"$f":"IF(SEARCH(\"/\",重整表!#REF!)=3,LEFT(重整表!#REF!,2)+1911&MID(重整表!#REF!,3,8),LEFT(重整表!#REF!,3)+1911&MID(重整表!#REF!,4,8))","v":{"$error":"#REF!"}}]
[null,{"$f":"IF(ISBLANK(重整表!#REF!),\"\",重整表!#REF!)","v":{"$error":"#REF!"}},{"$f":"IF(ISBLANK(重整表!#REF!),\"\",IF(重整表!#REF!=\"男\",1,IF(重整表!#REF!=\"女\",2)))","v":{"$error":"#REF!"}},null,{"$f":"IF(ISERROR(VLOOKUP($B133,IF({1,0},編班結果表!$E$4:$E$303,編班結果表!$B$4:$B$303),2,)),\"\",VLOOKUP($B133,IF({1,0},編班結果表!$E$4:$E$303,編班結果表!$B$4:$B$303),2,))","v":""},{"$f":"IF(ISERROR(VLOOKUP($B133,IF({1,0},編班結果表!$E$4:$F$303,編班結果表!$C$4:$C$303),2,FALSE)),\"\",VLOOKUP($B133,IF({1,0},編班結果表!$E$4:$F$303,編班結果表!$C$4:$C$303),2,FALSE))","v":""},{"$f":"IF(SEARCH(\"/\",重整表!#REF!)=3,LEFT(重整表!#REF!,2)+1911&MID(重整表!#REF!,3,8),LEFT(重整表!#REF!,3)+1911&MID(重整表!#REF!,4,8))","v":{"$error":"#REF!"}},{"$f":"IF(ISBLANK(重整表!#REF!),\"\",重整表!#REF!)","v":{"$error":"#REF!"}},{"$f":"IF(ISBLANK(重整表!#REF!),\"\",重整表!#REF!)","v":{"$error":"#REF!"}},{"$f":"IF(ISBLANK(重整表!#REF!),\"\",重整表!#REF!)","v":{"$error":"#REF!"}},null,null,{"$f":"IF(ISBLANK(重整表!#REF!),\"\",重整表!#REF!)","v":{"$error":"#REF!"}},null,null,{"$f":"IF(SEARCH(\"/\",重整表!#REF!)=3,LEFT(重整表!#REF!,2)+1911&MID(重整表!#REF!,3,8),LEFT(重整表!#REF!,3)+1911&MID(重整表!#REF!,4,8))","v":{"$error":"#REF!"}}]
[null,{"$f":"IF(ISBLANK(重整表!#REF!),\"\",重整表!#REF!)","v":{"$error":"#REF!"}},{"$f":"IF(ISBLANK(重整表!#REF!),\"\",IF(重整表!#REF!=\"男\",1,IF(重整表!#REF!=\"女\",2)))","v":{"$error":"#REF!"}},null,{"$f":"IF(ISERROR(VLOOKUP($B134,IF({1,0},編班結果表!$E$4:$E$303,編班結果表!$B$4:$B$303),2,)),\"\",VLOOKUP($B134,IF({1,0},編班結果表!$E$4:$E$303,編班結果表!$B$4:$B$303),2,))","v":""},{"$f":"IF(ISERROR(VLOOKUP($B134,IF({1,0},編班結果表!$E$4:$F$303,編班結果表!$C$4:$C$303),2,FALSE)),\"\",VLOOKUP($B134,IF({1,0},編班結果表!$E$4:$F$303,編班結果表!$C$4:$C$303),2,FALSE))","v":""},{"$f":"IF(SEARCH(\"/\",重整表!#REF!)=3,LEFT(重整表!#REF!,2)+1911&MID(重整表!#REF!,3,8),LEFT(重整表!#REF!,3)+1911&MID(重整表!#REF!,4,8))","v":{"$error":"#REF!"}},{"$f":"IF(ISBLANK(重整表!#REF!),\"\",重整表!#REF!)","v":{"$error":"#REF!"}},{"$f":"IF(ISBLANK(重整表!#REF!),\"\",重整表!#REF!)","v":{"$error":"#REF!"}},{"$f":"IF(ISBLANK(重整表!#REF!),\"\",重整表!#REF!)","v":{"$error":"#REF!"}},null,null,{"$f":"IF(ISBLANK(重整表!#REF!),\"\",重整表!#REF!)","v":{"$error":"#REF!"}},null,null,{"$f":"IF(SEARCH(\"/\",重整表!#REF!)=3,LEFT(重整表!#REF!,2)+1911&MID(重整表!#REF!,3,8),LEFT(重整表!#REF!,3)+1911&MID(重整表!#REF!,4,8))","v":{"$error":"#REF!"}}]
[null,{"$f":"IF(ISBLANK(重整表!#REF!),\"\",重整表!#REF!)","v":{"$error":"#REF!"}},{"$f":"IF(ISBLANK(重整表!#REF!),\"\",IF(重整表!#REF!=\"男\",1,IF(重整表!#REF!=\"女\",2)))","v":{"$error":"#REF!"}},null,{"$f":"IF(ISERROR(VLOOKUP($B135,IF({1,0},編班結果表!$E$4:$E$303,編班結果表!$B$4:$B$303),2,)),\"\",VLOOKUP($B135,IF({1,0},編班結果表!$E$4:$E$303,編班結果表!$B$4:$B$303),2,))","v":""},{"$f":"IF(ISERROR(VLOOKUP($B135,IF({1,0},編班結果表!$E$4:$F$303,編班結果表!$C$4:$C$303),2,FALSE)),\"\",VLOOKUP($B135,IF({1,0},編班結果表!$E$4:$F$303,編班結果表!$C$4:$C$303),2,FALSE))","v":""},{"$f":"IF(SEARCH(\"/\",重整表!#REF!)=3,LEFT(重整表!#REF!,2)+1911&MID(重整表!#REF!,3,8),LEFT(重整表!#REF!,3)+1911&MID(重整表!#REF!,4,8))","v":{"$error":"#REF!"}},{"$f":"IF(ISBLANK(重整表!#REF!),\"\",重整表!#REF!)","v":{"$error":"#REF!"}},{"$f":"IF(ISBLANK(重整表!#REF!),\"\",重整表!#REF!)","v":{"$error":"#REF!"}},{"$f":"IF(ISBLANK(重整表!#REF!),\"\",重整表!#REF!)","v":{"$error":"#REF!"}},null,null,{"$f":"IF(ISBLANK(重整表!#REF!),\"\",重整表!#REF!)","v":{"$error":"#REF!"}},null,null,{"$f":"IF(SEARCH(\"/\",重整表!#REF!)=3,LEFT(重整表!#REF!,2)+1911&MID(重整表!#REF!,3,8),LEFT(重整表!#REF!,3)+1911&MID(重整表!#REF!,4,8))","v":{"$error":"#REF!"}}]
[null,{"$f":"IF(ISBLANK(重整表!#REF!),\"\",重整表!#REF!)","v":{"$error":"#REF!"}},{"$f":"IF(ISBLANK(重整表!#REF!),\"\",IF(重整表!#REF!=\"男\",1,IF(重整表!#REF!=\"女\",2)))","v":{"$error":"#REF!"}},null,{"$f":"IF(ISERROR(VLOOKUP($B136,IF({1,0},編班結果表!$E$4:$E$303,編班結果表!$B$4:$B$303),2,)),\"\",VLOOKUP($B136,IF({1,0},編班結果表!$E$4:$E$303,編班結果表!$B$4:$B$303),2,))","v":""},{"$f":"IF(ISERROR(VLOOKUP($B136,IF({1,0},編班結果表!$E$4:$F$303,編班結果表!$C$4:$C$303),2,FALSE)),\"\",VLOOKUP($B136,IF({1,0},編班結果表!$E$4:$F$303,編班結果表!$C$4:$C$303),2,FALSE))","v":""},{"$f":"IF(SEARCH(\"/\",重整表!#REF!)=3,LEFT(重整表!#REF!,2)+1911&MID(重整表!#REF!,3,8),LEFT(重整表!#REF!,3)+1911&MID(重整表!#REF!,4,8))","v":{"$error":"#REF!"}},{"$f":"IF(ISBLANK(重整表!#REF!),\"\",重整表!#REF!)","v":{"$error":"#REF!"}},{"$f":"IF(ISBLANK(重整表!#REF!),\"\",重整表!#REF!)","v":{"$error":"#REF!"}},{"$f":"IF(ISBLANK(重整表!#REF!),\"\",重整表!#REF!)","v":{"$error":"#REF!"}},null,null,{"$f":"IF(ISBLANK(重整表!#REF!),\"\",重整表!#REF!)","v":{"$error":"#REF!"}},null,null,{"$f":"IF(SEARCH(\"/\",重整表!#REF!)=3,LEFT(重整表!#REF!,2)+1911&MID(重整表!#REF!,3,8),LEFT(重整表!#REF!,3)+1911&MID(重整表!#REF!,4,8))","v":{"$error":"#REF!"}}]
[null,{"$f":"IF(ISBLANK(重整表!#REF!),\"\",重整表!#REF!)","v":{"$error":"#REF!"}},{"$f":"IF(ISBLANK(重整表!#REF!),\"\",IF(重整表!#REF!=\"男\",1,IF(重整表!#REF!=\"女\",2)))","v":{"$error":"#REF!"}},null,{"$f":"IF(ISERROR(VLOOKUP($B137,IF({1,0},編班結果表!$E$4:$E$303,編班結果表!$B$4:$B$303),2,)),\"\",VLOOKUP($B137,IF({1,0},編班結果表!$E$4:$E$303,編班結果表!$B$4:$B$303),2,))","v":""},{"$f":"IF(ISERROR(VLOOKUP($B137,IF({1,0},編班結果表!$E$4:$F$303,編班結果表!$C$4:$C$303),2,FALSE)),\"\",VLOOKUP($B137,IF({1,0},編班結果表!$E$4:$F$303,編班結果表!$C$4:$C$303),2,FALSE))","v":""},{"$f":"IF(SEARCH(\"/\",重整表!#REF!)=3,LEFT(重整表!#REF!,2)+1911&MID(重整表!#REF!,3,8),LEFT(重整表!#REF!,3)+1911&MID(重整表!#REF!,4,8))","v":{"$error":"#REF!"}},{"$f":"IF(ISBLANK(重整表!#REF!),\"\",重整表!#REF!)","v":{"$error":"#REF!"}},{"$f":"IF(ISBLANK(重整表!#REF!),\"\",重整表!#REF!)","v":{"$error":"#REF!"}},{"$f":"IF(ISBLANK(重整表!#REF!),\"\",重整表!#REF!)","v":{"$error":"#REF!"}},null,null,{"$f":"IF(ISBLANK(重整表!#REF!),\"\",重整表!#REF!)","v":{"$error":"#REF!"}},null,null,{"$f":"IF(SEARCH(\"/\",重整表!#REF!)=3,LEFT(重整表!#REF!,2)+1911&MID(重整表!#REF!,3,8),LEFT(重整表!#REF!,3)+1911&MID(重整表!#REF!,4,8))","v":{"$error":"#REF!"}}]
[null,{"$f":"IF(ISBLANK(重整表!#REF!),\"\",重整表!#REF!)","v":{"$error":"#REF!"}},{"$f":"IF(ISBLANK(重整表!#REF!),\"\",IF(重整表!#REF!=\"男\",1,IF(重整表!#REF!=\"女\",2)))","v":{"$error":"#REF!"}},null,{"$f":"IF(ISERROR(VLOOKUP($B138,IF({1,0},編班結果表!$E$4:$E$303,編班結果表!$B$4:$B$303),2,)),\"\",VLOOKUP($B138,IF({1,0},編班結果表!$E$4:$E$303,編班結果表!$B$4:$B$303),2,))","v":""},{"$f":"IF(ISERROR(VLOOKUP($B138,IF({1,0},編班結果表!$E$4:$F$303,編班結果表!$C$4:$C$303),2,FALSE)),\"\",VLOOKUP($B138,IF({1,0},編班結果表!$E$4:$F$303,編班結果表!$C$4:$C$303),2,FALSE))","v":""},{"$f":"IF(SEARCH(\"/\",重整表!#REF!)=3,LEFT(重整表!#REF!,2)+1911&MID(重整表!#REF!,3,8),LEFT(重整表!#REF!,3)+1911&MID(重整表!#REF!,4,8))","v":{"$error":"#REF!"}},{"$f":"IF(ISBLANK(重整表!#REF!),\"\",重整表!#REF!)","v":{"$error":"#REF!"}},{"$f":"IF(ISBLANK(重整表!#REF!),\"\",重整表!#REF!)","v":{"$error":"#REF!"}},{"$f":"IF(ISBLANK(重整表!#REF!),\"\",重整表!#REF!)","v":{"$error":"#REF!"}},null,null,{"$f":"IF(ISBLANK(重整表!#REF!),\"\",重整表!#REF!)","v":{"$error":"#REF!"}},null,null,{"$f":"IF(SEARCH(\"/\",重整表!#REF!)=3,LEFT(重整表!#REF!,2)+1911&MID(重整表!#REF!,3,8),LEFT(重整表!#REF!,3)+1911&MID(重整表!#REF!,4,8))","v":{"$error":"#REF!"}}]
[null,{"$f":"IF(ISBLANK(重整表!#REF!),\"\",重整表!#REF!)","v":{"$error":"#REF!"}},{"$f":"IF(ISBLANK(重整表!#REF!),\"\",IF(重整表!#REF!=\"男\",1,IF(重整表!#REF!=\"女\",2)))","v":{"$error":"#REF!"}},null,{"$f":"IF(ISERROR(VLOOKUP($B139,IF({1,0},編班結果表!$E$4:$E$303,編班結果表!$B$4:$B$303),2,)),\"\",VLOOKUP($B139,IF({1,0},編班結果表!$E$4:$E$303,編班結果表!$B$4:$B$303),2,))","v":""},{"$f":"IF(ISERROR(VLOOKUP($B139,IF({1,0},編班結果表!$E$4:$F$303,編班結果表!$C$4:$C$303),2,FALSE)),\"\",VLOOKUP($B139,IF({1,0},編班結果表!$E$4:$F$303,編班結果表!$C$4:$C$303),2,FALSE))","v":""},{"$f":"IF(SEARCH(\"/\",重整表!#REF!)=3,LEFT(重整表!#REF!,2)+1911&MID(重整表!#REF!,3,8),LEFT(重整表!#REF!,3)+1911&MID(重整表!#REF!,4,8))","v":{"$error":"#REF!"}},{"$f":"IF(ISBLANK(重整表!#REF!),\"\",重整表!#REF!)","v":{"$error":"#REF!"}},{"$f":"IF(ISBLANK(重整表!#REF!),\"\",重整表!#REF!)","v":{"$error":"#REF!"}},{"$f":"IF(ISBLANK(重整表!#REF!),\"\",重整表!#REF!)","v":{"$error":"#REF!"}},null,null,{"$f":"IF(ISBLANK(重整表!#REF!),\"\",重整表!#REF!)","v":{"$error":"#REF!"}},null,null,{"$f":"IF(SEARCH(\"/\",重整表!#REF!)=3,LEFT(重整表!#REF!,2)+1911&MID(重整表!#REF!,3,8),LEFT(重整表!#REF!,3)+1911&MID(重整表!#REF!,4,8))","v":{"$error":"#REF!"}}]
[null,{"$f":"IF(ISBLANK(重整表!#REF!),\"\",重整表!#REF!)","v":{"$error":"#REF!"}},{"$f":"IF(ISBLANK(重整表!#REF!),\"\",IF(重整表!#REF!=\"男\",1,IF(重整表!#REF!=\"女\",2)))","v":{"$error":"#REF!"}},null,{"$f":"IF(ISERROR(VLOOKUP($B140,IF({1,0},編班結果表!$E$4:$E$303,編班結果表!$B$4:$B$303),2,)),\"\",VLOOKUP($B140,IF({1,0},編班結果表!$E$4:$E$303,編班結果表!$B$4:$B$303),2,))","v":""},{"$f":"IF(ISERROR(VLOOKUP($B140,IF({1,0},編班結果表!$E$4:$F$303,編班結果表!$C$4:$C$303),2,FALSE)),\"\",VLOOKUP($B140,IF({1,0},編班結果表!$E$4:$F$303,編班結果表!$C$4:$C$303),2,FALSE))","v":""},{"$f":"IF(SEARCH(\"/\",重整表!#REF!)=3,LEFT(重整表!#REF!,2)+1911&MID(重整表!#REF!,3,8),LEFT(重整表!#REF!,3)+1911&MID(重整表!#REF!,4,8))","v":{"$error":"#REF!"}},{"$f":"IF(ISBLANK(重整表!#REF!),\"\",重整表!#REF!)","v":{"$error":"#REF!"}},{"$f":"IF(ISBLANK(重整表!#REF!),\"\",重整表!#REF!)","v":{"$error":"#REF!"}},{"$f":"IF(ISBLANK(重整表!#REF!),\"\",重整表!#REF!)","v":{"$error":"#REF!"}},null,null,{"$f":"IF(ISBLANK(重整表!#REF!),\"\",重整表!#REF!)","v":{"$error":"#REF!"}},null,null,{"$f":"IF(SEARCH(\"/\",重整表!#REF!)=3,LEFT(重整表!#REF!,2)+1911&MID(重整表!#REF!,3,8),LEFT(重整表!#REF!,3)+1911&MID(重整表!#REF!,4,8))","v":{"$error":"#REF!"}}]
[null,{"$f":"IF(ISBLANK(重整表!#REF!),\"\",重整表!#REF!)","v":{"$error":"#REF!"}},{"$f":"IF(ISBLANK(重整表!#REF!),\"\",IF(重整表!#REF!=\"男\",1,IF(重整表!#REF!=\"女\",2)))","v":{"$error":"#REF!"}},null,{"$f":"IF(ISERROR(VLOOKUP($B141,IF({1,0},編班結果表!$E$4:$E$303,編班結果表!$B$4:$B$303),2,)),\"\",VLOOKUP($B141,IF({1,0},編班結果表!$E$4:$E$303,編班結果表!$B$4:$B$303),2,))","v":""},{"$f":"IF(ISERROR(VLOOKUP($B141,IF({1,0},編班結果表!$E$4:$F$303,編班結果表!$C$4:$C$303),2,FALSE)),\"\",VLOOKUP($B141,IF({1,0},編班結果表!$E$4:$F$303,編班結果表!$C$4:$C$303),2,FALSE))","v":""},{"$f":"IF(SEARCH(\"/\",重整表!#REF!)=3,LEFT(重整表!#REF!,2)+1911&MID(重整表!#REF!,3,8),LEFT(重整表!#REF!,3)+1911&MID(重整表!#REF!,4,8))","v":{"$error":"#REF!"}},{"$f":"IF(ISBLANK(重整表!#REF!),\"\",重整表!#REF!)","v":{"$error":"#REF!"}},{"$f":"IF(ISBLANK(重整表!#REF!),\"\",重整表!#REF!)","v":{"$error":"#REF!"}},{"$f":"IF(ISBLANK(重整表!#REF!),\"\",重整表!#REF!)","v":{"$error":"#REF!"}},null,null,{"$f":"IF(ISBLANK(重整表!#REF!),\"\",重整表!#REF!)","v":{"$error":"#REF!"}},null,null,{"$f":"IF(SEARCH(\"/\",重整表!#REF!)=3,LEFT(重整表!#REF!,2)+1911&MID(重整表!#REF!,3,8),LEFT(重整表!#REF!,3)+1911&MID(重整表!#REF!,4,8))","v":{"$error":"#REF!"}}]
[null,{"$f":"IF(ISBLANK(重整表!#REF!),\"\",重整表!#REF!)","v":{"$error":"#REF!"}},{"$f":"IF(ISBLANK(重整表!#REF!),\"\",IF(重整表!#REF!=\"男\",1,IF(重整表!#REF!=\"女\",2)))","v":{"$error":"#REF!"}},null,{"$f":"IF(ISERROR(VLOOKUP($B142,IF({1,0},編班結果表!$E$4:$E$303,編班結果表!$B$4:$B$303),2,)),\"\",VLOOKUP($B142,IF({1,0},編班結果表!$E$4:$E$303,編班結果表!$B$4:$B$303),2,))","v":""},{"$f":"IF(ISERROR(VLOOKUP($B142,IF({1,0},編班結果表!$E$4:$F$303,編班結果表!$C$4:$C$303),2,FALSE)),\"\",VLOOKUP($B142,IF({1,0},編班結果表!$E$4:$F$303,編班結果表!$C$4:$C$303),2,FALSE))","v":""},{"$f":"IF(SEARCH(\"/\",重整表!#REF!)=3,LEFT(重整表!#REF!,2)+1911&MID(重整表!#REF!,3,8),LEFT(重整表!#REF!,3)+1911&MID(重整表!#REF!,4,8))","v":{"$error":"#REF!"}},{"$f":"IF(ISBLANK(重整表!#REF!),\"\",重整表!#REF!)","v":{"$error":"#REF!"}},{"$f":"IF(ISBLANK(重整表!#REF!),\"\",重整表!#REF!)","v":{"$error":"#REF!"}},{"$f":"IF(ISBLANK(重整表!#REF!),\"\",重整表!#REF!)","v":{"$error":"#REF!"}},null,null,{"$f":"IF(ISBLANK(重整表!#REF!),\"\",重整表!#REF!)","v":{"$error":"#REF!"}},null,null,{"$f":"IF(SEARCH(\"/\",重整表!#REF!)=3,LEFT(重整表!#REF!,2)+1911&MID(重整表!#REF!,3,8),LEFT(重整表!#REF!,3)+1911&MID(重整表!#REF!,4,8))","v":{"$error":"#REF!"}}]
[null,{"$f":"IF(ISBLANK(重整表!#REF!),\"\",重整表!#REF!)","v":{"$error":"#REF!"}},{"$f":"IF(ISBLANK(重整表!#REF!),\"\",IF(重整表!#REF!=\"男\",1,IF(重整表!#REF!=\"女\",2)))","v":{"$error":"#REF!"}},null,{"$f":"IF(ISERROR(VLOOKUP($B143,IF({1,0},編班結果表!$E$4:$E$303,編班結果表!$B$4:$B$303),2,)),\"\",VLOOKUP($B143,IF({1,0},編班結果表!$E$4:$E$303,編班結果表!$B$4:$B$303),2,))","v":""},{"$f":"IF(ISERROR(VLOOKUP($B143,IF({1,0},編班結果表!$E$4:$F$303,編班結果表!$C$4:$C$303),2,FALSE)),\"\",VLOOKUP($B143,IF({1,0},編班結果表!$E$4:$F$303,編班結果表!$C$4:$C$303),2,FALSE))","v":""},{"$f":"IF(SEARCH(\"/\",重整表!#REF!)=3,LEFT(重整表!#REF!,2)+1911&MID(重整表!#REF!,3,8),LEFT(重整表!#REF!,3)+1911&MID(重整表!#REF!,4,8))","v":{"$error":"#REF!"}},{"$f":"IF(ISBLANK(重整表!#REF!),\"\",重整表!#REF!)","v":{"$error":"#REF!"}},{"$f":"IF(ISBLANK(重整表!#REF!),\"\",重整表!#REF!)","v":{"$error":"#REF!"}},{"$f":"IF(ISBLANK(重整表!#REF!),\"\",重整表!#REF!)","v":{"$error":"#REF!"}},null,null,{"$f":"IF(ISBLANK(重整表!#REF!),\"\",重整表!#REF!)","v":{"$error":"#REF!"}},null,null,{"$f":"IF(SEARCH(\"/\",重整表!#REF!)=3,LEFT(重整表!#REF!,2)+1911&MID(重整表!#REF!,3,8),LEFT(重整表!#REF!,3)+1911&MID(重整表!#REF!,4,8))","v":{"$error":"#REF!"}}]
[null,{"$f":"IF(ISBLANK(重整表!#REF!),\"\",重整表!#REF!)","v":{"$error":"#REF!"}},{"$f":"IF(ISBLANK(重整表!#REF!),\"\",IF(重整表!#REF!=\"男\",1,IF(重整表!#REF!=\"女\",2)))","v":{"$error":"#REF!"}},null,{"$f":"IF(ISERROR(VLOOKUP($B144,IF({1,0},編班結果表!$E$4:$E$303,編班結果表!$B$4:$B$303),2,)),\"\",VLOOKUP($B144,IF({1,0},編班結果表!$E$4:$E$303,編班結果表!$B$4:$B$303),2,))","v":""},{"$f":"IF(ISERROR(VLOOKUP($B144,IF({1,0},編班結果表!$E$4:$F$303,編班結果表!$C$4:$C$303),2,FALSE)),\"\",VLOOKUP($B144,IF({1,0},編班結果表!$E$4:$F$303,編班結果表!$C$4:$C$303),2,FALSE))","v":""},{"$f":"IF(SEARCH(\"/\",重整表!#REF!)=3,LEFT(重整表!#REF!,2)+1911&MID(重整表!#REF!,3,8),LEFT(重整表!#REF!,3)+1911&MID(重整表!#REF!,4,8))","v":{"$error":"#REF!"}},{"$f":"IF(ISBLANK(重整表!#REF!),\"\",重整表!#REF!)","v":{"$error":"#REF!"}},{"$f":"IF(ISBLANK(重整表!#REF!),\"\",重整表!#REF!)","v":{"$error":"#REF!"}},{"$f":"IF(ISBLANK(重整表!#REF!),\"\",重整表!#REF!)","v":{"$error":"#REF!"}},null,null,{"$f":"IF(ISBLANK(重整表!#REF!),\"\",重整表!#REF!)","v":{"$error":"#REF!"}},null,null,{"$f":"IF(SEARCH(\"/\",重整表!#REF!)=3,LEFT(重整表!#REF!,2)+1911&MID(重整表!#REF!,3,8),LEFT(重整表!#REF!,3)+1911&MID(重整表!#REF!,4,8))","v":{"$error":"#REF!"}}]
[null,{"$f":"IF(ISBLANK(重整表!#REF!),\"\",重整表!#REF!)","v":{"$error":"#REF!"}},{"$f":"IF(ISBLANK(重整表!#REF!),\"\",IF(重整表!#REF!=\"男\",1,IF(重整表!#REF!=\"女\",2)))","v":{"$error":"#REF!"}},null,{"$f":"IF(ISERROR(VLOOKUP($B145,IF({1,0},編班結果表!$E$4:$E$303,編班結果表!$B$4:$B$303),2,)),\"\",VLOOKUP($B145,IF({1,0},編班結果表!$E$4:$E$303,編班結果表!$B$4:$B$303),2,))","v":""},{"$f":"IF(ISERROR(VLOOKUP($B145,IF({1,0},編班結果表!$E$4:$F$303,編班結果表!$C$4:$C$303),2,FALSE)),\"\",VLOOKUP($B145,IF({1,0},編班結果表!$E$4:$F$303,編班結果表!$C$4:$C$303),2,FALSE))","v":""},{"$f":"IF(SEARCH(\"/\",重整表!#REF!)=3,LEFT(重整表!#REF!,2)+1911&MID(重整表!#REF!,3,8),LEFT(重整表!#REF!,3)+1911&MID(重整表!#REF!,4,8))","v":{"$error":"#REF!"}},{"$f":"IF(ISBLANK(重整表!#REF!),\"\",重整表!#REF!)","v":{"$error":"#REF!"}},{"$f":"IF(ISBLANK(重整表!#REF!),\"\",重整表!#REF!)","v":{"$error":"#REF!"}},{"$f":"IF(ISBLANK(重整表!#REF!),\"\",重整表!#REF!)","v":{"$error":"#REF!"}},null,null,{"$f":"IF(ISBLANK(重整表!#REF!),\"\",重整表!#REF!)","v":{"$error":"#REF!"}},null,null,{"$f":"IF(SEARCH(\"/\",重整表!#REF!)=3,LEFT(重整表!#REF!,2)+1911&MID(重整表!#REF!,3,8),LEFT(重整表!#REF!,3)+1911&MID(重整表!#REF!,4,8))","v":{"$error":"#REF!"}}]
[null,{"$f":"IF(ISBLANK(重整表!#REF!),\"\",重整表!#REF!)","v":{"$error":"#REF!"}},{"$f":"IF(ISBLANK(重整表!#REF!),\"\",IF(重整表!#REF!=\"男\",1,IF(重整表!#REF!=\"女\",2)))","v":{"$error":"#REF!"}},null,{"$f":"IF(ISERROR(VLOOKUP($B146,IF({1,0},編班結果表!$E$4:$E$303,編班結果表!$B$4:$B$303),2,)),\"\",VLOOKUP($B146,IF({1,0},編班結果表!$E$4:$E$303,編班結果表!$B$4:$B$303),2,))","v":""},{"$f":"IF(ISERROR(VLOOKUP($B146,IF({1,0},編班結果表!$E$4:$F$303,編班結果表!$C$4:$C$303),2,FALSE)),\"\",VLOOKUP($B146,IF({1,0},編班結果表!$E$4:$F$303,編班結果表!$C$4:$C$303),2,FALSE))","v":""},{"$f":"IF(SEARCH(\"/\",重整表!#REF!)=3,LEFT(重整表!#REF!,2)+1911&MID(重整表!#REF!,3,8),LEFT(重整表!#REF!,3)+1911&MID(重整表!#REF!,4,8))","v":{"$error":"#REF!"}},{"$f":"IF(ISBLANK(重整表!#REF!),\"\",重整表!#REF!)","v":{"$error":"#REF!"}},{"$f":"IF(ISBLANK(重整表!#REF!),\"\",重整表!#REF!)","v":{"$error":"#REF!"}},{"$f":"IF(ISBLANK(重整表!#REF!),\"\",重整表!#REF!)","v":{"$error":"#REF!"}},null,null,{"$f":"IF(ISBLANK(重整表!#REF!),\"\",重整表!#REF!)","v":{"$error":"#REF!"}},null,null,{"$f":"IF(SEARCH(\"/\",重整表!#REF!)=3,LEFT(重整表!#REF!,2)+1911&MID(重整表!#REF!,3,8),LEFT(重整表!#REF!,3)+1911&MID(重整表!#REF!,4,8))","v":{"$error":"#REF!"}}]
[null,{"$f":"IF(ISBLANK(重整表!#REF!),\"\",重整表!#REF!)","v":{"$error":"#REF!"}},{"$f":"IF(ISBLANK(重整表!#REF!),\"\",IF(重整表!#REF!=\"男\",1,IF(重整表!#REF!=\"女\",2)))","v":{"$error":"#REF!"}},null,{"$f":"IF(ISERROR(VLOOKUP($B147,IF({1,0},編班結果表!$E$4:$E$303,編班結果表!$B$4:$B$303),2,)),\"\",VLOOKUP($B147,IF({1,0},編班結果表!$E$4:$E$303,編班結果表!$B$4:$B$303),2,))","v":""},{"$f":"IF(ISERROR(VLOOKUP($B147,IF({1,0},編班結果表!$E$4:$F$303,編班結果表!$C$4:$C$303),2,FALSE)),\"\",VLOOKUP($B147,IF({1,0},編班結果表!$E$4:$F$303,編班結果表!$C$4:$C$303),2,FALSE))","v":""},{"$f":"IF(SEARCH(\"/\",重整表!#REF!)=3,LEFT(重整表!#REF!,2)+1911&MID(重整表!#REF!,3,8),LEFT(重整表!#REF!,3)+1911&MID(重整表!#REF!,4,8))","v":{"$error":"#REF!"}},{"$f":"IF(ISBLANK(重整表!#REF!),\"\",重整表!#REF!)","v":{"$error":"#REF!"}},{"$f":"IF(ISBLANK(重整表!#REF!),\"\",重整表!#REF!)","v":{"$error":"#REF!"}},{"$f":"IF(ISBLANK(重整表!#REF!),\"\",重整表!#REF!)","v":{"$error":"#REF!"}},null,null,{"$f":"IF(ISBLANK(重整表!#REF!),\"\",重整表!#REF!)","v":{"$error":"#REF!"}},null,null,{"$f":"IF(SEARCH(\"/\",重整表!#REF!)=3,LEFT(重整表!#REF!,2)+1911&MID(重整表!#REF!,3,8),LEFT(重整表!#REF!,3)+1911&MID(重整表!#REF!,4,8))","v":{"$error":"#REF!"}}]
[null,{"$f":"IF(ISBLANK(重整表!#REF!),\"\",重整表!#REF!)","v":{"$error":"#REF!"}},{"$f":"IF(ISBLANK(重整表!#REF!),\"\",IF(重整表!#REF!=\"男\",1,IF(重整表!#REF!=\"女\",2)))","v":{"$error":"#REF!"}},null,{"$f":"IF(ISERROR(VLOOKUP($B148,IF({1,0},編班結果表!$E$4:$E$303,編班結果表!$B$4:$B$303),2,)),\"\",VLOOKUP($B148,IF({1,0},編班結果表!$E$4:$E$303,編班結果表!$B$4:$B$303),2,))","v":""},{"$f":"IF(ISERROR(VLOOKUP($B148,IF({1,0},編班結果表!$E$4:$F$303,編班結果表!$C$4:$C$303),2,FALSE)),\"\",VLOOKUP($B148,IF({1,0},編班結果表!$E$4:$F$303,編班結果表!$C$4:$C$303),2,FALSE))","v":""},{"$f":"IF(SEARCH(\"/\",重整表!#REF!)=3,LEFT(重整表!#REF!,2)+1911&MID(重整表!#REF!,3,8),LEFT(重整表!#REF!,3)+1911&MID(重整表!#REF!,4,8))","v":{"$error":"#REF!"}},{"$f":"IF(ISBLANK(重整表!#REF!),\"\",重整表!#REF!)","v":{"$error":"#REF!"}},{"$f":"IF(ISBLANK(重整表!#REF!),\"\",重整表!#REF!)","v":{"$error":"#REF!"}},{"$f":"IF(ISBLANK(重整表!#REF!),\"\",重整表!#REF!)","v":{"$error":"#REF!"}},null,null,{"$f":"IF(ISBLANK(重整表!#REF!),\"\",重整表!#REF!)","v":{"$error":"#REF!"}},null,null,{"$f":"IF(SEARCH(\"/\",重整表!#REF!)=3,LEFT(重整表!#REF!,2)+1911&MID(重整表!#REF!,3,8),LEFT(重整表!#REF!,3)+1911&MID(重整表!#REF!,4,8))","v":{"$error":"#REF!"}}]
[null,{"$f":"IF(ISBLANK(重整表!#REF!),\"\",重整表!#REF!)","v":{"$error":"#REF!"}},{"$f":"IF(ISBLANK(重整表!#REF!),\"\",IF(重整表!#REF!=\"男\",1,IF(重整表!#REF!=\"女\",2)))","v":{"$error":"#REF!"}},null,{"$f":"IF(ISERROR(VLOOKUP($B149,IF({1,0},編班結果表!$E$4:$E$303,編班結果表!$B$4:$B$303),2,)),\"\",VLOOKUP($B149,IF({1,0},編班結果表!$E$4:$E$303,編班結果表!$B$4:$B$303),2,))","v":""},{"$f":"IF(ISERROR(VLOOKUP($B149,IF({1,0},編班結果表!$E$4:$F$303,編班結果表!$C$4:$C$303),2,FALSE)),\"\",VLOOKUP($B149,IF({1,0},編班結果表!$E$4:$F$303,編班結果表!$C$4:$C$303),2,FALSE))","v":""},{"$f":"IF(SEARCH(\"/\",重整表!#REF!)=3,LEFT(重整表!#REF!,2)+1911&MID(重整表!#REF!,3,8),LEFT(重整表!#REF!,3)+1911&MID(重整表!#REF!,4,8))","v":{"$error":"#REF!"}},{"$f":"IF(ISBLANK(重整表!#REF!),\"\",重整表!#REF!)","v":{"$error":"#REF!"}},{"$f":"IF(ISBLANK(重整表!#REF!),\"\",重整表!#REF!)","v":{"$error":"#REF!"}},{"$f":"IF(ISBLANK(重整表!#REF!),\"\",重整表!#REF!)","v":{"$error":"#REF!"}},null,null,{"$f":"IF(ISBLANK(重整表!#REF!),\"\",重整表!#REF!)","v":{"$error":"#REF!"}},null,null,{"$f":"IF(SEARCH(\"/\",重整表!#REF!)=3,LEFT(重整表!#REF!,2)+1911&MID(重整表!#REF!,3,8),LEFT(重整表!#REF!,3)+1911&MID(重整表!#REF!,4,8))","v":{"$error":"#REF!"}}]
[null,{"$f":"IF(ISBLANK(重整表!#REF!),\"\",重整表!#REF!)","v":{"$error":"#REF!"}},{"$f":"IF(ISBLANK(重整表!#REF!),\"\",IF(重整表!#REF!=\"男\",1,IF(重整表!#REF!=\"女\",2)))","v":{"$error":"#REF!"}},null,{"$f":"IF(ISERROR(VLOOKUP($B150,IF({1,0},編班結果表!$E$4:$E$303,編班結果表!$B$4:$B$303),2,)),\"\",VLOOKUP($B150,IF({1,0},編班結果表!$E$4:$E$303,編班結果表!$B$4:$B$303),2,))","v":""},{"$f":"IF(ISERROR(VLOOKUP($B150,IF({1,0},編班結果表!$E$4:$F$303,編班結果表!$C$4:$C$303),2,FALSE)),\"\",VLOOKUP($B150,IF({1,0},編班結果表!$E$4:$F$303,編班結果表!$C$4:$C$303),2,FALSE))","v":""},{"$f":"IF(SEARCH(\"/\",重整表!#REF!)=3,LEFT(重整表!#REF!,2)+1911&MID(重整表!#REF!,3,8),LEFT(重整表!#REF!,3)+1911&MID(重整表!#REF!,4,8))","v":{"$error":"#REF!"}},{"$f":"IF(ISBLANK(重整表!#REF!),\"\",重整表!#REF!)","v":{"$error":"#REF!"}},{"$f":"IF(ISBLANK(重整表!#REF!),\"\",重整表!#REF!)","v":{"$error":"#REF!"}},{"$f":"IF(ISBLANK(重整表!#REF!),\"\",重整表!#REF!)","v":{"$error":"#REF!"}},null,null,{"$f":"IF(ISBLANK(重整表!#REF!),\"\",重整表!#REF!)","v":{"$error":"#REF!"}},null,null,{"$f":"IF(SEARCH(\"/\",重整表!#REF!)=3,LEFT(重整表!#REF!,2)+1911&MID(重整表!#REF!,3,8),LEFT(重整表!#REF!,3)+1911&MID(重整表!#REF!,4,8))","v":{"$error":"#REF!"}}]
[null,{"$f":"IF(ISBLANK(重整表!#REF!),\"\",重整表!#REF!)","v":{"$error":"#REF!"}},{"$f":"IF(ISBLANK(重整表!#REF!),\"\",IF(重整表!#REF!=\"男\",1,IF(重整表!#REF!=\"女\",2)))","v":{"$error":"#REF!"}},null,{"$f":"IF(ISERROR(VLOOKUP($B151,IF({1,0},編班結果表!$E$4:$E$303,編班結果表!$B$4:$B$303),2,)),\"\",VLOOKUP($B151,IF({1,0},編班結果表!$E$4:$E$303,編班結果表!$B$4:$B$303),2,))","v":""},{"$f":"IF(ISERROR(VLOOKUP($B151,IF({1,0},編班結果表!$E$4:$F$303,編班結果表!$C$4:$C$303),2,FALSE)),\"\",VLOOKUP($B151,IF({1,0},編班結果表!$E$4:$F$303,編班結果表!$C$4:$C$303),2,FALSE))","v":""},{"$f":"IF(SEARCH(\"/\",重整表!#REF!)=3,LEFT(重整表!#REF!,2)+1911&MID(重整表!#REF!,3,8),LEFT(重整表!#REF!,3)+1911&MID(重整表!#REF!,4,8))","v":{"$error":"#REF!"}},{"$f":"IF(ISBLANK(重整表!#REF!),\"\",重整表!#REF!)","v":{"$error":"#REF!"}},{"$f":"IF(ISBLANK(重整表!#REF!),\"\",重整表!#REF!)","v":{"$error":"#REF!"}},{"$f":"IF(ISBLANK(重整表!#REF!),\"\",重整表!#REF!)","v":{"$error":"#REF!"}},null,null,{"$f":"IF(ISBLANK(重整表!#REF!),\"\",重整表!#REF!)","v":{"$error":"#REF!"}},null,null,{"$f":"IF(SEARCH(\"/\",重整表!#REF!)=3,LEFT(重整表!#REF!,2)+1911&MID(重整表!#REF!,3,8),LEFT(重整表!#REF!,3)+1911&MID(重整表!#REF!,4,8))","v":{"$error":"#REF!"}}]
[null,{"$f":"IF(ISBLANK(重整表!#REF!),\"\",重整表!#REF!)","v":{"$error":"#REF!"}},{"$f":"IF(ISBLANK(重整表!#REF!),\"\",IF(重整表!#REF!=\"男\",1,IF(重整表!#REF!=\"女\",2)))","v":{"$error":"#REF!"}},null,{"$f":"IF(ISERROR(VLOOKUP($B152,IF({1,0},編班結果表!$E$4:$E$303,編班結果表!$B$4:$B$303),2,)),\"\",VLOOKUP($B152,IF({1,0},編班結果表!$E$4:$E$303,編班結果表!$B$4:$B$303),2,))","v":""},{"$f":"IF(ISERROR(VLOOKUP($B152,IF({1,0},編班結果表!$E$4:$F$303,編班結果表!$C$4:$C$303),2,FALSE)),\"\",VLOOKUP($B152,IF({1,0},編班結果表!$E$4:$F$303,編班結果表!$C$4:$C$303),2,FALSE))","v":""},{"$f":"IF(SEARCH(\"/\",重整表!#REF!)=3,LEFT(重整表!#REF!,2)+1911&MID(重整表!#REF!,3,8),LEFT(重整表!#REF!,3)+1911&MID(重整表!#REF!,4,8))","v":{"$error":"#REF!"}},{"$f":"IF(ISBLANK(重整表!#REF!),\"\",重整表!#REF!)","v":{"$error":"#REF!"}},{"$f":"IF(ISBLANK(重整表!#REF!),\"\",重整表!#REF!)","v":{"$error":"#REF!"}},{"$f":"IF(ISBLANK(重整表!#REF!),\"\",重整表!#REF!)","v":{"$error":"#REF!"}},null,null,{"$f":"IF(ISBLANK(重整表!#REF!),\"\",重整表!#REF!)","v":{"$error":"#REF!"}},null,null,{"$f":"IF(SEARCH(\"/\",重整表!#REF!)=3,LEFT(重整表!#REF!,2)+1911&MID(重整表!#REF!,3,8),LEFT(重整表!#REF!,3)+1911&MID(重整表!#REF!,4,8))","v":{"$error":"#REF!"}}]
[null,{"$f":"IF(ISBLANK(重整表!#REF!),\"\",重整表!#REF!)","v":{"$error":"#REF!"}},{"$f":"IF(ISBLANK(重整表!#REF!),\"\",IF(重整表!#REF!=\"男\",1,IF(重整表!#REF!=\"女\",2)))","v":{"$error":"#REF!"}},null,{"$f":"IF(ISERROR(VLOOKUP($B153,IF({1,0},編班結果表!$E$4:$E$303,編班結果表!$B$4:$B$303),2,)),\"\",VLOOKUP($B153,IF({1,0},編班結果表!$E$4:$E$303,編班結果表!$B$4:$B$303),2,))","v":""},{"$f":"IF(ISERROR(VLOOKUP($B153,IF({1,0},編班結果表!$E$4:$F$303,編班結果表!$C$4:$C$303),2,FALSE)),\"\",VLOOKUP($B153,IF({1,0},編班結果表!$E$4:$F$303,編班結果表!$C$4:$C$303),2,FALSE))","v":""},{"$f":"IF(SEARCH(\"/\",重整表!#REF!)=3,LEFT(重整表!#REF!,2)+1911&MID(重整表!#REF!,3,8),LEFT(重整表!#REF!,3)+1911&MID(重整表!#REF!,4,8))","v":{"$error":"#REF!"}},{"$f":"IF(ISBLANK(重整表!#REF!),\"\",重整表!#REF!)","v":{"$error":"#REF!"}},{"$f":"IF(ISBLANK(重整表!#REF!),\"\",重整表!#REF!)","v":{"$error":"#REF!"}},{"$f":"IF(ISBLANK(重整表!#REF!),\"\",重整表!#REF!)","v":{"$error":"#REF!"}},null,null,{"$f":"IF(ISBLANK(重整表!#REF!),\"\",重整表!#REF!)","v":{"$error":"#REF!"}},null,null,{"$f":"IF(SEARCH(\"/\",重整表!#REF!)=3,LEFT(重整表!#REF!,2)+1911&MID(重整表!#REF!,3,8),LEFT(重整表!#REF!,3)+1911&MID(重整表!#REF!,4,8))","v":{"$error":"#REF!"}}]
[null,{"$f":"IF(ISBLANK(重整表!#REF!),\"\",重整表!#REF!)","v":{"$error":"#REF!"}},{"$f":"IF(ISBLANK(重整表!#REF!),\"\",IF(重整表!#REF!=\"男\",1,IF(重整表!#REF!=\"女\",2)))","v":{"$error":"#REF!"}},null,{"$f":"IF(ISERROR(VLOOKUP($B154,IF({1,0},編班結果表!$E$4:$E$303,編班結果表!$B$4:$B$303),2,)),\"\",VLOOKUP($B154,IF({1,0},編班結果表!$E$4:$E$303,編班結果表!$B$4:$B$303),2,))","v":""},{"$f":"IF(ISERROR(VLOOKUP($B154,IF({1,0},編班結果表!$E$4:$F$303,編班結果表!$C$4:$C$303),2,FALSE)),\"\",VLOOKUP($B154,IF({1,0},編班結果表!$E$4:$F$303,編班結果表!$C$4:$C$303),2,FALSE))","v":""},{"$f":"IF(SEARCH(\"/\",重整表!#REF!)=3,LEFT(重整表!#REF!,2)+1911&MID(重整表!#REF!,3,8),LEFT(重整表!#REF!,3)+1911&MID(重整表!#REF!,4,8))","v":{"$error":"#REF!"}},{"$f":"IF(ISBLANK(重整表!#REF!),\"\",重整表!#REF!)","v":{"$error":"#REF!"}},{"$f":"IF(ISBLANK(重整表!#REF!),\"\",重整表!#REF!)","v":{"$error":"#REF!"}},{"$f":"IF(ISBLANK(重整表!#REF!),\"\",重整表!#REF!)","v":{"$error":"#REF!"}},null,null,{"$f":"IF(ISBLANK(重整表!#REF!),\"\",重整表!#REF!)","v":{"$error":"#REF!"}},null,null,{"$f":"IF(SEARCH(\"/\",重整表!#REF!)=3,LEFT(重整表!#REF!,2)+1911&MID(重整表!#REF!,3,8),LEFT(重整表!#REF!,3)+1911&MID(重整表!#REF!,4,8))","v":{"$error":"#REF!"}}]
[null,{"$f":"IF(ISBLANK(重整表!#REF!),\"\",重整表!#REF!)","v":{"$error":"#REF!"}},{"$f":"IF(ISBLANK(重整表!#REF!),\"\",IF(重整表!#REF!=\"男\",1,IF(重整表!#REF!=\"女\",2)))","v":{"$error":"#REF!"}},null,{"$f":"IF(ISERROR(VLOOKUP($B155,IF({1,0},編班結果表!$E$4:$E$303,編班結果表!$B$4:$B$303),2,)),\"\",VLOOKUP($B155,IF({1,0},編班結果表!$E$4:$E$303,編班結果表!$B$4:$B$303),2,))","v":""},{"$f":"IF(ISERROR(VLOOKUP($B155,IF({1,0},編班結果表!$E$4:$F$303,編班結果表!$C$4:$C$303),2,FALSE)),\"\",VLOOKUP($B155,IF({1,0},編班結果表!$E$4:$F$303,編班結果表!$C$4:$C$303),2,FALSE))","v":""},{"$f":"IF(SEARCH(\"/\",重整表!#REF!)=3,LEFT(重整表!#REF!,2)+1911&MID(重整表!#REF!,3,8),LEFT(重整表!#REF!,3)+1911&MID(重整表!#REF!,4,8))","v":{"$error":"#REF!"}},{"$f":"IF(ISBLANK(重整表!#REF!),\"\",重整表!#REF!)","v":{"$error":"#REF!"}},{"$f":"IF(ISBLANK(重整表!#REF!),\"\",重整表!#REF!)","v":{"$error":"#REF!"}},{"$f":"IF(ISBLANK(重整表!#REF!),\"\",重整表!#REF!)","v":{"$error":"#REF!"}},null,null,{"$f":"IF(ISBLANK(重整表!#REF!),\"\",重整表!#REF!)","v":{"$error":"#REF!"}},null,null,{"$f":"IF(SEARCH(\"/\",重整表!#REF!)=3,LEFT(重整表!#REF!,2)+1911&MID(重整表!#REF!,3,8),LEFT(重整表!#REF!,3)+1911&MID(重整表!#REF!,4,8))","v":{"$error":"#REF!"}}]
[null,{"$f":"IF(ISBLANK(重整表!#REF!),\"\",重整表!#REF!)","v":{"$error":"#REF!"}},{"$f":"IF(ISBLANK(重整表!#REF!),\"\",IF(重整表!#REF!=\"男\",1,IF(重整表!#REF!=\"女\",2)))","v":{"$error":"#REF!"}},null,{"$f":"IF(ISERROR(VLOOKUP($B156,IF({1,0},編班結果表!$E$4:$E$303,編班結果表!$B$4:$B$303),2,)),\"\",VLOOKUP($B156,IF({1,0},編班結果表!$E$4:$E$303,編班結果表!$B$4:$B$303),2,))","v":""},{"$f":"IF(ISERROR(VLOOKUP($B156,IF({1,0},編班結果表!$E$4:$F$303,編班結果表!$C$4:$C$303),2,FALSE)),\"\",VLOOKUP($B156,IF({1,0},編班結果表!$E$4:$F$303,編班結果表!$C$4:$C$303),2,FALSE))","v":""},{"$f":"IF(SEARCH(\"/\",重整表!#REF!)=3,LEFT(重整表!#REF!,2)+1911&MID(重整表!#REF!,3,8),LEFT(重整表!#REF!,3)+1911&MID(重整表!#REF!,4,8))","v":{"$error":"#REF!"}},{"$f":"IF(ISBLANK(重整表!#REF!),\"\",重整表!#REF!)","v":{"$error":"#REF!"}},{"$f":"IF(ISBLANK(重整表!#REF!),\"\",重整表!#REF!)","v":{"$error":"#REF!"}},{"$f":"IF(ISBLANK(重整表!#REF!),\"\",重整表!#REF!)","v":{"$error":"#REF!"}},null,null,{"$f":"IF(ISBLANK(重整表!#REF!),\"\",重整表!#REF!)","v":{"$error":"#REF!"}},null,null,{"$f":"IF(SEARCH(\"/\",重整表!#REF!)=3,LEFT(重整表!#REF!,2)+1911&MID(重整表!#REF!,3,8),LEFT(重整表!#REF!,3)+1911&MID(重整表!#REF!,4,8))","v":{"$error":"#REF!"}}]
[null,{"$f":"IF(ISBLANK(重整表!#REF!),\"\",重整表!#REF!)","v":{"$error":"#REF!"}},{"$f":"IF(ISBLANK(重整表!#REF!),\"\",IF(重整表!#REF!=\"男\",1,IF(重整表!#REF!=\"女\",2)))","v":{"$error":"#REF!"}},null,{"$f":"IF(ISERROR(VLOOKUP($B157,IF({1,0},編班結果表!$E$4:$E$303,編班結果表!$B$4:$B$303),2,)),\"\",VLOOKUP($B157,IF({1,0},編班結果表!$E$4:$E$303,編班結果表!$B$4:$B$303),2,))","v":""},{"$f":"IF(ISERROR(VLOOKUP($B157,IF({1,0},編班結果表!$E$4:$F$303,編班結果表!$C$4:$C$303),2,FALSE)),\"\",VLOOKUP($B157,IF({1,0},編班結果表!$E$4:$F$303,編班結果表!$C$4:$C$303),2,FALSE))","v":""},{"$f":"IF(SEARCH(\"/\",重整表!#REF!)=3,LEFT(重整表!#REF!,2)+1911&MID(重整表!#REF!,3,8),LEFT(重整表!#REF!,3)+1911&MID(重整表!#REF!,4,8))","v":{"$error":"#REF!"}},{"$f":"IF(ISBLANK(重整表!#REF!),\"\",重整表!#REF!)","v":{"$error":"#REF!"}},{"$f":"IF(ISBLANK(重整表!#REF!),\"\",重整表!#REF!)","v":{"$error":"#REF!"}},{"$f":"IF(ISBLANK(重整表!#REF!),\"\",重整表!#REF!)","v":{"$error":"#REF!"}},null,null,{"$f":"IF(ISBLANK(重整表!#REF!),\"\",重整表!#REF!)","v":{"$error":"#REF!"}},null,null,{"$f":"IF(SEARCH(\"/\",重整表!#REF!)=3,LEFT(重整表!#REF!,2)+1911&MID(重整表!#REF!,3,8),LEFT(重整表!#REF!,3)+1911&MID(重整表!#REF!,4,8))","v":{"$error":"#REF!"}}]
[null,{"$f":"IF(ISBLANK(重整表!#REF!),\"\",重整表!#REF!)","v":{"$error":"#REF!"}},{"$f":"IF(ISBLANK(重整表!#REF!),\"\",IF(重整表!#REF!=\"男\",1,IF(重整表!#REF!=\"女\",2)))","v":{"$error":"#REF!"}},null,{"$f":"IF(ISERROR(VLOOKUP($B158,IF({1,0},編班結果表!$E$4:$E$303,編班結果表!$B$4:$B$303),2,)),\"\",VLOOKUP($B158,IF({1,0},編班結果表!$E$4:$E$303,編班結果表!$B$4:$B$303),2,))","v":""},{"$f":"IF(ISERROR(VLOOKUP($B158,IF({1,0},編班結果表!$E$4:$F$303,編班結果表!$C$4:$C$303),2,FALSE)),\"\",VLOOKUP($B158,IF({1,0},編班結果表!$E$4:$F$303,編班結果表!$C$4:$C$303),2,FALSE))","v":""},{"$f":"IF(SEARCH(\"/\",重整表!#REF!)=3,LEFT(重整表!#REF!,2)+1911&MID(重整表!#REF!,3,8),LEFT(重整表!#REF!,3)+1911&MID(重整表!#REF!,4,8))","v":{"$error":"#REF!"}},{"$f":"IF(ISBLANK(重整表!#REF!),\"\",重整表!#REF!)","v":{"$error":"#REF!"}},{"$f":"IF(ISBLANK(重整表!#REF!),\"\",重整表!#REF!)","v":{"$error":"#REF!"}},{"$f":"IF(ISBLANK(重整表!#REF!),\"\",重整表!#REF!)","v":{"$error":"#REF!"}},null,null,{"$f":"IF(ISBLANK(重整表!#REF!),\"\",重整表!#REF!)","v":{"$error":"#REF!"}},null,null,{"$f":"IF(SEARCH(\"/\",重整表!#REF!)=3,LEFT(重整表!#REF!,2)+1911&MID(重整表!#REF!,3,8),LEFT(重整表!#REF!,3)+1911&MID(重整表!#REF!,4,8))","v":{"$error":"#REF!"}}]
[null,{"$f":"IF(ISBLANK(重整表!#REF!),\"\",重整表!#REF!)","v":{"$error":"#REF!"}},{"$f":"IF(ISBLANK(重整表!#REF!),\"\",IF(重整表!#REF!=\"男\",1,IF(重整表!#REF!=\"女\",2)))","v":{"$error":"#REF!"}},null,{"$f":"IF(ISERROR(VLOOKUP($B159,IF({1,0},編班結果表!$E$4:$E$303,編班結果表!$B$4:$B$303),2,)),\"\",VLOOKUP($B159,IF({1,0},編班結果表!$E$4:$E$303,編班結果表!$B$4:$B$303),2,))","v":""},{"$f":"IF(ISERROR(VLOOKUP($B159,IF({1,0},編班結果表!$E$4:$F$303,編班結果表!$C$4:$C$303),2,FALSE)),\"\",VLOOKUP($B159,IF({1,0},編班結果表!$E$4:$F$303,編班結果表!$C$4:$C$303),2,FALSE))","v":""},{"$f":"IF(SEARCH(\"/\",重整表!#REF!)=3,LEFT(重整表!#REF!,2)+1911&MID(重整表!#REF!,3,8),LEFT(重整表!#REF!,3)+1911&MID(重整表!#REF!,4,8))","v":{"$error":"#REF!"}},{"$f":"IF(ISBLANK(重整表!#REF!),\"\",重整表!#REF!)","v":{"$error":"#REF!"}},{"$f":"IF(ISBLANK(重整表!#REF!),\"\",重整表!#REF!)","v":{"$error":"#REF!"}},{"$f":"IF(ISBLANK(重整表!#REF!),\"\",重整表!#REF!)","v":{"$error":"#REF!"}},null,null,{"$f":"IF(ISBLANK(重整表!#REF!),\"\",重整表!#REF!)","v":{"$error":"#REF!"}},null,null,{"$f":"IF(SEARCH(\"/\",重整表!#REF!)=3,LEFT(重整表!#REF!,2)+1911&MID(重整表!#REF!,3,8),LEFT(重整表!#REF!,3)+1911&MID(重整表!#REF!,4,8))","v":{"$error":"#REF!"}}]
[null,{"$f":"IF(ISBLANK(重整表!#REF!),\"\",重整表!#REF!)","v":{"$error":"#REF!"}},{"$f":"IF(ISBLANK(重整表!#REF!),\"\",IF(重整表!#REF!=\"男\",1,IF(重整表!#REF!=\"女\",2)))","v":{"$error":"#REF!"}},null,{"$f":"IF(ISERROR(VLOOKUP($B160,IF({1,0},編班結果表!$E$4:$E$303,編班結果表!$B$4:$B$303),2,)),\"\",VLOOKUP($B160,IF({1,0},編班結果表!$E$4:$E$303,編班結果表!$B$4:$B$303),2,))","v":""},{"$f":"IF(ISERROR(VLOOKUP($B160,IF({1,0},編班結果表!$E$4:$F$303,編班結果表!$C$4:$C$303),2,FALSE)),\"\",VLOOKUP($B160,IF({1,0},編班結果表!$E$4:$F$303,編班結果表!$C$4:$C$303),2,FALSE))","v":""},{"$f":"IF(SEARCH(\"/\",重整表!#REF!)=3,LEFT(重整表!#REF!,2)+1911&MID(重整表!#REF!,3,8),LEFT(重整表!#REF!,3)+1911&MID(重整表!#REF!,4,8))","v":{"$error":"#REF!"}},{"$f":"IF(ISBLANK(重整表!#REF!),\"\",重整表!#REF!)","v":{"$error":"#REF!"}},{"$f":"IF(ISBLANK(重整表!#REF!),\"\",重整表!#REF!)","v":{"$error":"#REF!"}},{"$f":"IF(ISBLANK(重整表!#REF!),\"\",重整表!#REF!)","v":{"$error":"#REF!"}},null,null,{"$f":"IF(ISBLANK(重整表!#REF!),\"\",重整表!#REF!)","v":{"$error":"#REF!"}},null,null,{"$f":"IF(SEARCH(\"/\",重整表!#REF!)=3,LEFT(重整表!#REF!,2)+1911&MID(重整表!#REF!,3,8),LEFT(重整表!#REF!,3)+1911&MID(重整表!#REF!,4,8))","v":{"$error":"#REF!"}}]
[null,{"$f":"IF(ISBLANK(重整表!#REF!),\"\",重整表!#REF!)","v":{"$error":"#REF!"}},{"$f":"IF(ISBLANK(重整表!#REF!),\"\",IF(重整表!#REF!=\"男\",1,IF(重整表!#REF!=\"女\",2)))","v":{"$error":"#REF!"}},null,{"$f":"IF(ISERROR(VLOOKUP($B161,IF({1,0},編班結果表!$E$4:$E$303,編班結果表!$B$4:$B$303),2,)),\"\",VLOOKUP($B161,IF({1,0},編班結果表!$E$4:$E$303,編班結果表!$B$4:$B$303),2,))","v":""},{"$f":"IF(ISERROR(VLOOKUP($B161,IF({1,0},編班結果表!$E$4:$F$303,編班結果表!$C$4:$C$303),2,FALSE)),\"\",VLOOKUP($B161,IF({1,0},編班結果表!$E$4:$F$303,編班結果表!$C$4:$C$303),2,FALSE))","v":""},{"$f":"IF(SEARCH(\"/\",重整表!#REF!)=3,LEFT(重整表!#REF!,2)+1911&MID(重整表!#REF!,3,8),LEFT(重整表!#REF!,3)+1911&MID(重整表!#REF!,4,8))","v":{"$error":"#REF!"}},{"$f":"IF(ISBLANK(重整表!#REF!),\"\",重整表!#REF!)","v":{"$error":"#REF!"}},{"$f":"IF(ISBLANK(重整表!#REF!),\"\",重整表!#REF!)","v":{"$error":"#REF!"}},{"$f":"IF(ISBLANK(重整表!#REF!),\"\",重整表!#REF!)","v":{"$error":"#REF!"}},null,null,{"$f":"IF(ISBLANK(重整表!#REF!),\"\",重整表!#REF!)","v":{"$error":"#REF!"}},null,null,{"$f":"IF(SEARCH(\"/\",重整表!#REF!)=3,LEFT(重整表!#REF!,2)+1911&MID(重整表!#REF!,3,8),LEFT(重整表!#REF!,3)+1911&MID(重整表!#REF!,4,8))","v":{"$error":"#REF!"}}]
[null,{"$f":"IF(ISBLANK(重整表!#REF!),\"\",重整表!#REF!)","v":{"$error":"#REF!"}},{"$f":"IF(ISBLANK(重整表!#REF!),\"\",IF(重整表!#REF!=\"男\",1,IF(重整表!#REF!=\"女\",2)))","v":{"$error":"#REF!"}},null,{"$f":"IF(ISERROR(VLOOKUP($B162,IF({1,0},編班結果表!$E$4:$E$303,編班結果表!$B$4:$B$303),2,)),\"\",VLOOKUP($B162,IF({1,0},編班結果表!$E$4:$E$303,編班結果表!$B$4:$B$303),2,))","v":""},{"$f":"IF(ISERROR(VLOOKUP($B162,IF({1,0},編班結果表!$E$4:$F$303,編班結果表!$C$4:$C$303),2,FALSE)),\"\",VLOOKUP($B162,IF({1,0},編班結果表!$E$4:$F$303,編班結果表!$C$4:$C$303),2,FALSE))","v":""},{"$f":"IF(SEARCH(\"/\",重整表!#REF!)=3,LEFT(重整表!#REF!,2)+1911&MID(重整表!#REF!,3,8),LEFT(重整表!#REF!,3)+1911&MID(重整表!#REF!,4,8))","v":{"$error":"#REF!"}},{"$f":"IF(ISBLANK(重整表!#REF!),\"\",重整表!#REF!)","v":{"$error":"#REF!"}},{"$f":"IF(ISBLANK(重整表!#REF!),\"\",重整表!#REF!)","v":{"$error":"#REF!"}},{"$f":"IF(ISBLANK(重整表!#REF!),\"\",重整表!#REF!)","v":{"$error":"#REF!"}},null,null,{"$f":"IF(ISBLANK(重整表!#REF!),\"\",重整表!#REF!)","v":{"$error":"#REF!"}},null,null,{"$f":"IF(SEARCH(\"/\",重整表!#REF!)=3,LEFT(重整表!#REF!,2)+1911&MID(重整表!#REF!,3,8),LEFT(重整表!#REF!,3)+1911&MID(重整表!#REF!,4,8))","v":{"$error":"#REF!"}}]
[null,{"$f":"IF(ISBLANK(重整表!#REF!),\"\",重整表!#REF!)","v":{"$error":"#REF!"}},{"$f":"IF(ISBLANK(重整表!#REF!),\"\",IF(重整表!#REF!=\"男\",1,IF(重整表!#REF!=\"女\",2)))","v":{"$error":"#REF!"}},null,{"$f":"IF(ISERROR(VLOOKUP($B163,IF({1,0},編班結果表!$E$4:$E$303,編班結果表!$B$4:$B$303),2,)),\"\",VLOOKUP($B163,IF({1,0},編班結果表!$E$4:$E$303,編班結果表!$B$4:$B$303),2,))","v":""},{"$f":"IF(ISERROR(VLOOKUP($B163,IF({1,0},編班結果表!$E$4:$F$303,編班結果表!$C$4:$C$303),2,FALSE)),\"\",VLOOKUP($B163,IF({1,0},編班結果表!$E$4:$F$303,編班結果表!$C$4:$C$303),2,FALSE))","v":""},{"$f":"IF(SEARCH(\"/\",重整表!#REF!)=3,LEFT(重整表!#REF!,2)+1911&MID(重整表!#REF!,3,8),LEFT(重整表!#REF!,3)+1911&MID(重整表!#REF!,4,8))","v":{"$error":"#REF!"}},{"$f":"IF(ISBLANK(重整表!#REF!),\"\",重整表!#REF!)","v":{"$error":"#REF!"}},{"$f":"IF(ISBLANK(重整表!#REF!),\"\",重整表!#REF!)","v":{"$error":"#REF!"}},{"$f":"IF(ISBLANK(重整表!#REF!),\"\",重整表!#REF!)","v":{"$error":"#REF!"}},null,null,{"$f":"IF(ISBLANK(重整表!#REF!),\"\",重整表!#REF!)","v":{"$error":"#REF!"}},null,null,{"$f":"IF(SEARCH(\"/\",重整表!#REF!)=3,LEFT(重整表!#REF!,2)+1911&MID(重整表!#REF!,3,8),LEFT(重整表!#REF!,3)+1911&MID(重整表!#REF!,4,8))","v":{"$error":"#REF!"}}]
[null,{"$f":"IF(ISBLANK(重整表!#REF!),\"\",重整表!#REF!)","v":{"$error":"#REF!"}},{"$f":"IF(ISBLANK(重整表!#REF!),\"\",IF(重整表!#REF!=\"男\",1,IF(重整表!#REF!=\"女\",2)))","v":{"$error":"#REF!"}},null,{"$f":"IF(ISERROR(VLOOKUP($B164,IF({1,0},編班結果表!$E$4:$E$303,編班結果表!$B$4:$B$303),2,)),\"\",VLOOKUP($B164,IF({1,0},編班結果表!$E$4:$E$303,編班結果表!$B$4:$B$303),2,))","v":""},{"$f":"IF(ISERROR(VLOOKUP($B164,IF({1,0},編班結果表!$E$4:$F$303,編班結果表!$C$4:$C$303),2,FALSE)),\"\",VLOOKUP($B164,IF({1,0},編班結果表!$E$4:$F$303,編班結果表!$C$4:$C$303),2,FALSE))","v":""},{"$f":"IF(SEARCH(\"/\",重整表!#REF!)=3,LEFT(重整表!#REF!,2)+1911&MID(重整表!#REF!,3,8),LEFT(重整表!#REF!,3)+1911&MID(重整表!#REF!,4,8))","v":{"$error":"#REF!"}},{"$f":"IF(ISBLANK(重整表!#REF!),\"\",重整表!#REF!)","v":{"$error":"#REF!"}},{"$f":"IF(ISBLANK(重整表!#REF!),\"\",重整表!#REF!)","v":{"$error":"#REF!"}},{"$f":"IF(ISBLANK(重整表!#REF!),\"\",重整表!#REF!)","v":{"$error":"#REF!"}},null,null,{"$f":"IF(ISBLANK(重整表!#REF!),\"\",重整表!#REF!)","v":{"$error":"#REF!"}},null,null,{"$f":"IF(SEARCH(\"/\",重整表!#REF!)=3,LEFT(重整表!#REF!,2)+1911&MID(重整表!#REF!,3,8),LEFT(重整表!#REF!,3)+1911&MID(重整表!#REF!,4,8))","v":{"$error":"#REF!"}}]
[null,{"$f":"IF(ISBLANK(重整表!#REF!),\"\",重整表!#REF!)","v":{"$error":"#REF!"}},{"$f":"IF(ISBLANK(重整表!#REF!),\"\",IF(重整表!#REF!=\"男\",1,IF(重整表!#REF!=\"女\",2)))","v":{"$error":"#REF!"}},null,{"$f":"IF(ISERROR(VLOOKUP($B165,IF({1,0},編班結果表!$E$4:$E$303,編班結果表!$B$4:$B$303),2,)),\"\",VLOOKUP($B165,IF({1,0},編班結果表!$E$4:$E$303,編班結果表!$B$4:$B$303),2,))","v":""},{"$f":"IF(ISERROR(VLOOKUP($B165,IF({1,0},編班結果表!$E$4:$F$303,編班結果表!$C$4:$C$303),2,FALSE)),\"\",VLOOKUP($B165,IF({1,0},編班結果表!$E$4:$F$303,編班結果表!$C$4:$C$303),2,FALSE))","v":""},{"$f":"IF(SEARCH(\"/\",重整表!#REF!)=3,LEFT(重整表!#REF!,2)+1911&MID(重整表!#REF!,3,8),LEFT(重整表!#REF!,3)+1911&MID(重整表!#REF!,4,8))","v":{"$error":"#REF!"}},{"$f":"IF(ISBLANK(重整表!#REF!),\"\",重整表!#REF!)","v":{"$error":"#REF!"}},{"$f":"IF(ISBLANK(重整表!#REF!),\"\",重整表!#REF!)","v":{"$error":"#REF!"}},{"$f":"IF(ISBLANK(重整表!#REF!),\"\",重整表!#REF!)","v":{"$error":"#REF!"}},null,null,{"$f":"IF(ISBLANK(重整表!#REF!),\"\",重整表!#REF!)","v":{"$error":"#REF!"}},null,null,{"$f":"IF(SEARCH(\"/\",重整表!#REF!)=3,LEFT(重整表!#REF!,2)+1911&MID(重整表!#REF!,3,8),LEFT(重整表!#REF!,3)+1911&MID(重整表!#REF!,4,8))","v":{"$error":"#REF!"}}]
[null,{"$f":"IF(ISBLANK(重整表!#REF!),\"\",重整表!#REF!)","v":{"$error":"#REF!"}},{"$f":"IF(ISBLANK(重整表!#REF!),\"\",IF(重整表!#REF!=\"男\",1,IF(重整表!#REF!=\"女\",2)))","v":{"$error":"#REF!"}},null,{"$f":"IF(ISERROR(VLOOKUP($B166,IF({1,0},編班結果表!$E$4:$E$303,編班結果表!$B$4:$B$303),2,)),\"\",VLOOKUP($B166,IF({1,0},編班結果表!$E$4:$E$303,編班結果表!$B$4:$B$303),2,))","v":""},{"$f":"IF(ISERROR(VLOOKUP($B166,IF({1,0},編班結果表!$E$4:$F$303,編班結果表!$C$4:$C$303),2,FALSE)),\"\",VLOOKUP($B166,IF({1,0},編班結果表!$E$4:$F$303,編班結果表!$C$4:$C$303),2,FALSE))","v":""},{"$f":"IF(SEARCH(\"/\",重整表!#REF!)=3,LEFT(重整表!#REF!,2)+1911&MID(重整表!#REF!,3,8),LEFT(重整表!#REF!,3)+1911&MID(重整表!#REF!,4,8))","v":{"$error":"#REF!"}},{"$f":"IF(ISBLANK(重整表!#REF!),\"\",重整表!#REF!)","v":{"$error":"#REF!"}},{"$f":"IF(ISBLANK(重整表!#REF!),\"\",重整表!#REF!)","v":{"$error":"#REF!"}},{"$f":"IF(ISBLANK(重整表!#REF!),\"\",重整表!#REF!)","v":{"$error":"#REF!"}},null,null,{"$f":"IF(ISBLANK(重整表!#REF!),\"\",重整表!#REF!)","v":{"$error":"#REF!"}},null,null,{"$f":"IF(SEARCH(\"/\",重整表!#REF!)=3,LEFT(重整表!#REF!,2)+1911&MID(重整表!#REF!,3,8),LEFT(重整表!#REF!,3)+1911&MID(重整表!#REF!,4,8))","v":{"$error":"#REF!"}}]
[null,{"$f":"IF(ISBLANK(重整表!#REF!),\"\",重整表!#REF!)","v":{"$error":"#REF!"}},{"$f":"IF(ISBLANK(重整表!#REF!),\"\",IF(重整表!#REF!=\"男\",1,IF(重整表!#REF!=\"女\",2)))","v":{"$error":"#REF!"}},null,{"$f":"IF(ISERROR(VLOOKUP($B167,IF({1,0},編班結果表!$E$4:$E$303,編班結果表!$B$4:$B$303),2,)),\"\",VLOOKUP($B167,IF({1,0},編班結果表!$E$4:$E$303,編班結果表!$B$4:$B$303),2,))","v":""},{"$f":"IF(ISERROR(VLOOKUP($B167,IF({1,0},編班結果表!$E$4:$F$303,編班結果表!$C$4:$C$303),2,FALSE)),\"\",VLOOKUP($B167,IF({1,0},編班結果表!$E$4:$F$303,編班結果表!$C$4:$C$303),2,FALSE))","v":""},{"$f":"IF(SEARCH(\"/\",重整表!#REF!)=3,LEFT(重整表!#REF!,2)+1911&MID(重整表!#REF!,3,8),LEFT(重整表!#REF!,3)+1911&MID(重整表!#REF!,4,8))","v":{"$error":"#REF!"}},{"$f":"IF(ISBLANK(重整表!#REF!),\"\",重整表!#REF!)","v":{"$error":"#REF!"}},{"$f":"IF(ISBLANK(重整表!#REF!),\"\",重整表!#REF!)","v":{"$error":"#REF!"}},{"$f":"IF(ISBLANK(重整表!#REF!),\"\",重整表!#REF!)","v":{"$error":"#REF!"}},null,null,{"$f":"IF(ISBLANK(重整表!#REF!),\"\",重整表!#REF!)","v":{"$error":"#REF!"}},null,null,{"$f":"IF(SEARCH(\"/\",重整表!#REF!)=3,LEFT(重整表!#REF!,2)+1911&MID(重整表!#REF!,3,8),LEFT(重整表!#REF!,3)+1911&MID(重整表!#REF!,4,8))","v":{"$error":"#REF!"}}]
[null,{"$f":"IF(ISBLANK(重整表!#REF!),\"\",重整表!#REF!)","v":{"$error":"#REF!"}},{"$f":"IF(ISBLANK(重整表!#REF!),\"\",IF(重整表!#REF!=\"男\",1,IF(重整表!#REF!=\"女\",2)))","v":{"$error":"#REF!"}},null,{"$f":"IF(ISERROR(VLOOKUP($B168,IF({1,0},編班結果表!$E$4:$E$303,編班結果表!$B$4:$B$303),2,)),\"\",VLOOKUP($B168,IF({1,0},編班結果表!$E$4:$E$303,編班結果表!$B$4:$B$303),2,))","v":""},{"$f":"IF(ISERROR(VLOOKUP($B168,IF({1,0},編班結果表!$E$4:$F$303,編班結果表!$C$4:$C$303),2,FALSE)),\"\",VLOOKUP($B168,IF({1,0},編班結果表!$E$4:$F$303,編班結果表!$C$4:$C$303),2,FALSE))","v":""},{"$f":"IF(SEARCH(\"/\",重整表!#REF!)=3,LEFT(重整表!#REF!,2)+1911&MID(重整表!#REF!,3,8),LEFT(重整表!#REF!,3)+1911&MID(重整表!#REF!,4,8))","v":{"$error":"#REF!"}},{"$f":"IF(ISBLANK(重整表!#REF!),\"\",重整表!#REF!)","v":{"$error":"#REF!"}},{"$f":"IF(ISBLANK(重整表!#REF!),\"\",重整表!#REF!)","v":{"$error":"#REF!"}},{"$f":"IF(ISBLANK(重整表!#REF!),\"\",重整表!#REF!)","v":{"$error":"#REF!"}},null,null,{"$f":"IF(ISBLANK(重整表!#REF!),\"\",重整表!#REF!)","v":{"$error":"#REF!"}},null,null,{"$f":"IF(SEARCH(\"/\",重整表!#REF!)=3,LEFT(重整表!#REF!,2)+1911&MID(重整表!#REF!,3,8),LEFT(重整表!#REF!,3)+1911&MID(重整表!#REF!,4,8))","v":{"$error":"#REF!"}}]
[null,{"$f":"IF(ISBLANK(重整表!#REF!),\"\",重整表!#REF!)","v":{"$error":"#REF!"}},{"$f":"IF(ISBLANK(重整表!#REF!),\"\",IF(重整表!#REF!=\"男\",1,IF(重整表!#REF!=\"女\",2)))","v":{"$error":"#REF!"}},null,{"$f":"IF(ISERROR(VLOOKUP($B169,IF({1,0},編班結果表!$E$4:$E$303,編班結果表!$B$4:$B$303),2,)),\"\",VLOOKUP($B169,IF({1,0},編班結果表!$E$4:$E$303,編班結果表!$B$4:$B$303),2,))","v":""},{"$f":"IF(ISERROR(VLOOKUP($B169,IF({1,0},編班結果表!$E$4:$F$303,編班結果表!$C$4:$C$303),2,FALSE)),\"\",VLOOKUP($B169,IF({1,0},編班結果表!$E$4:$F$303,編班結果表!$C$4:$C$303),2,FALSE))","v":""},{"$f":"IF(SEARCH(\"/\",重整表!#REF!)=3,LEFT(重整表!#REF!,2)+1911&MID(重整表!#REF!,3,8),LEFT(重整表!#REF!,3)+1911&MID(重整表!#REF!,4,8))","v":{"$error":"#REF!"}},{"$f":"IF(ISBLANK(重整表!#REF!),\"\",重整表!#REF!)","v":{"$error":"#REF!"}},{"$f":"IF(ISBLANK(重整表!#REF!),\"\",重整表!#REF!)","v":{"$error":"#REF!"}},{"$f":"IF(ISBLANK(重整表!#REF!),\"\",重整表!#REF!)","v":{"$error":"#REF!"}},null,null,{"$f":"IF(ISBLANK(重整表!#REF!),\"\",重整表!#REF!)","v":{"$error":"#REF!"}},null,null,{"$f":"IF(SEARCH(\"/\",重整表!#REF!)=3,LEFT(重整表!#REF!,2)+1911&MID(重整表!#REF!,3,8),LEFT(重整表!#REF!,3)+1911&MID(重整表!#REF!,4,8))","v":{"$error":"#REF!"}}]
[null,{"$f":"IF(ISBLANK(重整表!#REF!),\"\",重整表!#REF!)","v":{"$error":"#REF!"}},{"$f":"IF(ISBLANK(重整表!#REF!),\"\",IF(重整表!#REF!=\"男\",1,IF(重整表!#REF!=\"女\",2)))","v":{"$error":"#REF!"}},null,{"$f":"IF(ISERROR(VLOOKUP($B170,IF({1,0},編班結果表!$E$4:$E$303,編班結果表!$B$4:$B$303),2,)),\"\",VLOOKUP($B170,IF({1,0},編班結果表!$E$4:$E$303,編班結果表!$B$4:$B$303),2,))","v":""},{"$f":"IF(ISERROR(VLOOKUP($B170,IF({1,0},編班結果表!$E$4:$F$303,編班結果表!$C$4:$C$303),2,FALSE)),\"\",VLOOKUP($B170,IF({1,0},編班結果表!$E$4:$F$303,編班結果表!$C$4:$C$303),2,FALSE))","v":""},{"$f":"IF(SEARCH(\"/\",重整表!#REF!)=3,LEFT(重整表!#REF!,2)+1911&MID(重整表!#REF!,3,8),LEFT(重整表!#REF!,3)+1911&MID(重整表!#REF!,4,8))","v":{"$error":"#REF!"}},{"$f":"IF(ISBLANK(重整表!#REF!),\"\",重整表!#REF!)","v":{"$error":"#REF!"}},{"$f":"IF(ISBLANK(重整表!#REF!),\"\",重整表!#REF!)","v":{"$error":"#REF!"}},{"$f":"IF(ISBLANK(重整表!#REF!),\"\",重整表!#REF!)","v":{"$error":"#REF!"}},null,null,{"$f":"IF(ISBLANK(重整表!#REF!),\"\",重整表!#REF!)","v":{"$error":"#REF!"}},null,null,{"$f":"IF(SEARCH(\"/\",重整表!#REF!)=3,LEFT(重整表!#REF!,2)+1911&MID(重整表!#REF!,3,8),LEFT(重整表!#REF!,3)+1911&MID(重整表!#REF!,4,8))","v":{"$error":"#REF!"}}]
[null,{"$f":"IF(ISBLANK(重整表!#REF!),\"\",重整表!#REF!)","v":{"$error":"#REF!"}},{"$f":"IF(ISBLANK(重整表!#REF!),\"\",IF(重整表!#REF!=\"男\",1,IF(重整表!#REF!=\"女\",2)))","v":{"$error":"#REF!"}},null,{"$f":"IF(ISERROR(VLOOKUP($B171,IF({1,0},編班結果表!$E$4:$E$303,編班結果表!$B$4:$B$303),2,)),\"\",VLOOKUP($B171,IF({1,0},編班結果表!$E$4:$E$303,編班結果表!$B$4:$B$303),2,))","v":""},{"$f":"IF(ISERROR(VLOOKUP($B171,IF({1,0},編班結果表!$E$4:$F$303,編班結果表!$C$4:$C$303),2,FALSE)),\"\",VLOOKUP($B171,IF({1,0},編班結果表!$E$4:$F$303,編班結果表!$C$4:$C$303),2,FALSE))","v":""},{"$f":"IF(SEARCH(\"/\",重整表!#REF!)=3,LEFT(重整表!#REF!,2)+1911&MID(重整表!#REF!,3,8),LEFT(重整表!#REF!,3)+1911&MID(重整表!#REF!,4,8))","v":{"$error":"#REF!"}},{"$f":"IF(ISBLANK(重整表!#REF!),\"\",重整表!#REF!)","v":{"$error":"#REF!"}},{"$f":"IF(ISBLANK(重整表!#REF!),\"\",重整表!#REF!)","v":{"$error":"#REF!"}},{"$f":"IF(ISBLANK(重整表!#REF!),\"\",重整表!#REF!)","v":{"$error":"#REF!"}},null,null,{"$f":"IF(ISBLANK(重整表!#REF!),\"\",重整表!#REF!)","v":{"$error":"#REF!"}},null,null,{"$f":"IF(SEARCH(\"/\",重整表!#REF!)=3,LEFT(重整表!#REF!,2)+1911&MID(重整表!#REF!,3,8),LEFT(重整表!#REF!,3)+1911&MID(重整表!#REF!,4,8))","v":{"$error":"#REF!"}}]
[null,{"$f":"IF(ISBLANK(重整表!#REF!),\"\",重整表!#REF!)","v":{"$error":"#REF!"}},{"$f":"IF(ISBLANK(重整表!#REF!),\"\",IF(重整表!#REF!=\"男\",1,IF(重整表!#REF!=\"女\",2)))","v":{"$error":"#REF!"}},null,{"$f":"IF(ISERROR(VLOOKUP($B172,IF({1,0},編班結果表!$E$4:$E$303,編班結果表!$B$4:$B$303),2,)),\"\",VLOOKUP($B172,IF({1,0},編班結果表!$E$4:$E$303,編班結果表!$B$4:$B$303),2,))","v":""},{"$f":"IF(ISERROR(VLOOKUP($B172,IF({1,0},編班結果表!$E$4:$F$303,編班結果表!$C$4:$C$303),2,FALSE)),\"\",VLOOKUP($B172,IF({1,0},編班結果表!$E$4:$F$303,編班結果表!$C$4:$C$303),2,FALSE))","v":""},{"$f":"IF(SEARCH(\"/\",重整表!#REF!)=3,LEFT(重整表!#REF!,2)+1911&MID(重整表!#REF!,3,8),LEFT(重整表!#REF!,3)+1911&MID(重整表!#REF!,4,8))","v":{"$error":"#REF!"}},{"$f":"IF(ISBLANK(重整表!#REF!),\"\",重整表!#REF!)","v":{"$error":"#REF!"}},{"$f":"IF(ISBLANK(重整表!#REF!),\"\",重整表!#REF!)","v":{"$error":"#REF!"}},{"$f":"IF(ISBLANK(重整表!#REF!),\"\",重整表!#REF!)","v":{"$error":"#REF!"}},null,null,{"$f":"IF(ISBLANK(重整表!#REF!),\"\",重整表!#REF!)","v":{"$error":"#REF!"}},null,null,{"$f":"IF(SEARCH(\"/\",重整表!#REF!)=3,LEFT(重整表!#REF!,2)+1911&MID(重整表!#REF!,3,8),LEFT(重整表!#REF!,3)+1911&MID(重整表!#REF!,4,8))","v":{"$error":"#REF!"}}]
[null,{"$f":"IF(ISBLANK(重整表!#REF!),\"\",重整表!#REF!)","v":{"$error":"#REF!"}},{"$f":"IF(ISBLANK(重整表!#REF!),\"\",IF(重整表!#REF!=\"男\",1,IF(重整表!#REF!=\"女\",2)))","v":{"$error":"#REF!"}},null,{"$f":"IF(ISERROR(VLOOKUP($B173,IF({1,0},編班結果表!$E$4:$E$303,編班結果表!$B$4:$B$303),2,)),\"\",VLOOKUP($B173,IF({1,0},編班結果表!$E$4:$E$303,編班結果表!$B$4:$B$303),2,))","v":""},{"$f":"IF(ISERROR(VLOOKUP($B173,IF({1,0},編班結果表!$E$4:$F$303,編班結果表!$C$4:$C$303),2,FALSE)),\"\",VLOOKUP($B173,IF({1,0},編班結果表!$E$4:$F$303,編班結果表!$C$4:$C$303),2,FALSE))","v":""},{"$f":"IF(SEARCH(\"/\",重整表!#REF!)=3,LEFT(重整表!#REF!,2)+1911&MID(重整表!#REF!,3,8),LEFT(重整表!#REF!,3)+1911&MID(重整表!#REF!,4,8))","v":{"$error":"#REF!"}},{"$f":"IF(ISBLANK(重整表!#REF!),\"\",重整表!#REF!)","v":{"$error":"#REF!"}},{"$f":"IF(ISBLANK(重整表!#REF!),\"\",重整表!#REF!)","v":{"$error":"#REF!"}},{"$f":"IF(ISBLANK(重整表!#REF!),\"\",重整表!#REF!)","v":{"$error":"#REF!"}},null,null,{"$f":"IF(ISBLANK(重整表!#REF!),\"\",重整表!#REF!)","v":{"$error":"#REF!"}},null,null,{"$f":"IF(SEARCH(\"/\",重整表!#REF!)=3,LEFT(重整表!#REF!,2)+1911&MID(重整表!#REF!,3,8),LEFT(重整表!#REF!,3)+1911&MID(重整表!#REF!,4,8))","v":{"$error":"#REF!"}}]
[null,{"$f":"IF(ISBLANK(重整表!#REF!),\"\",重整表!#REF!)","v":{"$error":"#REF!"}},{"$f":"IF(ISBLANK(重整表!#REF!),\"\",IF(重整表!#REF!=\"男\",1,IF(重整表!#REF!=\"女\",2)))","v":{"$error":"#REF!"}},null,{"$f":"IF(ISERROR(VLOOKUP($B174,IF({1,0},編班結果表!$E$4:$E$303,編班結果表!$B$4:$B$303),2,)),\"\",VLOOKUP($B174,IF({1,0},編班結果表!$E$4:$E$303,編班結果表!$B$4:$B$303),2,))","v":""},{"$f":"IF(ISERROR(VLOOKUP($B174,IF({1,0},編班結果表!$E$4:$F$303,編班結果表!$C$4:$C$303),2,FALSE)),\"\",VLOOKUP($B174,IF({1,0},編班結果表!$E$4:$F$303,編班結果表!$C$4:$C$303),2,FALSE))","v":""},{"$f":"IF(SEARCH(\"/\",重整表!#REF!)=3,LEFT(重整表!#REF!,2)+1911&MID(重整表!#REF!,3,8),LEFT(重整表!#REF!,3)+1911&MID(重整表!#REF!,4,8))","v":{"$error":"#REF!"}},{"$f":"IF(ISBLANK(重整表!#REF!),\"\",重整表!#REF!)","v":{"$error":"#REF!"}},{"$f":"IF(ISBLANK(重整表!#REF!),\"\",重整表!#REF!)","v":{"$error":"#REF!"}},{"$f":"IF(ISBLANK(重整表!#REF!),\"\",重整表!#REF!)","v":{"$error":"#REF!"}},null,null,{"$f":"IF(ISBLANK(重整表!#REF!),\"\",重整表!#REF!)","v":{"$error":"#REF!"}},null,null,{"$f":"IF(SEARCH(\"/\",重整表!#REF!)=3,LEFT(重整表!#REF!,2)+1911&MID(重整表!#REF!,3,8),LEFT(重整表!#REF!,3)+1911&MID(重整表!#REF!,4,8))","v":{"$error":"#REF!"}}]
[null,{"$f":"IF(ISBLANK(重整表!#REF!),\"\",重整表!#REF!)","v":{"$error":"#REF!"}},{"$f":"IF(ISBLANK(重整表!#REF!),\"\",IF(重整表!#REF!=\"男\",1,IF(重整表!#REF!=\"女\",2)))","v":{"$error":"#REF!"}},null,{"$f":"IF(ISERROR(VLOOKUP($B175,IF({1,0},編班結果表!$E$4:$E$303,編班結果表!$B$4:$B$303),2,)),\"\",VLOOKUP($B175,IF({1,0},編班結果表!$E$4:$E$303,編班結果表!$B$4:$B$303),2,))","v":""},{"$f":"IF(ISERROR(VLOOKUP($B175,IF({1,0},編班結果表!$E$4:$F$303,編班結果表!$C$4:$C$303),2,FALSE)),\"\",VLOOKUP($B175,IF({1,0},編班結果表!$E$4:$F$303,編班結果表!$C$4:$C$303),2,FALSE))","v":""},{"$f":"IF(SEARCH(\"/\",重整表!#REF!)=3,LEFT(重整表!#REF!,2)+1911&MID(重整表!#REF!,3,8),LEFT(重整表!#REF!,3)+1911&MID(重整表!#REF!,4,8))","v":{"$error":"#REF!"}},{"$f":"IF(ISBLANK(重整表!#REF!),\"\",重整表!#REF!)","v":{"$error":"#REF!"}},{"$f":"IF(ISBLANK(重整表!#REF!),\"\",重整表!#REF!)","v":{"$error":"#REF!"}},{"$f":"IF(ISBLANK(重整表!#REF!),\"\",重整表!#REF!)","v":{"$error":"#REF!"}},null,null,{"$f":"IF(ISBLANK(重整表!#REF!),\"\",重整表!#REF!)","v":{"$error":"#REF!"}},null,null,{"$f":"IF(SEARCH(\"/\",重整表!#REF!)=3,LEFT(重整表!#REF!,2)+1911&MID(重整表!#REF!,3,8),LEFT(重整表!#REF!,3)+1911&MID(重整表!#REF!,4,8))","v":{"$error":"#REF!"}}]
[null,{"$f":"IF(ISBLANK(重整表!#REF!),\"\",重整表!#REF!)","v":{"$error":"#REF!"}},{"$f":"IF(ISBLANK(重整表!#REF!),\"\",IF(重整表!#REF!=\"男\",1,IF(重整表!#REF!=\"女\",2)))","v":{"$error":"#REF!"}},null,{"$f":"IF(ISERROR(VLOOKUP($B176,IF({1,0},編班結果表!$E$4:$E$303,編班結果表!$B$4:$B$303),2,)),\"\",VLOOKUP($B176,IF({1,0},編班結果表!$E$4:$E$303,編班結果表!$B$4:$B$303),2,))","v":""},{"$f":"IF(ISERROR(VLOOKUP($B176,IF({1,0},編班結果表!$E$4:$F$303,編班結果表!$C$4:$C$303),2,FALSE)),\"\",VLOOKUP($B176,IF({1,0},編班結果表!$E$4:$F$303,編班結果表!$C$4:$C$303),2,FALSE))","v":""},{"$f":"IF(SEARCH(\"/\",重整表!#REF!)=3,LEFT(重整表!#REF!,2)+1911&MID(重整表!#REF!,3,8),LEFT(重整表!#REF!,3)+1911&MID(重整表!#REF!,4,8))","v":{"$error":"#REF!"}},{"$f":"IF(ISBLANK(重整表!#REF!),\"\",重整表!#REF!)","v":{"$error":"#REF!"}},{"$f":"IF(ISBLANK(重整表!#REF!),\"\",重整表!#REF!)","v":{"$error":"#REF!"}},{"$f":"IF(ISBLANK(重整表!#REF!),\"\",重整表!#REF!)","v":{"$error":"#REF!"}},null,null,{"$f":"IF(ISBLANK(重整表!#REF!),\"\",重整表!#REF!)","v":{"$error":"#REF!"}},null,null,{"$f":"IF(SEARCH(\"/\",重整表!#REF!)=3,LEFT(重整表!#REF!,2)+1911&MID(重整表!#REF!,3,8),LEFT(重整表!#REF!,3)+1911&MID(重整表!#REF!,4,8))","v":{"$error":"#REF!"}}]
[null,{"$f":"IF(ISBLANK(重整表!#REF!),\"\",重整表!#REF!)","v":{"$error":"#REF!"}},{"$f":"IF(ISBLANK(重整表!#REF!),\"\",IF(重整表!#REF!=\"男\",1,IF(重整表!#REF!=\"女\",2)))","v":{"$error":"#REF!"}},null,{"$f":"IF(ISERROR(VLOOKUP($B177,IF({1,0},編班結果表!$E$4:$E$303,編班結果表!$B$4:$B$303),2,)),\"\",VLOOKUP($B177,IF({1,0},編班結果表!$E$4:$E$303,編班結果表!$B$4:$B$303),2,))","v":""},{"$f":"IF(ISERROR(VLOOKUP($B177,IF({1,0},編班結果表!$E$4:$F$303,編班結果表!$C$4:$C$303),2,FALSE)),\"\",VLOOKUP($B177,IF({1,0},編班結果表!$E$4:$F$303,編班結果表!$C$4:$C$303),2,FALSE))","v":""},{"$f":"IF(SEARCH(\"/\",重整表!#REF!)=3,LEFT(重整表!#REF!,2)+1911&MID(重整表!#REF!,3,8),LEFT(重整表!#REF!,3)+1911&MID(重整表!#REF!,4,8))","v":{"$error":"#REF!"}},{"$f":"IF(ISBLANK(重整表!#REF!),\"\",重整表!#REF!)","v":{"$error":"#REF!"}},{"$f":"IF(ISBLANK(重整表!#REF!),\"\",重整表!#REF!)","v":{"$error":"#REF!"}},{"$f":"IF(ISBLANK(重整表!#REF!),\"\",重整表!#REF!)","v":{"$error":"#REF!"}},null,null,{"$f":"IF(ISBLANK(重整表!#REF!),\"\",重整表!#REF!)","v":{"$error":"#REF!"}},null,null,{"$f":"IF(SEARCH(\"/\",重整表!#REF!)=3,LEFT(重整表!#REF!,2)+1911&MID(重整表!#REF!,3,8),LEFT(重整表!#REF!,3)+1911&MID(重整表!#REF!,4,8))","v":{"$error":"#REF!"}}]
[null,{"$f":"IF(ISBLANK(重整表!#REF!),\"\",重整表!#REF!)","v":{"$error":"#REF!"}},{"$f":"IF(ISBLANK(重整表!#REF!),\"\",IF(重整表!#REF!=\"男\",1,IF(重整表!#REF!=\"女\",2)))","v":{"$error":"#REF!"}},null,{"$f":"IF(ISERROR(VLOOKUP($B178,IF({1,0},編班結果表!$E$4:$E$303,編班結果表!$B$4:$B$303),2,)),\"\",VLOOKUP($B178,IF({1,0},編班結果表!$E$4:$E$303,編班結果表!$B$4:$B$303),2,))","v":""},{"$f":"IF(ISERROR(VLOOKUP($B178,IF({1,0},編班結果表!$E$4:$F$303,編班結果表!$C$4:$C$303),2,FALSE)),\"\",VLOOKUP($B178,IF({1,0},編班結果表!$E$4:$F$303,編班結果表!$C$4:$C$303),2,FALSE))","v":""},{"$f":"IF(SEARCH(\"/\",重整表!#REF!)=3,LEFT(重整表!#REF!,2)+1911&MID(重整表!#REF!,3,8),LEFT(重整表!#REF!,3)+1911&MID(重整表!#REF!,4,8))","v":{"$error":"#REF!"}},{"$f":"IF(ISBLANK(重整表!#REF!),\"\",重整表!#REF!)","v":{"$error":"#REF!"}},{"$f":"IF(ISBLANK(重整表!#REF!),\"\",重整表!#REF!)","v":{"$error":"#REF!"}},{"$f":"IF(ISBLANK(重整表!#REF!),\"\",重整表!#REF!)","v":{"$error":"#REF!"}},null,null,{"$f":"IF(ISBLANK(重整表!#REF!),\"\",重整表!#REF!)","v":{"$error":"#REF!"}},null,null,{"$f":"IF(SEARCH(\"/\",重整表!#REF!)=3,LEFT(重整表!#REF!,2)+1911&MID(重整表!#REF!,3,8),LEFT(重整表!#REF!,3)+1911&MID(重整表!#REF!,4,8))","v":{"$error":"#REF!"}}]
[null,{"$f":"IF(ISBLANK(重整表!#REF!),\"\",重整表!#REF!)","v":{"$error":"#REF!"}},{"$f":"IF(ISBLANK(重整表!#REF!),\"\",IF(重整表!#REF!=\"男\",1,IF(重整表!#REF!=\"女\",2)))","v":{"$error":"#REF!"}},null,{"$f":"IF(ISERROR(VLOOKUP($B179,IF({1,0},編班結果表!$E$4:$E$303,編班結果表!$B$4:$B$303),2,)),\"\",VLOOKUP($B179,IF({1,0},編班結果表!$E$4:$E$303,編班結果表!$B$4:$B$303),2,))","v":""},{"$f":"IF(ISERROR(VLOOKUP($B179,IF({1,0},編班結果表!$E$4:$F$303,編班結果表!$C$4:$C$303),2,FALSE)),\"\",VLOOKUP($B179,IF({1,0},編班結果表!$E$4:$F$303,編班結果表!$C$4:$C$303),2,FALSE))","v":""},{"$f":"IF(SEARCH(\"/\",重整表!#REF!)=3,LEFT(重整表!#REF!,2)+1911&MID(重整表!#REF!,3,8),LEFT(重整表!#REF!,3)+1911&MID(重整表!#REF!,4,8))","v":{"$error":"#REF!"}},{"$f":"IF(ISBLANK(重整表!#REF!),\"\",重整表!#REF!)","v":{"$error":"#REF!"}},{"$f":"IF(ISBLANK(重整表!#REF!),\"\",重整表!#REF!)","v":{"$error":"#REF!"}},{"$f":"IF(ISBLANK(重整表!#REF!),\"\",重整表!#REF!)","v":{"$error":"#REF!"}},null,null,{"$f":"IF(ISBLANK(重整表!#REF!),\"\",重整表!#REF!)","v":{"$error":"#REF!"}},null,null,{"$f":"IF(SEARCH(\"/\",重整表!#REF!)=3,LEFT(重整表!#REF!,2)+1911&MID(重整表!#REF!,3,8),LEFT(重整表!#REF!,3)+1911&MID(重整表!#REF!,4,8))","v":{"$error":"#REF!"}}]
[null,{"$f":"IF(ISBLANK(重整表!#REF!),\"\",重整表!#REF!)","v":{"$error":"#REF!"}},{"$f":"IF(ISBLANK(重整表!#REF!),\"\",IF(重整表!#REF!=\"男\",1,IF(重整表!#REF!=\"女\",2)))","v":{"$error":"#REF!"}},null,{"$f":"IF(ISERROR(VLOOKUP($B180,IF({1,0},編班結果表!$E$4:$E$303,編班結果表!$B$4:$B$303),2,)),\"\",VLOOKUP($B180,IF({1,0},編班結果表!$E$4:$E$303,編班結果表!$B$4:$B$303),2,))","v":""},{"$f":"IF(ISERROR(VLOOKUP($B180,IF({1,0},編班結果表!$E$4:$F$303,編班結果表!$C$4:$C$303),2,FALSE)),\"\",VLOOKUP($B180,IF({1,0},編班結果表!$E$4:$F$303,編班結果表!$C$4:$C$303),2,FALSE))","v":""},{"$f":"IF(SEARCH(\"/\",重整表!#REF!)=3,LEFT(重整表!#REF!,2)+1911&MID(重整表!#REF!,3,8),LEFT(重整表!#REF!,3)+1911&MID(重整表!#REF!,4,8))","v":{"$error":"#REF!"}},{"$f":"IF(ISBLANK(重整表!#REF!),\"\",重整表!#REF!)","v":{"$error":"#REF!"}},{"$f":"IF(ISBLANK(重整表!#REF!),\"\",重整表!#REF!)","v":{"$error":"#REF!"}},{"$f":"IF(ISBLANK(重整表!#REF!),\"\",重整表!#REF!)","v":{"$error":"#REF!"}},null,null,{"$f":"IF(ISBLANK(重整表!#REF!),\"\",重整表!#REF!)","v":{"$error":"#REF!"}},null,null,{"$f":"IF(SEARCH(\"/\",重整表!#REF!)=3,LEFT(重整表!#REF!,2)+1911&MID(重整表!#REF!,3,8),LEFT(重整表!#REF!,3)+1911&MID(重整表!#REF!,4,8))","v":{"$error":"#REF!"}}]

{"sheet":"編班繳交表","index":4,"n_rows":182,"n_cols":10,"rows_kept":182,"cut":false,"hidden":false,"merged":[]}
["校名","芬國國小","班級數",3,"總人數",179]
["周杰倫","張惠妹"]
["流水號","班級","座號","性別","姓名","身分証字號","原就讀學校","編班類別","相關流水號","備註"]
[null,null,null,{"$f":"IF(ISBLANK(重整表!#REF!),\"\",IF(重整表!#REF!=\"男\",1,IF(重整表!#REF!=\"女\",2)))","v":{"$error":"#REF!"}},{"$f":"IF(ISBLANK(重整表!#REF!),\"\",重整表!#REF!)","v":{"$error":"#REF!"}},{"$f":"IF(ISBLANK(重整表!#REF!),\"\",重整表!#REF!)","v":{"$error":"#REF!"}}]
[null,null,null,{"$f":"IF(ISBLANK(重整表!#REF!),\"\",IF(重整表!#REF!=\"男\",1,IF(重整表!#REF!=\"女\",2)))","v":{"$error":"#REF!"}},{"$f":"IF(ISBLANK(重整表!#REF!),\"\",重整表!#REF!)","v":{"$error":"#REF!"}},{"$f":"IF(ISBLANK(重整表!#REF!),\"\",重整表!#REF!)","v":{"$error":"#REF!"}}]
[null,null,null,{"$f":"IF(ISBLANK(重整表!#REF!),\"\",IF(重整表!#REF!=\"男\",1,IF(重整表!#REF!=\"女\",2)))","v":{"$error":"#REF!"}},{"$f":"IF(ISBLANK(重整表!#REF!),\"\",重整表!#REF!)","v":{"$error":"#REF!"}},{"$f":"IF(ISBLANK(重整表!#REF!),\"\",重整表!#REF!)","v":{"$error":"#REF!"}}]
[null,null,null,{"$f":"IF(ISBLANK(重整表!#REF!),\"\",IF(重整表!#REF!=\"男\",1,IF(重整表!#REF!=\"女\",2)))","v":{"$error":"#REF!"}},{"$f":"IF(ISBLANK(重整表!#REF!),\"\",重整表!#REF!)","v":{"$error":"#REF!"}},{"$f":"IF(ISBLANK(重整表!#REF!),\"\",重整表!#REF!)","v":{"$error":"#REF!"}}]
[null,null,null,{"$f":"IF(ISBLANK(重整表!#REF!),\"\",IF(重整表!#REF!=\"男\",1,IF(重整表!#REF!=\"女\",2)))","v":{"$error":"#REF!"}},{"$f":"IF(ISBLANK(重整表!#REF!),\"\",重整表!#REF!)","v":{"$error":"#REF!"}},{"$f":"IF(ISBLANK(重整表!#REF!),\"\",重整表!#REF!)","v":{"$error":"#REF!"}}]
[null,null,null,{"$f":"IF(ISBLANK(重整表!#REF!),\"\",IF(重整表!#REF!=\"男\",1,IF(重整表!#REF!=\"女\",2)))","v":{"$error":"#REF!"}},{"$f":"IF(ISBLANK(重整表!#REF!),\"\",重整表!#REF!)","v":{"$error":"#REF!"}},{"$f":"IF(ISBLANK(重整表!#REF!),\"\",重整表!#REF!)","v":{"$error":"#REF!"}}]
[null,null,null,{"$f":"IF(ISBLANK(重整表!#REF!),\"\",IF(重整表!#REF!=\"男\",1,IF(重整表!#REF!=\"女\",2)))","v":{"$error":"#REF!"}},{"$f":"IF(ISBLANK(重整表!#REF!),\"\",重整表!#REF!)","v":{"$error":"#REF!"}},{"$f":"IF(ISBLANK(重整表!#REF!),\"\",重整表!#REF!)","v":{"$error":"#REF!"}}]
[null,null,null,{"$f":"IF(ISBLANK(重整表!#REF!),\"\",IF(重整表!#REF!=\"男\",1,IF(重整表!#REF!=\"女\",2)))","v":{"$error":"#REF!"}},{"$f":"IF(ISBLANK(重整表!#REF!),\"\",重整表!#REF!)","v":{"$error":"#REF!"}},{"$f":"IF(ISBLANK(重整表!#REF!),\"\",重整表!#REF!)","v":{"$error":"#REF!"}}]
[null,null,null,{"$f":"IF(ISBLANK(重整表!#REF!),\"\",IF(重整表!#REF!=\"男\",1,IF(重整表!#REF!=\"女\",2)))","v":{"$error":"#REF!"}},{"$f":"IF(ISBLANK(重整表!#REF!),\"\",重整表!#REF!)","v":{"$error":"#REF!"}},{"$f":"IF(ISBLANK(重整表!#REF!),\"\",重整表!#REF!)","v":{"$error":"#REF!"}}]
[null,null,null,{"$f":"IF(ISBLANK(重整表!#REF!),\"\",IF(重整表!#REF!=\"男\",1,IF(重整表!#REF!=\"女\",2)))","v":{"$error":"#REF!"}},{"$f":"IF(ISBLANK(重整表!#REF!),\"\",重整表!#REF!)","v":{"$error":"#REF!"}},{"$f":"IF(ISBLANK(重整表!#REF!),\"\",重整表!#REF!)","v":{"$error":"#REF!"}}]
[null,null,null,{"$f":"IF(ISBLANK(重整表!#REF!),\"\",IF(重整表!#REF!=\"男\",1,IF(重整表!#REF!=\"女\",2)))","v":{"$error":"#REF!"}},{"$f":"IF(ISBLANK(重整表!#REF!),\"\",重整表!#REF!)","v":{"$error":"#REF!"}},{"$f":"IF(ISBLANK(重整表!#REF!),\"\",重整表!#REF!)","v":{"$error":"#REF!"}}]
[null,null,null,{"$f":"IF(ISBLANK(重整表!#REF!),\"\",IF(重整表!#REF!=\"男\",1,IF(重整表!#REF!=\"女\",2)))","v":{"$error":"#REF!"}},{"$f":"IF(ISBLANK(重整表!#REF!),\"\",重整表!#REF!)","v":{"$error":"#REF!"}},{"$f":"IF(ISBLANK(重整表!#REF!),\"\",重整表!#REF!)","v":{"$error":"#REF!"}}]
[null,null,null,{"$f":"IF(ISBLANK(重整表!#REF!),\"\",IF(重整表!#REF!=\"男\",1,IF(重整表!#REF!=\"女\",2)))","v":{"$error":"#REF!"}},{"$f":"IF(ISBLANK(重整表!#REF!),\"\",重整表!#REF!)","v":{"$error":"#REF!"}},{"$f":"IF(ISBLANK(重整表!#REF!),\"\",重整表!#REF!)","v":{"$error":"#REF!"}}]
[null,null,null,{"$f":"IF(ISBLANK(重整表!#REF!),\"\",IF(重整表!#REF!=\"男\",1,IF(重整表!#REF!=\"女\",2)))","v":{"$error":"#REF!"}},{"$f":"IF(ISBLANK(重整表!#REF!),\"\",重整表!#REF!)","v":{"$error":"#REF!"}},{"$f":"IF(ISBLANK(重整表!#REF!),\"\",重整表!#REF!)","v":{"$error":"#REF!"}}]
[null,null,null,{"$f":"IF(ISBLANK(重整表!#REF!),\"\",IF(重整表!#REF!=\"男\",1,IF(重整表!#REF!=\"女\",2)))","v":{"$error":"#REF!"}},{"$f":"IF(ISBLANK(重整表!#REF!),\"\",重整表!#REF!)","v":{"$error":"#REF!"}},{"$f":"IF(ISBLANK(重整表!#REF!),\"\",重整表!#REF!)","v":{"$error":"#REF!"}}]
[null,null,null,{"$f":"IF(ISBLANK(重整表!#REF!),\"\",IF(重整表!#REF!=\"男\",1,IF(重整表!#REF!=\"女\",2)))","v":{"$error":"#REF!"}},{"$f":"IF(ISBLANK(重整表!#REF!),\"\",重整表!#REF!)","v":{"$error":"#REF!"}},{"$f":"IF(ISBLANK(重整表!#REF!),\"\",重整表!#REF!)","v":{"$error":"#REF!"}}]
[null,null,null,{"$f":"IF(ISBLANK(重整表!#REF!),\"\",IF(重整表!#REF!=\"男\",1,IF(重整表!#REF!=\"女\",2)))","v":{"$error":"#REF!"}},{"$f":"IF(ISBLANK(重整表!#REF!),\"\",重整表!#REF!)","v":{"$error":"#REF!"}},{"$f":"IF(ISBLANK(重整表!#REF!),\"\",重整表!#REF!)","v":{"$error":"#REF!"}}]
[null,null,null,{"$f":"IF(ISBLANK(重整表!#REF!),\"\",IF(重整表!#REF!=\"男\",1,IF(重整表!#REF!=\"女\",2)))","v":{"$error":"#REF!"}},{"$f":"IF(ISBLANK(重整表!#REF!),\"\",重整表!#REF!)","v":{"$error":"#REF!"}},{"$f":"IF(ISBLANK(重整表!#REF!),\"\",重整表!#REF!)","v":{"$error":"#REF!"}}]
[null,null,null,{"$f":"IF(ISBLANK(重整表!#REF!),\"\",IF(重整表!#REF!=\"男\",1,IF(重整表!#REF!=\"女\",2)))","v":{"$error":"#REF!"}},{"$f":"IF(ISBLANK(重整表!#REF!),\"\",重整表!#REF!)","v":{"$error":"#REF!"}},{"$f":"IF(ISBLANK(重整表!#REF!),\"\",重整表!#REF!)","v":{"$error":"#REF!"}}]
[null,null,null,{"$f":"IF(ISBLANK(重整表!#REF!),\"\",IF(重整表!#REF!=\"男\",1,IF(重整表!#REF!=\"女\",2)))","v":{"$error":"#REF!"}},{"$f":"IF(ISBLANK(重整表!#REF!),\"\",重整表!#REF!)","v":{"$error":"#REF!"}},{"$f":"IF(ISBLANK(重整表!#REF!),\"\",重整表!#REF!)","v":{"$error":"#REF!"}}]
[null,null,null,{"$f":"IF(ISBLANK(重整表!#REF!),\"\",IF(重整表!#REF!=\"男\",1,IF(重整表!#REF!=\"女\",2)))","v":{"$error":"#REF!"}},{"$f":"IF(ISBLANK(重整表!#REF!),\"\",重整表!#REF!)","v":{"$error":"#REF!"}},{"$f":"IF(ISBLANK(重整表!#REF!),\"\",重整表!#REF!)","v":{"$error":"#REF!"}}]
[null,null,null,{"$f":"IF(ISBLANK(重整表!#REF!),\"\",IF(重整表!#REF!=\"男\",1,IF(重整表!#REF!=\"女\",2)))","v":{"$error":"#REF!"}},{"$f":"IF(ISBLANK(重整表!#REF!),\"\",重整表!#REF!)","v":{"$error":"#REF!"}},{"$f":"IF(ISBLANK(重整表!#REF!),\"\",重整表!#REF!)","v":{"$error":"#REF!"}}]
[null,null,null,{"$f":"IF(ISBLANK(重整表!#REF!),\"\",IF(重整表!#REF!=\"男\",1,IF(重整表!#REF!=\"女\",2)))","v":{"$error":"#REF!"}},{"$f":"IF(ISBLANK(重整表!#REF!),\"\",重整表!#REF!)","v":{"$error":"#REF!"}},{"$f":"IF(ISBLANK(重整表!#REF!),\"\",重整表!#REF!)","v":{"$error":"#REF!"}}]
[null,null,null,{"$f":"IF(ISBLANK(重整表!#REF!),\"\",IF(重整表!#REF!=\"男\",1,IF(重整表!#REF!=\"女\",2)))","v":{"$error":"#REF!"}},{"$f":"IF(ISBLANK(重整表!#REF!),\"\",重整表!#REF!)","v":{"$error":"#REF!"}},{"$f":"IF(ISBLANK(重整表!#REF!),\"\",重整表!#REF!)","v":{"$error":"#REF!"}}]
[null,null,null,{"$f":"IF(ISBLANK(重整表!#REF!),\"\",IF(重整表!#REF!=\"男\",1,IF(重整表!#REF!=\"女\",2)))","v":{"$error":"#REF!"}},{"$f":"IF(ISBLANK(重整表!#REF!),\"\",重整表!#REF!)","v":{"$error":"#REF!"}},{"$f":"IF(ISBLANK(重整表!#REF!),\"\",重整表!#REF!)","v":{"$error":"#REF!"}}]
[null,null,null,{"$f":"IF(ISBLANK(重整表!#REF!),\"\",IF(重整表!#REF!=\"男\",1,IF(重整表!#REF!=\"女\",2)))","v":{"$error":"#REF!"}},{"$f":"IF(ISBLANK(重整表!#REF!),\"\",重整表!#REF!)","v":{"$error":"#REF!"}},{"$f":"IF(ISBLANK(重整表!#REF!),\"\",重整表!#REF!)","v":{"$error":"#REF!"}}]
[null,null,null,{"$f":"IF(ISBLANK(重整表!#REF!),\"\",IF(重整表!#REF!=\"男\",1,IF(重整表!#REF!=\"女\",2)))","v":{"$error":"#REF!"}},{"$f":"IF(ISBLANK(重整表!#REF!),\"\",重整表!#REF!)","v":{"$error":"#REF!"}},{"$f":"IF(ISBLANK(重整表!#REF!),\"\",重整表!#REF!)","v":{"$error":"#REF!"}}]
[null,null,null,{"$f":"IF(ISBLANK(重整表!#REF!),\"\",IF(重整表!#REF!=\"男\",1,IF(重整表!#REF!=\"女\",2)))","v":{"$error":"#REF!"}},{"$f":"IF(ISBLANK(重整表!#REF!),\"\",重整表!#REF!)","v":{"$error":"#REF!"}},{"$f":"IF(ISBLANK(重整表!#REF!),\"\",重整表!#REF!)","v":{"$error":"#REF!"}}]
[null,null,null,{"$f":"IF(ISBLANK(重整表!#REF!),\"\",IF(重整表!#REF!=\"男\",1,IF(重整表!#REF!=\"女\",2)))","v":{"$error":"#REF!"}},{"$f":"IF(ISBLANK(重整表!#REF!),\"\",重整表!#REF!)","v":{"$error":"#REF!"}},{"$f":"IF(ISBLANK(重整表!#REF!),\"\",重整表!#REF!)","v":{"$error":"#REF!"}}]
[null,null,null,{"$f":"IF(ISBLANK(重整表!#REF!),\"\",IF(重整表!#REF!=\"男\",1,IF(重整表!#REF!=\"女\",2)))","v":{"$error":"#REF!"}},{"$f":"IF(ISBLANK(重整表!#REF!),\"\",重整表!#REF!)","v":{"$error":"#REF!"}},{"$f":"IF(ISBLANK(重整表!#REF!),\"\",重整表!#REF!)","v":{"$error":"#REF!"}}]
[null,null,null,{"$f":"IF(ISBLANK(重整表!#REF!),\"\",IF(重整表!#REF!=\"男\",1,IF(重整表!#REF!=\"女\",2)))","v":{"$error":"#REF!"}},{"$f":"IF(ISBLANK(重整表!#REF!),\"\",重整表!#REF!)","v":{"$error":"#REF!"}},{"$f":"IF(ISBLANK(重整表!#REF!),\"\",重整表!#REF!)","v":{"$error":"#REF!"}}]
[null,null,null,{"$f":"IF(ISBLANK(重整表!#REF!),\"\",IF(重整表!#REF!=\"男\",1,IF(重整表!#REF!=\"女\",2)))","v":{"$error":"#REF!"}},{"$f":"IF(ISBLANK(重整表!#REF!),\"\",重整表!#REF!)","v":{"$error":"#REF!"}},{"$f":"IF(ISBLANK(重整表!#REF!),\"\",重整表!#REF!)","v":{"$error":"#REF!"}}]
[null,null,null,{"$f":"IF(ISBLANK(重整表!#REF!),\"\",IF(重整表!#REF!=\"男\",1,IF(重整表!#REF!=\"女\",2)))","v":{"$error":"#REF!"}},{"$f":"IF(ISBLANK(重整表!#REF!),\"\",重整表!#REF!)","v":{"$error":"#REF!"}},{"$f":"IF(ISBLANK(重整表!#REF!),\"\",重整表!#REF!)","v":{"$error":"#REF!"}}]
[null,null,null,{"$f":"IF(ISBLANK(重整表!#REF!),\"\",IF(重整表!#REF!=\"男\",1,IF(重整表!#REF!=\"女\",2)))","v":{"$error":"#REF!"}},{"$f":"IF(ISBLANK(重整表!#REF!),\"\",重整表!#REF!)","v":{"$error":"#REF!"}},{"$f":"IF(ISBLANK(重整表!#REF!),\"\",重整表!#REF!)","v":{"$error":"#REF!"}}]
[null,null,null,{"$f":"IF(ISBLANK(重整表!#REF!),\"\",IF(重整表!#REF!=\"男\",1,IF(重整表!#REF!=\"女\",2)))","v":{"$error":"#REF!"}},{"$f":"IF(ISBLANK(重整表!#REF!),\"\",重整表!#REF!)","v":{"$error":"#REF!"}},{"$f":"IF(ISBLANK(重整表!#REF!),\"\",重整表!#REF!)","v":{"$error":"#REF!"}}]
[null,null,null,{"$f":"IF(ISBLANK(重整表!#REF!),\"\",IF(重整表!#REF!=\"男\",1,IF(重整表!#REF!=\"女\",2)))","v":{"$error":"#REF!"}},{"$f":"IF(ISBLANK(重整表!#REF!),\"\",重整表!#REF!)","v":{"$error":"#REF!"}},{"$f":"IF(ISBLANK(重整表!#REF!),\"\",重整表!#REF!)","v":{"$error":"#REF!"}}]
[null,null,null,{"$f":"IF(ISBLANK(重整表!#REF!),\"\",IF(重整表!#REF!=\"男\",1,IF(重整表!#REF!=\"女\",2)))","v":{"$error":"#REF!"}},{"$f":"IF(ISBLANK(重整表!#REF!),\"\",重整表!#REF!)","v":{"$error":"#REF!"}},{"$f":"IF(ISBLANK(重整表!#REF!),\"\",重整表!#REF!)","v":{"$error":"#REF!"}}]
[null,null,null,{"$f":"IF(ISBLANK(重整表!#REF!),\"\",IF(重整表!#REF!=\"男\",1,IF(重整表!#REF!=\"女\",2)))","v":{"$error":"#REF!"}},{"$f":"IF(ISBLANK(重整表!#REF!),\"\",重整表!#REF!)","v":{"$error":"#REF!"}},{"$f":"IF(ISBLANK(重整表!#REF!),\"\",重整表!#REF!)","v":{"$error":"#REF!"}}]
[null,null,null,{"$f":"IF(ISBLANK(重整表!#REF!),\"\",IF(重整表!#REF!=\"男\",1,IF(重整表!#REF!=\"女\",2)))","v":{"$error":"#REF!"}},{"$f":"IF(ISBLANK(重整表!#REF!),\"\",重整表!#REF!)","v":{"$error":"#REF!"}},{"$f":"IF(ISBLANK(重整表!#REF!),\"\",重整表!#REF!)","v":{"$error":"#REF!"}}]
[null,null,null,{"$f":"IF(ISBLANK(重整表!#REF!),\"\",IF(重整表!#REF!=\"男\",1,IF(重整表!#REF!=\"女\",2)))","v":{"$error":"#REF!"}},{"$f":"IF(ISBLANK(重整表!#REF!),\"\",重整表!#REF!)","v":{"$error":"#REF!"}},{"$f":"IF(ISBLANK(重整表!#REF!),\"\",重整表!#REF!)","v":{"$error":"#REF!"}}]
[null,null,null,{"$f":"IF(ISBLANK(重整表!#REF!),\"\",IF(重整表!#REF!=\"男\",1,IF(重整表!#REF!=\"女\",2)))","v":{"$error":"#REF!"}},{"$f":"IF(ISBLANK(重整表!#REF!),\"\",重整表!#REF!)","v":{"$error":"#REF!"}},{"$f":"IF(ISBLANK(重整表!#REF!),\"\",重整表!#REF!)","v":{"$error":"#REF!"}}]
[null,null,null,{"$f":"IF(ISBLANK(重整表!#REF!),\"\",IF(重整表!#REF!=\"男\",1,IF(重整表!#REF!=\"女\",2)))","v":{"$error":"#REF!"}},{"$f":"IF(ISBLANK(重整表!#REF!),\"\",重整表!#REF!)","v":{"$error":"#REF!"}},{"$f":"IF(ISBLANK(重整表!#REF!),\"\",重整表!#REF!)","v":{"$error":"#REF!"}}]
[null,null,null,{"$f":"IF(ISBLANK(重整表!#REF!),\"\",IF(重整表!#REF!=\"男\",1,IF(重整表!#REF!=\"女\",2)))","v":{"$error":"#REF!"}},{"$f":"IF(ISBLANK(重整表!#REF!),\"\",重整表!#REF!)","v":{"$error":"#REF!"}},{"$f":"IF(ISBLANK(重整表!#REF!),\"\",重整表!#REF!)","v":{"$error":"#REF!"}}]
[null,null,null,{"$f":"IF(ISBLANK(重整表!#REF!),\"\",IF(重整表!#REF!=\"男\",1,IF(重整表!#REF!=\"女\",2)))","v":{"$error":"#REF!"}},{"$f":"IF(ISBLANK(重整表!#REF!),\"\",重整表!#REF!)","v":{"$error":"#REF!"}},{"$f":"IF(ISBLANK(重整表!#REF!),\"\",重整表!#REF!)","v":{"$error":"#REF!"}}]
[null,null,null,{"$f":"IF(ISBLANK(重整表!#REF!),\"\",IF(重整表!#REF!=\"男\",1,IF(重整表!#REF!=\"女\",2)))","v":{"$error":"#REF!"}},{"$f":"IF(ISBLANK(重整表!#REF!),\"\",重整表!#REF!)","v":{"$error":"#REF!"}},{"$f":"IF(ISBLANK(重整表!#REF!),\"\",重整表!#REF!)","v":{"$error":"#REF!"}}]
[null,null,null,{"$f":"IF(ISBLANK(重整表!#REF!),\"\",IF(重整表!#REF!=\"男\",1,IF(重整表!#REF!=\"女\",2)))","v":{"$error":"#REF!"}},{"$f":"IF(ISBLANK(重整表!#REF!),\"\",重整表!#REF!)","v":{"$error":"#REF!"}},{"$f":"IF(ISBLANK(重整表!#REF!),\"\",重整表!#REF!)","v":{"$error":"#REF!"}}]
[null,null,null,{"$f":"IF(ISBLANK(重整表!#REF!),\"\",IF(重整表!#REF!=\"男\",1,IF(重整表!#REF!=\"女\",2)))","v":{"$error":"#REF!"}},{"$f":"IF(ISBLANK(重整表!#REF!),\"\",重整表!#REF!)","v":{"$error":"#REF!"}},{"$f":"IF(ISBLANK(重整表!#REF!),\"\",重整表!#REF!)","v":{"$error":"#REF!"}}]
[null,null,null,{"$f":"IF(ISBLANK(重整表!#REF!),\"\",IF(重整表!#REF!=\"男\",1,IF(重整表!#REF!=\"女\",2)))","v":{"$error":"#REF!"}},{"$f":"IF(ISBLANK(重整表!#REF!),\"\",重整表!#REF!)","v":{"$error":"#REF!"}},{"$f":"IF(ISBLANK(重整表!#REF!),\"\",重整表!#REF!)","v":{"$error":"#REF!"}}]
[null,null,null,{"$f":"IF(ISBLANK(重整表!#REF!),\"\",IF(重整表!#REF!=\"男\",1,IF(重整表!#REF!=\"女\",2)))","v":{"$error":"#REF!"}},{"$f":"IF(ISBLANK(重整表!#REF!),\"\",重整表!#REF!)","v":{"$error":"#REF!"}},{"$f":"IF(ISBLANK(重整表!#REF!),\"\",重整表!#REF!)","v":{"$error":"#REF!"}}]
[null,null,null,{"$f":"IF(ISBLANK(重整表!#REF!),\"\",IF(重整表!#REF!=\"男\",1,IF(重整表!#REF!=\"女\",2)))","v":{"$error":"#REF!"}},{"$f":"IF(ISBLANK(重整表!#REF!),\"\",重整表!#REF!)","v":{"$error":"#REF!"}},{"$f":"IF(ISBLANK(重整表!#REF!),\"\",重整表!#REF!)","v":{"$error":"#REF!"}}]
[null,null,null,{"$f":"IF(ISBLANK(重整表!#REF!),\"\",IF(重整表!#REF!=\"男\",1,IF(重整表!#REF!=\"女\",2)))","v":{"$error":"#REF!"}},{"$f":"IF(ISBLANK(重整表!#REF!),\"\",重整表!#REF!)","v":{"$error":"#REF!"}},{"$f":"IF(ISBLANK(重整表!#REF!),\"\",重整表!#REF!)","v":{"$error":"#REF!"}}]
[null,null,null,{"$f":"IF(ISBLANK(重整表!#REF!),\"\",IF(重整表!#REF!=\"男\",1,IF(重整表!#REF!=\"女\",2)))","v":{"$error":"#REF!"}},{"$f":"IF(ISBLANK(重整表!#REF!),\"\",重整表!#REF!)","v":{"$error":"#REF!"}},{"$f":"IF(ISBLANK(重整表!#REF!),\"\",重整表!#REF!)","v":{"$error":"#REF!"}}]
[null,null,null,{"$f":"IF(ISBLANK(重整表!#REF!),\"\",IF(重整表!#REF!=\"男\",1,IF(重整表!#REF!=\"女\",2)))","v":{"$error":"#REF!"}},{"$f":"IF(ISBLANK(重整表!#REF!),\"\",重整表!#REF!)","v":{"$error":"#REF!"}},{"$f":"IF(ISBLANK(重整表!#REF!),\"\",重整表!#REF!)","v":{"$error":"#REF!"}}]
[null,null,null,{"$f":"IF(ISBLANK(重整表!#REF!),\"\",IF(重整表!#REF!=\"男\",1,IF(重整表!#REF!=\"女\",2)))","v":{"$error":"#REF!"}},{"$f":"IF(ISBLANK(重整表!#REF!),\"\",重整表!#REF!)","v":{"$error":"#REF!"}},{"$f":"IF(ISBLANK(重整表!#REF!),\"\",重整表!#REF!)","v":{"$error":"#REF!"}}]
[null,null,null,{"$f":"IF(ISBLANK(重整表!#REF!),\"\",IF(重整表!#REF!=\"男\",1,IF(重整表!#REF!=\"女\",2)))","v":{"$error":"#REF!"}},{"$f":"IF(ISBLANK(重整表!#REF!),\"\",重整表!#REF!)","v":{"$error":"#REF!"}},{"$f":"IF(ISBLANK(重整表!#REF!),\"\",重整表!#REF!)","v":{"$error":"#REF!"}}]
[null,null,null,{"$f":"IF(ISBLANK(重整表!#REF!),\"\",IF(重整表!#REF!=\"男\",1,IF(重整表!#REF!=\"女\",2)))","v":{"$error":"#REF!"}},{"$f":"IF(ISBLANK(重整表!#REF!),\"\",重整表!#REF!)","v":{"$error":"#REF!"}},{"$f":"IF(ISBLANK(重整表!#REF!),\"\",重整表!#REF!)","v":{"$error":"#REF!"}}]
[null,null,null,{"$f":"IF(ISBLANK(重整表!#REF!),\"\",IF(重整表!#REF!=\"男\",1,IF(重整表!#REF!=\"女\",2)))","v":{"$error":"#REF!"}},{"$f":"IF(ISBLANK(重整表!#REF!),\"\",重整表!#REF!)","v":{"$error":"#REF!"}},{"$f":"IF(ISBLANK(重整表!#REF!),\"\",重整表!#REF!)","v":{"$error":"#REF!"}}]
[null,null,null,{"$f":"IF(ISBLANK(重整表!#REF!),\"\",IF(重整表!#REF!=\"男\",1,IF(重整表!#REF!=\"女\",2)))","v":{"$error":"#REF!"}},{"$f":"IF(ISBLANK(重整表!#REF!),\"\",重整表!#REF!)","v":{"$error":"#REF!"}},{"$f":"IF(ISBLANK(重整表!#REF!),\"\",重整表!#REF!)","v":{"$error":"#REF!"}}]
[null,null,null,{"$f":"IF(ISBLANK(重整表!#REF!),\"\",IF(重整表!#REF!=\"男\",1,IF(重整表!#REF!=\"女\",2)))","v":{"$error":"#REF!"}},{"$f":"IF(ISBLANK(重整表!#REF!),\"\",重整表!#REF!)","v":{"$error":"#REF!"}},{"$f":"IF(ISBLANK(重整表!#REF!),\"\",重整表!#REF!)","v":{"$error":"#REF!"}}]
[null,null,null,{"$f":"IF(ISBLANK(重整表!#REF!),\"\",IF(重整表!#REF!=\"男\",1,IF(重整表!#REF!=\"女\",2)))","v":{"$error":"#REF!"}},{"$f":"IF(ISBLANK(重整表!#REF!),\"\",重整表!#REF!)","v":{"$error":"#REF!"}},{"$f":"IF(ISBLANK(重整表!#REF!),\"\",重整表!#REF!)","v":{"$error":"#REF!"}}]
[null,null,null,{"$f":"IF(ISBLANK(重整表!#REF!),\"\",IF(重整表!#REF!=\"男\",1,IF(重整表!#REF!=\"女\",2)))","v":{"$error":"#REF!"}},{"$f":"IF(ISBLANK(重整表!#REF!),\"\",重整表!#REF!)","v":{"$error":"#REF!"}},{"$f":"IF(ISBLANK(重整表!#REF!),\"\",重整表!#REF!)","v":{"$error":"#REF!"}}]
[null,null,null,{"$f":"IF(ISBLANK(重整表!#REF!),\"\",IF(重整表!#REF!=\"男\",1,IF(重整表!#REF!=\"女\",2)))","v":{"$error":"#REF!"}},{"$f":"IF(ISBLANK(重整表!#REF!),\"\",重整表!#REF!)","v":{"$error":"#REF!"}},{"$f":"IF(ISBLANK(重整表!#REF!),\"\",重整表!#REF!)","v":{"$error":"#REF!"}}]
[null,null,null,{"$f":"IF(ISBLANK(重整表!#REF!),\"\",IF(重整表!#REF!=\"男\",1,IF(重整表!#REF!=\"女\",2)))","v":{"$error":"#REF!"}},{"$f":"IF(ISBLANK(重整表!#REF!),\"\",重整表!#REF!)","v":{"$error":"#REF!"}},{"$f":"IF(ISBLANK(重整表!#REF!),\"\",重整表!#REF!)","v":{"$error":"#REF!"}}]
[null,null,null,{"$f":"IF(ISBLANK(重整表!#REF!),\"\",IF(重整表!#REF!=\"男\",1,IF(重整表!#REF!=\"女\",2)))","v":{"$error":"#REF!"}},{"$f":"IF(ISBLANK(重整表!#REF!),\"\",重整表!#REF!)","v":{"$error":"#REF!"}},{"$f":"IF(ISBLANK(重整表!#REF!),\"\",重整表!#REF!)","v":{"$error":"#REF!"}}]
[null,null,null,{"$f":"IF(ISBLANK(重整表!#REF!),\"\",IF(重整表!#REF!=\"男\",1,IF(重整表!#REF!=\"女\",2)))","v":{"$error":"#REF!"}},{"$f":"IF(ISBLANK(重整表!#REF!),\"\",重整表!#REF!)","v":{"$error":"#REF!"}},{"$f":"IF(ISBLANK(重整表!#REF!),\"\",重整表!#REF!)","v":{"$error":"#REF!"}}]
[null,null,null,{"$f":"IF(ISBLANK(重整表!#REF!),\"\",IF(重整表!#REF!=\"男\",1,IF(重整表!#REF!=\"女\",2)))","v":{"$error":"#REF!"}},{"$f":"IF(ISBLANK(重整表!#REF!),\"\",重整表!#REF!)","v":{"$error":"#REF!"}},{"$f":"IF(ISBLANK(重整表!#REF!),\"\",重整表!#REF!)","v":{"$error":"#REF!"}}]
[null,null,null,{"$f":"IF(ISBLANK(重整表!#REF!),\"\",IF(重整表!#REF!=\"男\",1,IF(重整表!#REF!=\"女\",2)))","v":{"$error":"#REF!"}},{"$f":"IF(ISBLANK(重整表!#REF!),\"\",重整表!#REF!)","v":{"$error":"#REF!"}},{"$f":"IF(ISBLANK(重整表!#REF!),\"\",重整表!#REF!)","v":{"$error":"#REF!"}}]
[null,null,null,{"$f":"IF(ISBLANK(重整表!#REF!),\"\",IF(重整表!#REF!=\"男\",1,IF(重整表!#REF!=\"女\",2)))","v":{"$error":"#REF!"}},{"$f":"IF(ISBLANK(重整表!#REF!),\"\",重整表!#REF!)","v":{"$error":"#REF!"}},{"$f":"IF(ISBLANK(重整表!#REF!),\"\",重整表!#REF!)","v":{"$error":"#REF!"}}]
[null,null,null,{"$f":"IF(ISBLANK(重整表!#REF!),\"\",IF(重整表!#REF!=\"男\",1,IF(重整表!#REF!=\"女\",2)))","v":{"$error":"#REF!"}},{"$f":"IF(ISBLANK(重整表!#REF!),\"\",重整表!#REF!)","v":{"$error":"#REF!"}},{"$f":"IF(ISBLANK(重整表!#REF!),\"\",重整表!#REF!)","v":{"$error":"#REF!"}}]
[null,null,null,{"$f":"IF(ISBLANK(重整表!#REF!),\"\",IF(重整表!#REF!=\"男\",1,IF(重整表!#REF!=\"女\",2)))","v":{"$error":"#REF!"}},{"$f":"IF(ISBLANK(重整表!#REF!),\"\",重整表!#REF!)","v":{"$error":"#REF!"}},{"$f":"IF(ISBLANK(重整表!#REF!),\"\",重整表!#REF!)","v":{"$error":"#REF!"}}]
[null,null,null,{"$f":"IF(ISBLANK(重整表!#REF!),\"\",IF(重整表!#REF!=\"男\",1,IF(重整表!#REF!=\"女\",2)))","v":{"$error":"#REF!"}},{"$f":"IF(ISBLANK(重整表!#REF!),\"\",重整表!#REF!)","v":{"$error":"#REF!"}},{"$f":"IF(ISBLANK(重整表!#REF!),\"\",重整表!#REF!)","v":{"$error":"#REF!"}}]
[null,null,null,{"$f":"IF(ISBLANK(重整表!#REF!),\"\",IF(重整表!#REF!=\"男\",1,IF(重整表!#REF!=\"女\",2)))","v":{"$error":"#REF!"}},{"$f":"IF(ISBLANK(重整表!#REF!),\"\",重整表!#REF!)","v":{"$error":"#REF!"}},{"$f":"IF(ISBLANK(重整表!#REF!),\"\",重整表!#REF!)","v":{"$error":"#REF!"}}]
[null,null,null,{"$f":"IF(ISBLANK(重整表!#REF!),\"\",IF(重整表!#REF!=\"男\",1,IF(重整表!#REF!=\"女\",2)))","v":{"$error":"#REF!"}},{"$f":"IF(ISBLANK(重整表!#REF!),\"\",重整表!#REF!)","v":{"$error":"#REF!"}},{"$f":"IF(ISBLANK(重整表!#REF!),\"\",重整表!#REF!)","v":{"$error":"#REF!"}}]
[null,null,null,{"$f":"IF(ISBLANK(重整表!#REF!),\"\",IF(重整表!#REF!=\"男\",1,IF(重整表!#REF!=\"女\",2)))","v":{"$error":"#REF!"}},{"$f":"IF(ISBLANK(重整表!#REF!),\"\",重整表!#REF!)","v":{"$error":"#REF!"}},{"$f":"IF(ISBLANK(重整表!#REF!),\"\",重整表!#REF!)","v":{"$error":"#REF!"}}]
[null,null,null,{"$f":"IF(ISBLANK(重整表!#REF!),\"\",IF(重整表!#REF!=\"男\",1,IF(重整表!#REF!=\"女\",2)))","v":{"$error":"#REF!"}},{"$f":"IF(ISBLANK(重整表!#REF!),\"\",重整表!#REF!)","v":{"$error":"#REF!"}},{"$f":"IF(ISBLANK(重整表!#REF!),\"\",重整表!#REF!)","v":{"$error":"#REF!"}}]
[null,null,null,{"$f":"IF(ISBLANK(重整表!#REF!),\"\",IF(重整表!#REF!=\"男\",1,IF(重整表!#REF!=\"女\",2)))","v":{"$error":"#REF!"}},{"$f":"IF(ISBLANK(重整表!#REF!),\"\",重整表!#REF!)","v":{"$error":"#REF!"}},{"$f":"IF(ISBLANK(重整表!#REF!),\"\",重整表!#REF!)","v":{"$error":"#REF!"}}]
[null,null,null,{"$f":"IF(ISBLANK(重整表!#REF!),\"\",IF(重整表!#REF!=\"男\",1,IF(重整表!#REF!=\"女\",2)))","v":{"$error":"#REF!"}},{"$f":"IF(ISBLANK(重整表!#REF!),\"\",重整表!#REF!)","v":{"$error":"#REF!"}},{"$f":"IF(ISBLANK(重整表!#REF!),\"\",重整表!#REF!)","v":{"$error":"#REF!"}}]
[null,null,null,{"$f":"IF(ISBLANK(重整表!#REF!),\"\",IF(重整表!#REF!=\"男\",1,IF(重整表!#REF!=\"女\",2)))","v":{"$error":"#REF!"}},{"$f":"IF(ISBLANK(重整表!#REF!),\"\",重整表!#REF!)","v":{"$error":"#REF!"}},{"$f":"IF(ISBLANK(重整表!#REF!),\"\",重整表!#REF!)","v":{"$error":"#REF!"}}]
[null,null,null,{"$f":"IF(ISBLANK(重整表!#REF!),\"\",IF(重整表!#REF!=\"男\",1,IF(重整表!#REF!=\"女\",2)))","v":{"$error":"#REF!"}},{"$f":"IF(ISBLANK(重整表!#REF!),\"\",重整表!#REF!)","v":{"$error":"#REF!"}},{"$f":"IF(ISBLANK(重整表!#REF!),\"\",重整表!#REF!)","v":{"$error":"#REF!"}}]
[null,null,null,{"$f":"IF(ISBLANK(重整表!#REF!),\"\",IF(重整表!#REF!=\"男\",1,IF(重整表!#REF!=\"女\",2)))","v":{"$error":"#REF!"}},{"$f":"IF(ISBLANK(重整表!#REF!),\"\",重整表!#REF!)","v":{"$error":"#REF!"}},{"$f":"IF(ISBLANK(重整表!#REF!),\"\",重整表!#REF!)","v":{"$error":"#REF!"}}]
[null,null,null,{"$f":"IF(ISBLANK(重整表!#REF!),\"\",IF(重整表!#REF!=\"男\",1,IF(重整表!#REF!=\"女\",2)))","v":{"$error":"#REF!"}},{"$f":"IF(ISBLANK(重整表!#REF!),\"\",重整表!#REF!)","v":{"$error":"#REF!"}},{"$f":"IF(ISBLANK(重整表!#REF!),\"\",重整表!#REF!)","v":{"$error":"#REF!"}}]
[null,null,null,{"$f":"IF(ISBLANK(重整表!#REF!),\"\",IF(重整表!#REF!=\"男\",1,IF(重整表!#REF!=\"女\",2)))","v":{"$error":"#REF!"}},{"$f":"IF(ISBLANK(重整表!#REF!),\"\",重整表!#REF!)","v":{"$error":"#REF!"}},{"$f":"IF(ISBLANK(重整表!#REF!),\"\",重整表!#REF!)","v":{"$error":"#REF!"}}]
[null,null,null,{"$f":"IF(ISBLANK(重整表!#REF!),\"\",IF(重整表!#REF!=\"男\",1,IF(重整表!#REF!=\"女\",2)))","v":{"$error":"#REF!"}},{"$f":"IF(ISBLANK(重整表!#REF!),\"\",重整表!#REF!)","v":{"$error":"#REF!"}},{"$f":"IF(ISBLANK(重整表!#REF!),\"\",重整表!#REF!)","v":{"$error":"#REF!"}}]
[null,null,null,{"$f":"IF(ISBLANK(重整表!#REF!),\"\",IF(重整表!#REF!=\"男\",1,IF(重整表!#REF!=\"女\",2)))","v":{"$error":"#REF!"}},{"$f":"IF(ISBLANK(重整表!#REF!),\"\",重整表!#REF!)","v":{"$error":"#REF!"}},{"$f":"IF(ISBLANK(重整表!#REF!),\"\",重整表!#REF!)","v":{"$error":"#REF!"}}]
[null,null,null,{"$f":"IF(ISBLANK(重整表!#REF!),\"\",IF(重整表!#REF!=\"男\",1,IF(重整表!#REF!=\"女\",2)))","v":{"$error":"#REF!"}},{"$f":"IF(ISBLANK(重整表!#REF!),\"\",重整表!#REF!)","v":{"$error":"#REF!"}},{"$f":"IF(ISBLANK(重整表!#REF!),\"\",重整表!#REF!)","v":{"$error":"#REF!"}}]
[null,null,null,{"$f":"IF(ISBLANK(重整表!#REF!),\"\",IF(重整表!#REF!=\"男\",1,IF(重整表!#REF!=\"女\",2)))","v":{"$error":"#REF!"}},{"$f":"IF(ISBLANK(重整表!#REF!),\"\",重整表!#REF!)","v":{"$error":"#REF!"}},{"$f":"IF(ISBLANK(重整表!#REF!),\"\",重整表!#REF!)","v":{"$error":"#REF!"}}]
[null,null,null,{"$f":"IF(ISBLANK(重整表!#REF!),\"\",IF(重整表!#REF!=\"男\",1,IF(重整表!#REF!=\"女\",2)))","v":{"$error":"#REF!"}},{"$f":"IF(ISBLANK(重整表!#REF!),\"\",重整表!#REF!)","v":{"$error":"#REF!"}},{"$f":"IF(ISBLANK(重整表!#REF!),\"\",重整表!#REF!)","v":{"$error":"#REF!"}}]
[null,null,null,{"$f":"IF(ISBLANK(重整表!#REF!),\"\",IF(重整表!#REF!=\"男\",1,IF(重整表!#REF!=\"女\",2)))","v":{"$error":"#REF!"}},{"$f":"IF(ISBLANK(重整表!#REF!),\"\",重整表!#REF!)","v":{"$error":"#REF!"}},{"$f":"IF(ISBLANK(重整表!#REF!),\"\",重整表!#REF!)","v":{"$error":"#REF!"}}]
[null,null,null,{"$f":"IF(ISBLANK(重整表!#REF!),\"\",IF(重整表!#REF!=\"男\",1,IF(重整表!#REF!=\"女\",2)))","v":{"$error":"#REF!"}},{"$f":"IF(ISBLANK(重整表!#REF!),\"\",重整表!#REF!)","v":{"$error":"#REF!"}},{"$f":"IF(ISBLANK(重整表!#REF!),\"\",重整表!#REF!)","v":{"$error":"#REF!"}}]
[null,null,null,{"$f":"IF(ISBLANK(重整表!#REF!),\"\",IF(重整表!#REF!=\"男\",1,IF(重整表!#REF!=\"女\",2)))","v":{"$error":"#REF!"}},{"$f":"IF(ISBLANK(重整表!#REF!),\"\",重整表!#REF!)","v":{"$error":"#REF!"}},{"$f":"IF(ISBLANK(重整表!#REF!),\"\",重整表!#REF!)","v":{"$error":"#REF!"}}]
[null,null,null,{"$f":"IF(ISBLANK(重整表!#REF!),\"\",IF(重整表!#REF!=\"男\",1,IF(重整表!#REF!=\"女\",2)))","v":{"$error":"#REF!"}},{"$f":"IF(ISBLANK(重整表!#REF!),\"\",重整表!#REF!)","v":{"$error":"#REF!"}},{"$f":"IF(ISBLANK(重整表!#REF!),\"\",重整表!#REF!)","v":{"$error":"#REF!"}}]
[null,null,null,{"$f":"IF(ISBLANK(重整表!#REF!),\"\",IF(重整表!#REF!=\"男\",1,IF(重整表!#REF!=\"女\",2)))","v":{"$error":"#REF!"}},{"$f":"IF(ISBLANK(重整表!#REF!),\"\",重整表!#REF!)","v":{"$error":"#REF!"}},{"$f":"IF(ISBLANK(重整表!#REF!),\"\",重整表!#REF!)","v":{"$error":"#REF!"}}]
[null,null,null,{"$f":"IF(ISBLANK(重整表!#REF!),\"\",IF(重整表!#REF!=\"男\",1,IF(重整表!#REF!=\"女\",2)))","v":{"$error":"#REF!"}},{"$f":"IF(ISBLANK(重整表!#REF!),\"\",重整表!#REF!)","v":{"$error":"#REF!"}},{"$f":"IF(ISBLANK(重整表!#REF!),\"\",重整表!#REF!)","v":{"$error":"#REF!"}}]
[null,null,null,{"$f":"IF(ISBLANK(重整表!#REF!),\"\",IF(重整表!#REF!=\"男\",1,IF(重整表!#REF!=\"女\",2)))","v":{"$error":"#REF!"}},{"$f":"IF(ISBLANK(重整表!#REF!),\"\",重整表!#REF!)","v":{"$error":"#REF!"}},{"$f":"IF(ISBLANK(重整表!#REF!),\"\",重整表!#REF!)","v":{"$error":"#REF!"}}]
[null,null,null,{"$f":"IF(ISBLANK(重整表!#REF!),\"\",IF(重整表!#REF!=\"男\",1,IF(重整表!#REF!=\"女\",2)))","v":{"$error":"#REF!"}},{"$f":"IF(ISBLANK(重整表!#REF!),\"\",重整表!#REF!)","v":{"$error":"#REF!"}},{"$f":"IF(ISBLANK(重整表!#REF!),\"\",重整表!#REF!)","v":{"$error":"#REF!"}}]
[null,null,null,{"$f":"IF(ISBLANK(重整表!#REF!),\"\",IF(重整表!#REF!=\"男\",1,IF(重整表!#REF!=\"女\",2)))","v":{"$error":"#REF!"}},{"$f":"IF(ISBLANK(重整表!#REF!),\"\",重整表!#REF!)","v":{"$error":"#REF!"}},{"$f":"IF(ISBLANK(重整表!#REF!),\"\",重整表!#REF!)","v":{"$error":"#REF!"}}]
[null,null,null,{"$f":"IF(ISBLANK(重整表!#REF!),\"\",IF(重整表!#REF!=\"男\",1,IF(重整表!#REF!=\"女\",2)))","v":{"$error":"#REF!"}},{"$f":"IF(ISBLANK(重整表!#REF!),\"\",重整表!#REF!)","v":{"$error":"#REF!"}},{"$f":"IF(ISBLANK(重整表!#REF!),\"\",重整表!#REF!)","v":{"$error":"#REF!"}}]
[null,null,null,{"$f":"IF(ISBLANK(重整表!#REF!),\"\",IF(重整表!#REF!=\"男\",1,IF(重整表!#REF!=\"女\",2)))","v":{"$error":"#REF!"}},{"$f":"IF(ISBLANK(重整表!#REF!),\"\",重整表!#REF!)","v":{"$error":"#REF!"}},{"$f":"IF(ISBLANK(重整表!#REF!),\"\",重整表!#REF!)","v":{"$error":"#REF!"}}]
[null,null,null,{"$f":"IF(ISBLANK(重整表!#REF!),\"\",IF(重整表!#REF!=\"男\",1,IF(重整表!#REF!=\"女\",2)))","v":{"$error":"#REF!"}},{"$f":"IF(ISBLANK(重整表!#REF!),\"\",重整表!#REF!)","v":{"$error":"#REF!"}},{"$f":"IF(ISBLANK(重整表!#REF!),\"\",重整表!#REF!)","v":{"$error":"#REF!"}}]
[null,null,null,{"$f":"IF(ISBLANK(重整表!#REF!),\"\",IF(重整表!#REF!=\"男\",1,IF(重整表!#REF!=\"女\",2)))","v":{"$error":"#REF!"}},{"$f":"IF(ISBLANK(重整表!#REF!),\"\",重整表!#REF!)","v":{"$error":"#REF!"}},{"$f":"IF(ISBLANK(重整表!#REF!),\"\",重整表!#REF!)","v":{"$error":"#REF!"}}]
[null,null,null,{"$f":"IF(ISBLANK(重整表!#REF!),\"\",IF(重整表!#REF!=\"男\",1,IF(重整表!#REF!=\"女\",2)))","v":{"$error":"#REF!"}},{"$f":"IF(ISBLANK(重整表!#REF!),\"\",重整表!#REF!)","v":{"$error":"#REF!"}},{"$f":"IF(ISBLANK(重整表!#REF!),\"\",重整表!#REF!)","v":{"$error":"#REF!"}}]
[null,null,null,{"$f":"IF(ISBLANK(重整表!#REF!),\"\",IF(重整表!#REF!=\"男\",1,IF(重整表!#REF!=\"女\",2)))","v":{"$error":"#REF!"}},{"$f":"IF(ISBLANK(重整表!#REF!),\"\",重整表!#REF!)","v":{"$error":"#REF!"}},{"$f":"IF(ISBLANK(重整表!#REF!),\"\",重整表!#REF!)","v":{"$error":"#REF!"}}]
[null,null,null,{"$f":"IF(ISBLANK(重整表!#REF!),\"\",IF(重整表!#REF!=\"男\",1,IF(重整表!#REF!=\"女\",2)))","v":{"$error":"#REF!"}},{"$f":"IF(ISBLANK(重整表!#REF!),\"\",重整表!#REF!)","v":{"$error":"#REF!"}},{"$f":"IF(ISBLANK(重整表!#REF!),\"\",重整表!#REF!)","v":{"$error":"#REF!"}}]
[null,null,null,{"$f":"IF(ISBLANK(重整表!#REF!),\"\",IF(重整表!#REF!=\"男\",1,IF(重整表!#REF!=\"女\",2)))","v":{"$error":"#REF!"}},{"$f":"IF(ISBLANK(重整表!#REF!),\"\",重整表!#REF!)","v":{"$error":"#REF!"}},{"$f":"IF(ISBLANK(重整表!#REF!),\"\",重整表!#REF!)","v":{"$error":"#REF!"}}]
[null,null,null,{"$f":"IF(ISBLANK(重整表!#REF!),\"\",IF(重整表!#REF!=\"男\",1,IF(重整表!#REF!=\"女\",2)))","v":{"$error":"#REF!"}},{"$f":"IF(ISBLANK(重整表!#REF!),\"\",重整表!#REF!)","v":{"$error":"#REF!"}},{"$f":"IF(ISBLANK(重整表!#REF!),\"\",重整表!#REF!)","v":{"$error":"#REF!"}}]
[null,null,null,{"$f":"IF(ISBLANK(重整表!#REF!),\"\",IF(重整表!#REF!=\"男\",1,IF(重整表!#REF!=\"女\",2)))","v":{"$error":"#REF!"}},{"$f":"IF(ISBLANK(重整表!#REF!),\"\",重整表!#REF!)","v":{"$error":"#REF!"}},{"$f":"IF(ISBLANK(重整表!#REF!),\"\",重整表!#REF!)","v":{"$error":"#REF!"}}]
[null,null,null,{"$f":"IF(ISBLANK(重整表!#REF!),\"\",IF(重整表!#REF!=\"男\",1,IF(重整表!#REF!=\"女\",2)))","v":{"$error":"#REF!"}},{"$f":"IF(ISBLANK(重整表!#REF!),\"\",重整表!#REF!)","v":{"$error":"#REF!"}},{"$f":"IF(ISBLANK(重整表!#REF!),\"\",重整表!#REF!)","v":{"$error":"#REF!"}}]
[null,null,null,{"$f":"IF(ISBLANK(重整表!#REF!),\"\",IF(重整表!#REF!=\"男\",1,IF(重整表!#REF!=\"女\",2)))","v":{"$error":"#REF!"}},{"$f":"IF(ISBLANK(重整表!#REF!),\"\",重整表!#REF!)","v":{"$error":"#REF!"}},{"$f":"IF(ISBLANK(重整表!#REF!),\"\",重整表!#REF!)","v":{"$error":"#REF!"}}]
[null,null,null,{"$f":"IF(ISBLANK(重整表!#REF!),\"\",IF(重整表!#REF!=\"男\",1,IF(重整表!#REF!=\"女\",2)))","v":{"$error":"#REF!"}},{"$f":"IF(ISBLANK(重整表!#REF!),\"\",重整表!#REF!)","v":{"$error":"#REF!"}},{"$f":"IF(ISBLANK(重整表!#REF!),\"\",重整表!#REF!)","v":{"$error":"#REF!"}}]
[null,null,null,{"$f":"IF(ISBLANK(重整表!#REF!),\"\",IF(重整表!#REF!=\"男\",1,IF(重整表!#REF!=\"女\",2)))","v":{"$error":"#REF!"}},{"$f":"IF(ISBLANK(重整表!#REF!),\"\",重整表!#REF!)","v":{"$error":"#REF!"}},{"$f":"IF(ISBLANK(重整表!#REF!),\"\",重整表!#REF!)","v":{"$error":"#REF!"}}]
[null,null,null,{"$f":"IF(ISBLANK(重整表!#REF!),\"\",IF(重整表!#REF!=\"男\",1,IF(重整表!#REF!=\"女\",2)))","v":{"$error":"#REF!"}},{"$f":"IF(ISBLANK(重整表!#REF!),\"\",重整表!#REF!)","v":{"$error":"#REF!"}},{"$f":"IF(ISBLANK(重整表!#REF!),\"\",重整表!#REF!)","v":{"$error":"#REF!"}}]
[null,null,null,{"$f":"IF(ISBLANK(重整表!#REF!),\"\",IF(重整表!#REF!=\"男\",1,IF(重整表!#REF!=\"女\",2)))","v":{"$error":"#REF!"}},{"$f":"IF(ISBLANK(重整表!#REF!),\"\",重整表!#REF!)","v":{"$error":"#REF!"}},{"$f":"IF(ISBLANK(重整表!#REF!),\"\",重整表!#REF!)","v":{"$error":"#REF!"}}]
[null,null,null,{"$f":"IF(ISBLANK(重整表!#REF!),\"\",IF(重整表!#REF!=\"男\",1,IF(重整表!#REF!=\"女\",2)))","v":{"$error":"#REF!"}},{"$f":"IF(ISBLANK(重整表!#REF!),\"\",重整表!#REF!)","v":{"$error":"#REF!"}},{"$f":"IF(ISBLANK(重整表!#REF!),\"\",重整表!#REF!)","v":{"$error":"#REF!"}}]
[null,null,null,{"$f":"IF(ISBLANK(重整表!#REF!),\"\",IF(重整表!#REF!=\"男\",1,IF(重整表!#REF!=\"女\",2)))","v":{"$error":"#REF!"}},{"$f":"IF(ISBLANK(重整表!#REF!),\"\",重整表!#REF!)","v":{"$error":"#REF!"}},{"$f":"IF(ISBLANK(重整表!#REF!),\"\",重整表!#REF!)","v":{"$error":"#REF!"}}]
[null,null,null,{"$f":"IF(ISBLANK(重整表!#REF!),\"\",IF(重整表!#REF!=\"男\",1,IF(重整表!#REF!=\"女\",2)))","v":{"$error":"#REF!"}},{"$f":"IF(ISBLANK(重整表!#REF!),\"\",重整表!#REF!)","v":{"$error":"#REF!"}},{"$f":"IF(ISBLANK(重整表!#REF!),\"\",重整表!#REF!)","v":{"$error":"#REF!"}}]
[null,null,null,{"$f":"IF(ISBLANK(重整表!#REF!),\"\",IF(重整表!#REF!=\"男\",1,IF(重整表!#REF!=\"女\",2)))","v":{"$error":"#REF!"}},{"$f":"IF(ISBLANK(重整表!#REF!),\"\",重整表!#REF!)","v":{"$error":"#REF!"}},{"$f":"IF(ISBLANK(重整表!#REF!),\"\",重整表!#REF!)","v":{"$error":"#REF!"}}]
[null,null,null,{"$f":"IF(ISBLANK(重整表!#REF!),\"\",IF(重整表!#REF!=\"男\",1,IF(重整表!#REF!=\"女\",2)))","v":{"$error":"#REF!"}},{"$f":"IF(ISBLANK(重整表!#REF!),\"\",重整表!#REF!)","v":{"$error":"#REF!"}},{"$f":"IF(ISBLANK(重整表!#REF!),\"\",重整表!#REF!)","v":{"$error":"#REF!"}}]
[null,null,null,{"$f":"IF(ISBLANK(重整表!#REF!),\"\",IF(重整表!#REF!=\"男\",1,IF(重整表!#REF!=\"女\",2)))","v":{"$error":"#REF!"}},{"$f":"IF(ISBLANK(重整表!#REF!),\"\",重整表!#REF!)","v":{"$error":"#REF!"}},{"$f":"IF(ISBLANK(重整表!#REF!),\"\",重整表!#REF!)","v":{"$error":"#REF!"}}]
[null,null,null,{"$f":"IF(ISBLANK(重整表!#REF!),\"\",IF(重整表!#REF!=\"男\",1,IF(重整表!#REF!=\"女\",2)))","v":{"$error":"#REF!"}},{"$f":"IF(ISBLANK(重整表!#REF!),\"\",重整表!#REF!)","v":{"$error":"#REF!"}},{"$f":"IF(ISBLANK(重整表!#REF!),\"\",重整表!#REF!)","v":{"$error":"#REF!"}}]
[null,null,null,{"$f":"IF(ISBLANK(重整表!#REF!),\"\",IF(重整表!#REF!=\"男\",1,IF(重整表!#REF!=\"女\",2)))","v":{"$error":"#REF!"}},{"$f":"IF(ISBLANK(重整表!#REF!),\"\",重整表!#REF!)","v":{"$error":"#REF!"}},{"$f":"IF(ISBLANK(重整表!#REF!),\"\",重整表!#REF!)","v":{"$error":"#REF!"}}]
[null,null,null,{"$f":"IF(ISBLANK(重整表!#REF!),\"\",IF(重整表!#REF!=\"男\",1,IF(重整表!#REF!=\"女\",2)))","v":{"$error":"#REF!"}},{"$f":"IF(ISBLANK(重整表!#REF!),\"\",重整表!#REF!)","v":{"$error":"#REF!"}},{"$f":"IF(ISBLANK(重整表!#REF!),\"\",重整表!#REF!)","v":{"$error":"#REF!"}}]
[null,null,null,{"$f":"IF(ISBLANK(重整表!#REF!),\"\",IF(重整表!#REF!=\"男\",1,IF(重整表!#REF!=\"女\",2)))","v":{"$error":"#REF!"}},{"$f":"IF(ISBLANK(重整表!#REF!),\"\",重整表!#REF!)","v":{"$error":"#REF!"}},{"$f":"IF(ISBLANK(重整表!#REF!),\"\",重整表!#REF!)","v":{"$error":"#REF!"}}]
[null,null,null,{"$f":"IF(ISBLANK(重整表!#REF!),\"\",IF(重整表!#REF!=\"男\",1,IF(重整表!#REF!=\"女\",2)))","v":{"$error":"#REF!"}},{"$f":"IF(ISBLANK(重整表!#REF!),\"\",重整表!#REF!)","v":{"$error":"#REF!"}},{"$f":"IF(ISBLANK(重整表!#REF!),\"\",重整表!#REF!)","v":{"$error":"#REF!"}}]
[null,null,null,{"$f":"IF(ISBLANK(重整表!#REF!),\"\",IF(重整表!#REF!=\"男\",1,IF(重整表!#REF!=\"女\",2)))","v":{"$error":"#REF!"}},{"$f":"IF(ISBLANK(重整表!#REF!),\"\",重整表!#REF!)","v":{"$error":"#REF!"}},{"$f":"IF(ISBLANK(重整表!#REF!),\"\",重整表!#REF!)","v":{"$error":"#REF!"}}]
[null,null,null,{"$f":"IF(ISBLANK(重整表!#REF!),\"\",IF(重整表!#REF!=\"男\",1,IF(重整表!#REF!=\"女\",2)))","v":{"$error":"#REF!"}},{"$f":"IF(ISBLANK(重整表!#REF!),\"\",重整表!#REF!)","v":{"$error":"#REF!"}},{"$f":"IF(ISBLANK(重整表!#REF!),\"\",重整表!#REF!)","v":{"$error":"#REF!"}}]
[null,null,null,{"$f":"IF(ISBLANK(重整表!#REF!),\"\",IF(重整表!#REF!=\"男\",1,IF(重整表!#REF!=\"女\",2)))","v":{"$error":"#REF!"}},{"$f":"IF(ISBLANK(重整表!#REF!),\"\",重整表!#REF!)","v":{"$error":"#REF!"}},{"$f":"IF(ISBLANK(重整表!#REF!),\"\",重整表!#REF!)","v":{"$error":"#REF!"}}]
[null,null,null,{"$f":"IF(ISBLANK(重整表!#REF!),\"\",IF(重整表!#REF!=\"男\",1,IF(重整表!#REF!=\"女\",2)))","v":{"$error":"#REF!"}},{"$f":"IF(ISBLANK(重整表!#REF!),\"\",重整表!#REF!)","v":{"$error":"#REF!"}},{"$f":"IF(ISBLANK(重整表!#REF!),\"\",重整表!#REF!)","v":{"$error":"#REF!"}}]
[null,null,null,{"$f":"IF(ISBLANK(重整表!#REF!),\"\",IF(重整表!#REF!=\"男\",1,IF(重整表!#REF!=\"女\",2)))","v":{"$error":"#REF!"}},{"$f":"IF(ISBLANK(重整表!#REF!),\"\",重整表!#REF!)","v":{"$error":"#REF!"}},{"$f":"IF(ISBLANK(重整表!#REF!),\"\",重整表!#REF!)","v":{"$error":"#REF!"}}]
[null,null,null,{"$f":"IF(ISBLANK(重整表!#REF!),\"\",IF(重整表!#REF!=\"男\",1,IF(重整表!#REF!=\"女\",2)))","v":{"$error":"#REF!"}},{"$f":"IF(ISBLANK(重整表!#REF!),\"\",重整表!#REF!)","v":{"$error":"#REF!"}},{"$f":"IF(ISBLANK(重整表!#REF!),\"\",重整表!#REF!)","v":{"$error":"#REF!"}}]
[null,null,null,{"$f":"IF(ISBLANK(重整表!#REF!),\"\",IF(重整表!#REF!=\"男\",1,IF(重整表!#REF!=\"女\",2)))","v":{"$error":"#REF!"}},{"$f":"IF(ISBLANK(重整表!#REF!),\"\",重整表!#REF!)","v":{"$error":"#REF!"}},{"$f":"IF(ISBLANK(重整表!#REF!),\"\",重整表!#REF!)","v":{"$error":"#REF!"}}]
[null,null,null,{"$f":"IF(ISBLANK(重整表!#REF!),\"\",IF(重整表!#REF!=\"男\",1,IF(重整表!#REF!=\"女\",2)))","v":{"$error":"#REF!"}},{"$f":"IF(ISBLANK(重整表!#REF!),\"\",重整表!#REF!)","v":{"$error":"#REF!"}},{"$f":"IF(ISBLANK(重整表!#REF!),\"\",重整表!#REF!)","v":{"$error":"#REF!"}}]
[null,null,null,{"$f":"IF(ISBLANK(重整表!#REF!),\"\",IF(重整表!#REF!=\"男\",1,IF(重整表!#REF!=\"女\",2)))","v":{"$error":"#REF!"}},{"$f":"IF(ISBLANK(重整表!#REF!),\"\",重整表!#REF!)","v":{"$error":"#REF!"}},{"$f":"IF(ISBLANK(重整表!#REF!),\"\",重整表!#REF!)","v":{"$error":"#REF!"}}]
[null,null,null,{"$f":"IF(ISBLANK(重整表!#REF!),\"\",IF(重整表!#REF!=\"男\",1,IF(重整表!#REF!=\"女\",2)))","v":{"$error":"#REF!"}},{"$f":"IF(ISBLANK(重整表!#REF!),\"\",重整表!#REF!)","v":{"$error":"#REF!"}},{"$f":"IF(ISBLANK(重整表!#REF!),\"\",重整表!#REF!)","v":{"$error":"#REF!"}}]
[null,null,null,{"$f":"IF(ISBLANK(重整表!#REF!),\"\",IF(重整表!#REF!=\"男\",1,IF(重整表!#REF!=\"女\",2)))","v":{"$error":"#REF!"}},{"$f":"IF(ISBLANK(重整表!#REF!),\"\",重整表!#REF!)","v":{"$error":"#REF!"}},{"$f":"IF(ISBLANK(重整表!#REF!),\"\",重整表!#REF!)","v":{"$error":"#REF!"}}]
[null,null,null,{"$f":"IF(ISBLANK(重整表!#REF!),\"\",IF(重整表!#REF!=\"男\",1,IF(重整表!#REF!=\"女\",2)))","v":{"$error":"#REF!"}},{"$f":"IF(ISBLANK(重整表!#REF!),\"\",重整表!#REF!)","v":{"$error":"#REF!"}},{"$f":"IF(ISBLANK(重整表!#REF!),\"\",重整表!#REF!)","v":{"$error":"#REF!"}}]
[null,null,null,{"$f":"IF(ISBLANK(重整表!#REF!),\"\",IF(重整表!#REF!=\"男\",1,IF(重整表!#REF!=\"女\",2)))","v":{"$error":"#REF!"}},{"$f":"IF(ISBLANK(重整表!#REF!),\"\",重整表!#REF!)","v":{"$error":"#REF!"}},{"$f":"IF(ISBLANK(重整表!#REF!),\"\",重整表!#REF!)","v":{"$error":"#REF!"}}]
[null,null,null,{"$f":"IF(ISBLANK(重整表!#REF!),\"\",IF(重整表!#REF!=\"男\",1,IF(重整表!#REF!=\"女\",2)))","v":{"$error":"#REF!"}},{"$f":"IF(ISBLANK(重整表!#REF!),\"\",重整表!#REF!)","v":{"$error":"#REF!"}},{"$f":"IF(ISBLANK(重整表!#REF!),\"\",重整表!#REF!)","v":{"$error":"#REF!"}}]
[null,null,null,{"$f":"IF(ISBLANK(重整表!#REF!),\"\",IF(重整表!#REF!=\"男\",1,IF(重整表!#REF!=\"女\",2)))","v":{"$error":"#REF!"}},{"$f":"IF(ISBLANK(重整表!#REF!),\"\",重整表!#REF!)","v":{"$error":"#REF!"}},{"$f":"IF(ISBLANK(重整表!#REF!),\"\",重整表!#REF!)","v":{"$error":"#REF!"}}]
[null,null,null,{"$f":"IF(ISBLANK(重整表!#REF!),\"\",IF(重整表!#REF!=\"男\",1,IF(重整表!#REF!=\"女\",2)))","v":{"$error":"#REF!"}},{"$f":"IF(ISBLANK(重整表!#REF!),\"\",重整表!#REF!)","v":{"$error":"#REF!"}},{"$f":"IF(ISBLANK(重整表!#REF!),\"\",重整表!#REF!)","v":{"$error":"#REF!"}}]
[null,null,null,{"$f":"IF(ISBLANK(重整表!#REF!),\"\",IF(重整表!#REF!=\"男\",1,IF(重整表!#REF!=\"女\",2)))","v":{"$error":"#REF!"}},{"$f":"IF(ISBLANK(重整表!#REF!),\"\",重整表!#REF!)","v":{"$error":"#REF!"}},{"$f":"IF(ISBLANK(重整表!#REF!),\"\",重整表!#REF!)","v":{"$error":"#REF!"}}]
[null,null,null,{"$f":"IF(ISBLANK(重整表!#REF!),\"\",IF(重整表!#REF!=\"男\",1,IF(重整表!#REF!=\"女\",2)))","v":{"$error":"#REF!"}},{"$f":"IF(ISBLANK(重整表!#REF!),\"\",重整表!#REF!)","v":{"$error":"#REF!"}},{"$f":"IF(ISBLANK(重整表!#REF!),\"\",重整表!#REF!)","v":{"$error":"#REF!"}}]
[null,null,null,{"$f":"IF(ISBLANK(重整表!#REF!),\"\",IF(重整表!#REF!=\"男\",1,IF(重整表!#REF!=\"女\",2)))","v":{"$error":"#REF!"}},{"$f":"IF(ISBLANK(重整表!#REF!),\"\",重整表!#REF!)","v":{"$error":"#REF!"}},{"$f":"IF(ISBLANK(重整表!#REF!),\"\",重整表!#REF!)","v":{"$error":"#REF!"}}]
[null,null,null,{"$f":"IF(ISBLANK(重整表!#REF!),\"\",IF(重整表!#REF!=\"男\",1,IF(重整表!#REF!=\"女\",2)))","v":{"$error":"#REF!"}},{"$f":"IF(ISBLANK(重整表!#REF!),\"\",重整表!#REF!)","v":{"$error":"#REF!"}},{"$f":"IF(ISBLANK(重整表!#REF!),\"\",重整表!#REF!)","v":{"$error":"#REF!"}}]
[null,null,null,{"$f":"IF(ISBLANK(重整表!#REF!),\"\",IF(重整表!#REF!=\"男\",1,IF(重整表!#REF!=\"女\",2)))","v":{"$error":"#REF!"}},{"$f":"IF(ISBLANK(重整表!#REF!),\"\",重整表!#REF!)","v":{"$error":"#REF!"}},{"$f":"IF(ISBLANK(重整表!#REF!),\"\",重整表!#REF!)","v":{"$error":"#REF!"}}]
[null,null,null,{"$f":"IF(ISBLANK(重整表!#REF!),\"\",IF(重整表!#REF!=\"男\",1,IF(重整表!#REF!=\"女\",2)))","v":{"$error":"#REF!"}},{"$f":"IF(ISBLANK(重整表!#REF!),\"\",重整表!#REF!)","v":{"$error":"#REF!"}},{"$f":"IF(ISBLANK(重整表!#REF!),\"\",重整表!#REF!)","v":{"$error":"#REF!"}}]
[null,null,null,{"$f":"IF(ISBLANK(重整表!#REF!),\"\",IF(重整表!#REF!=\"男\",1,IF(重整表!#REF!=\"女\",2)))","v":{"$error":"#REF!"}},{"$f":"IF(ISBLANK(重整表!#REF!),\"\",重整表!#REF!)","v":{"$error":"#REF!"}},{"$f":"IF(ISBLANK(重整表!#REF!),\"\",重整表!#REF!)","v":{"$error":"#REF!"}}]
[null,null,null,{"$f":"IF(ISBLANK(重整表!#REF!),\"\",IF(重整表!#REF!=\"男\",1,IF(重整表!#REF!=\"女\",2)))","v":{"$error":"#REF!"}},{"$f":"IF(ISBLANK(重整表!#REF!),\"\",重整表!#REF!)","v":{"$error":"#REF!"}},{"$f":"IF(ISBLANK(重整表!#REF!),\"\",重整表!#REF!)","v":{"$error":"#REF!"}}]
[null,null,null,{"$f":"IF(ISBLANK(重整表!#REF!),\"\",IF(重整表!#REF!=\"男\",1,IF(重整表!#REF!=\"女\",2)))","v":{"$error":"#REF!"}},{"$f":"IF(ISBLANK(重整表!#REF!),\"\",重整表!#REF!)","v":{"$error":"#REF!"}},{"$f":"IF(ISBLANK(重整表!#REF!),\"\",重整表!#REF!)","v":{"$error":"#REF!"}}]
[null,null,null,{"$f":"IF(ISBLANK(重整表!#REF!),\"\",IF(重整表!#REF!=\"男\",1,IF(重整表!#REF!=\"女\",2)))","v":{"$error":"#REF!"}},{"$f":"IF(ISBLANK(重整表!#REF!),\"\",重整表!#REF!)","v":{"$error":"#REF!"}},{"$f":"IF(ISBLANK(重整表!#REF!),\"\",重整表!#REF!)","v":{"$error":"#REF!"}}]
[null,null,null,{"$f":"IF(ISBLANK(重整表!#REF!),\"\",IF(重整表!#REF!=\"男\",1,IF(重整表!#REF!=\"女\",2)))","v":{"$error":"#REF!"}},{"$f":"IF(ISBLANK(重整表!#REF!),\"\",重整表!#REF!)","v":{"$error":"#REF!"}},{"$f":"IF(ISBLANK(重整表!#REF!),\"\",重整表!#REF!)","v":{"$error":"#REF!"}}]
[null,null,null,{"$f":"IF(ISBLANK(重整表!#REF!),\"\",IF(重整表!#REF!=\"男\",1,IF(重整表!#REF!=\"女\",2)))","v":{"$error":"#REF!"}},{"$f":"IF(ISBLANK(重整表!#REF!),\"\",重整表!#REF!)","v":{"$error":"#REF!"}},{"$f":"IF(ISBLANK(重整表!#REF!),\"\",重整表!#REF!)","v":{"$error":"#REF!"}}]
[null,null,null,{"$f":"IF(ISBLANK(重整表!#REF!),\"\",IF(重整表!#REF!=\"男\",1,IF(重整表!#REF!=\"女\",2)))","v":{"$error":"#REF!"}},{"$f":"IF(ISBLANK(重整表!#REF!),\"\",重整表!#REF!)","v":{"$error":"#REF!"}},{"$f":"IF(ISBLANK(重整表!#REF!),\"\",重整表!#REF!)","v":{"$error":"#REF!"}}]
[null,null,null,{"$f":"IF(ISBLANK(重整表!#REF!),\"\",IF(重整表!#REF!=\"男\",1,IF(重整表!#REF!=\"女\",2)))","v":{"$error":"#REF!"}},{"$f":"IF(ISBLANK(重整表!#REF!),\"\",重整表!#REF!)","v":{"$error":"#REF!"}},{"$f":"IF(ISBLANK(重整表!#REF!),\"\",重整表!#REF!)","v":{"$error":"#REF!"}}]
[null,null,null,{"$f":"IF(ISBLANK(重整表!#REF!),\"\",IF(重整表!#REF!=\"男\",1,IF(重整表!#REF!=\"女\",2)))","v":{"$error":"#REF!"}},{"$f":"IF(ISBLANK(重整表!#REF!),\"\",重整表!#REF!)","v":{"$error":"#REF!"}},{"$f":"IF(ISBLANK(重整表!#REF!),\"\",重整表!#REF!)","v":{"$error":"#REF!"}}]
[null,null,null,{"$f":"IF(ISBLANK(重整表!#REF!),\"\",IF(重整表!#REF!=\"男\",1,IF(重整表!#REF!=\"女\",2)))","v":{"$error":"#REF!"}},{"$f":"IF(ISBLANK(重整表!#REF!),\"\",重整表!#REF!)","v":{"$error":"#REF!"}},{"$f":"IF(ISBLANK(重整表!#REF!),\"\",重整表!#REF!)","v":{"$error":"#REF!"}}]
[null,null,null,{"$f":"IF(ISBLANK(重整表!#REF!),\"\",IF(重整表!#REF!=\"男\",1,IF(重整表!#REF!=\"女\",2)))","v":{"$error":"#REF!"}},{"$f":"IF(ISBLANK(重整表!#REF!),\"\",重整表!#REF!)","v":{"$error":"#REF!"}},{"$f":"IF(ISBLANK(重整表!#REF!),\"\",重整表!#REF!)","v":{"$error":"#REF!"}}]
[null,null,null,{"$f":"IF(ISBLANK(重整表!#REF!),\"\",IF(重整表!#REF!=\"男\",1,IF(重整表!#REF!=\"女\",2)))","v":{"$error":"#REF!"}},{"$f":"IF(ISBLANK(重整表!#REF!),\"\",重整表!#REF!)","v":{"$error":"#REF!"}},{"$f":"IF(ISBLANK(重整表!#REF!),\"\",重整表!#REF!)","v":{"$error":"#REF!"}}]
[null,null,null,{"$f":"IF(ISBLANK(重整表!#REF!),\"\",IF(重整表!#REF!=\"男\",1,IF(重整表!#REF!=\"女\",2)))","v":{"$error":"#REF!"}},{"$f":"IF(ISBLANK(重整表!#REF!),\"\",重整表!#REF!)","v":{"$error":"#REF!"}},{"$f":"IF(ISBLANK(重整表!#REF!),\"\",重整表!#REF!)","v":{"$error":"#REF!"}}]
[null,null,null,{"$f":"IF(ISBLANK(重整表!#REF!),\"\",IF(重整表!#REF!=\"男\",1,IF(重整表!#REF!=\"女\",2)))","v":{"$error":"#REF!"}},{"$f":"IF(ISBLANK(重整表!#REF!),\"\",重整表!#REF!)","v":{"$error":"#REF!"}},{"$f":"IF(ISBLANK(重整表!#REF!),\"\",重整表!#REF!)","v":{"$error":"#REF!"}}]
[null,null,null,{"$f":"IF(ISBLANK(重整表!#REF!),\"\",IF(重整表!#REF!=\"男\",1,IF(重整表!#REF!=\"女\",2)))","v":{"$error":"#REF!"}},{"$f":"IF(ISBLANK(重整表!#REF!),\"\",重整表!#REF!)","v":{"$error":"#REF!"}},{"$f":"IF(ISBLANK(重整表!#REF!),\"\",重整表!#REF!)","v":{"$error":"#REF!"}}]
[null,null,null,{"$f":"IF(ISBLANK(重整表!#REF!),\"\",IF(重整表!#REF!=\"男\",1,IF(重整表!#REF!=\"女\",2)))","v":{"$error":"#REF!"}},{"$f":"IF(ISBLANK(重整表!#REF!),\"\",重整表!#REF!)","v":{"$error":"#REF!"}},{"$f":"IF(ISBLANK(重整表!#REF!),\"\",重整表!#REF!)","v":{"$error":"#REF!"}}]
[null,null,null,{"$f":"IF(ISBLANK(重整表!#REF!),\"\",IF(重整表!#REF!=\"男\",1,IF(重整表!#REF!=\"女\",2)))","v":{"$error":"#REF!"}},{"$f":"IF(ISBLANK(重整表!#REF!),\"\",重整表!#REF!)","v":{"$error":"#REF!"}},{"$f":"IF(ISBLANK(重整表!#REF!),\"\",重整表!#REF!)","v":{"$error":"#REF!"}}]
[null,null,null,{"$f":"IF(ISBLANK(重整表!#REF!),\"\",IF(重整表!#REF!=\"男\",1,IF(重整表!#REF!=\"女\",2)))","v":{"$error":"#REF!"}},{"$f":"IF(ISBLANK(重整表!#REF!),\"\",重整表!#REF!)","v":{"$error":"#REF!"}},{"$f":"IF(ISBLANK(重整表!#REF!),\"\",重整表!#REF!)","v":{"$error":"#REF!"}}]
[null,null,null,{"$f":"IF(ISBLANK(重整表!#REF!),\"\",IF(重整表!#REF!=\"男\",1,IF(重整表!#REF!=\"女\",2)))","v":{"$error":"#REF!"}},{"$f":"IF(ISBLANK(重整表!#REF!),\"\",重整表!#REF!)","v":{"$error":"#REF!"}},{"$f":"IF(ISBLANK(重整表!#REF!),\"\",重整表!#REF!)","v":{"$error":"#REF!"}}]
[null,null,null,{"$f":"IF(ISBLANK(重整表!#REF!),\"\",IF(重整表!#REF!=\"男\",1,IF(重整表!#REF!=\"女\",2)))","v":{"$error":"#REF!"}},{"$f":"IF(ISBLANK(重整表!#REF!),\"\",重整表!#REF!)","v":{"$error":"#REF!"}},{"$f":"IF(ISBLANK(重整表!#REF!),\"\",重整表!#REF!)","v":{"$error":"#REF!"}}]
[null,null,null,{"$f":"IF(ISBLANK(重整表!#REF!),\"\",IF(重整表!#REF!=\"男\",1,IF(重整表!#REF!=\"女\",2)))","v":{"$error":"#REF!"}},{"$f":"IF(ISBLANK(重整表!#REF!),\"\",重整表!#REF!)","v":{"$error":"#REF!"}},{"$f":"IF(ISBLANK(重整表!#REF!),\"\",重整表!#REF!)","v":{"$error":"#REF!"}}]
[null,null,null,{"$f":"IF(ISBLANK(重整表!#REF!),\"\",IF(重整表!#REF!=\"男\",1,IF(重整表!#REF!=\"女\",2)))","v":{"$error":"#REF!"}},{"$f":"IF(ISBLANK(重整表!#REF!),\"\",重整表!#REF!)","v":{"$error":"#REF!"}},{"$f":"IF(ISBLANK(重整表!#REF!),\"\",重整表!#REF!)","v":{"$error":"#REF!"}}]
[null,null,null,{"$f":"IF(ISBLANK(重整表!#REF!),\"\",IF(重整表!#REF!=\"男\",1,IF(重整表!#REF!=\"女\",2)))","v":{"$error":"#REF!"}},{"$f":"IF(ISBLANK(重整表!#REF!),\"\",重整表!#REF!)","v":{"$error":"#REF!"}},{"$f":"IF(ISBLANK(重整表!#REF!),\"\",重整表!#REF!)","v":{"$error":"#REF!"}}]
[null,null,null,{"$f":"IF(ISBLANK(重整表!#REF!),\"\",IF(重整表!#REF!=\"男\",1,IF(重整表!#REF!=\"女\",2)))","v":{"$error":"#REF!"}},{"$f":"IF(ISBLANK(重整表!#REF!),\"\",重整表!#REF!)","v":{"$error":"#REF!"}},{"$f":"IF(ISBLANK(重整表!#REF!),\"\",重整表!#REF!)","v":{"$error":"#REF!"}}]
[null,null,null,{"$f":"IF(ISBLANK(重整表!#REF!),\"\",IF(重整表!#REF!=\"男\",1,IF(重整表!#REF!=\"女\",2)))","v":{"$error":"#REF!"}},{"$f":"IF(ISBLANK(重整表!#REF!),\"\",重整表!#REF!)","v":{"$error":"#REF!"}},{"$f":"IF(ISBLANK(重整表!#REF!),\"\",重整表!#REF!)","v":{"$error":"#REF!"}}]
[null,null,null,{"$f":"IF(ISBLANK(重整表!#REF!),\"\",IF(重整表!#REF!=\"男\",1,IF(重整表!#REF!=\"女\",2)))","v":{"$error":"#REF!"}},{"$f":"IF(ISBLANK(重整表!#REF!),\"\",重整表!#REF!)","v":{"$error":"#REF!"}},{"$f":"IF(ISBLANK(重整表!#REF!),\"\",重整表!#REF!)","v":{"$error":"#REF!"}}]
[null,null,null,{"$f":"IF(ISBLANK(重整表!#REF!),\"\",IF(重整表!#REF!=\"男\",1,IF(重整表!#REF!=\"女\",2)))","v":{"$error":"#REF!"}},{"$f":"IF(ISBLANK(重整表!#REF!),\"\",重整表!#REF!)","v":{"$error":"#REF!"}},{"$f":"IF(ISBLANK(重整表!#REF!),\"\",重整表!#REF!)","v":{"$error":"#REF!"}}]
[null,null,null,{"$f":"IF(ISBLANK(重整表!#REF!),\"\",IF(重整表!#REF!=\"男\",1,IF(重整表!#REF!=\"女\",2)))","v":{"$error":"#REF!"}},{"$f":"IF(ISBLANK(重整表!#REF!),\"\",重整表!#REF!)","v":{"$error":"#REF!"}},{"$f":"IF(ISBLANK(重整表!#REF!),\"\",重整表!#REF!)","v":{"$error":"#REF!"}}]
[null,null,null,{"$f":"IF(ISBLANK(重整表!#REF!),\"\",IF(重整表!#REF!=\"男\",1,IF(重整表!#REF!=\"女\",2)))","v":{"$error":"#REF!"}},{"$f":"IF(ISBLANK(重整表!#REF!),\"\",重整表!#REF!)","v":{"$error":"#REF!"}},{"$f":"IF(ISBLANK(重整表!#REF!),\"\",重整表!#REF!)","v":{"$error":"#REF!"}}]
[null,null,null,{"$f":"IF(ISBLANK(重整表!#REF!),\"\",IF(重整表!#REF!=\"男\",1,IF(重整表!#REF!=\"女\",2)))","v":{"$error":"#REF!"}},{"$f":"IF(ISBLANK(重整表!#REF!),\"\",重整表!#REF!)","v":{"$error":"#REF!"}},{"$f":"IF(ISBLANK(重整表!#REF!),\"\",重整表!#REF!)","v":{"$error":"#REF!"}}]
[null,null,null,{"$f":"IF(ISBLANK(重整表!#REF!),\"\",IF(重整表!#REF!=\"男\",1,IF(重整表!#REF!=\"女\",2)))","v":{"$error":"#REF!"}},{"$f":"IF(ISBLANK(重整表!#REF!),\"\",重整表!#REF!)","v":{"$error":"#REF!"}},{"$f":"IF(ISBLANK(重整表!#REF!),\"\",重整表!#REF!)","v":{"$error":"#REF!"}}]
[null,null,null,{"$f":"IF(ISBLANK(重整表!#REF!),\"\",IF(重整表!#REF!=\"男\",1,IF(重整表!#REF!=\"女\",2)))","v":{"$error":"#REF!"}},{"$f":"IF(ISBLANK(重整表!#REF!),\"\",重整表!#REF!)","v":{"$error":"#REF!"}},{"$f":"IF(ISBLANK(重整表!#REF!),\"\",重整表!#REF!)","v":{"$error":"#REF!"}}]
[null,null,null,{"$f":"IF(ISBLANK(重整表!#REF!),\"\",IF(重整表!#REF!=\"男\",1,IF(重整表!#REF!=\"女\",2)))","v":{"$error":"#REF!"}},{"$f":"IF(ISBLANK(重整表!#REF!),\"\",重整表!#REF!)","v":{"$error":"#REF!"}},{"$f":"IF(ISBLANK(重整表!#REF!),\"\",重整表!#REF!)","v":{"$error":"#REF!"}}]
[null,null,null,{"$f":"IF(ISBLANK(重整表!#REF!),\"\",IF(重整表!#REF!=\"男\",1,IF(重整表!#REF!=\"女\",2)))","v":{"$error":"#REF!"}},{"$f":"IF(ISBLANK(重整表!#REF!),\"\",重整表!#REF!)","v":{"$error":"#REF!"}},{"$f":"IF(ISBLANK(重整表!#REF!),\"\",重整表!#REF!)","v":{"$error":"#REF!"}}]

{"sheet":"編班結果表","index":5,"n_rows":3,"n_cols":10,"rows_kept":3,"cut":false,"hidden":false,"merged":[]}
["校名","大成國小","班級數",null,"總人數"]
["周杰倫","張惠妹"]
["流水號","班級","座號","性別","姓名","身分証字號","原就讀學校","編班類別","相關流水號","備註"]